Workbook
Name Acad._Aff.: #REF!
Name Acad_Aff_BCF: #REF!
Name Acad_Aff_ExeGlobal: #REF!
Name Acad_Aff_NTL: #REF!
Name AccountType: 'Budget Modification Form'!$W$4:$W$10
Name AcctInfo: '[1]Budget form'!#REF!
Name AcctInfo: [2]Source!$F$2:$G$195
Name Action: 'Budget Modification Form'!$V$4:$V$9
Name Allocation: 'Budget Modification Form'!$Y$4:$Y$7
Name Assignment: '[3]Business Unit Dropdown List'!$H$2:$H$19
Name Assignment2: #REF!
Name AssmtNum: '[3]Business Unit Dropdown List'!$I$2:$I$5
Name BAR03VPSA: '[4]Crosswalk NTL Prgrm-Project_JH'!$F$103:$F$106
Name BCF_BCF: #REF!
Name Bert_Wasserman_Dept_Eco_and_Fin: 'Budget form_SAMPLE PAGE'!#REF!
Name Bert_Wasserman_Dept_Eco_and_Fin: '[5]Budget form-ALL'!#REF!
Name BusinessUnit: '[3]Business Unit Dropdown List'!$B$2:$B$8
Name Communications_BCF: #REF!
Name Date: [6]Source!$H$2:$H$1950
Name DateRange: Date_Range_for_Forms[Date]
Name DropBy: [2]Source!$B$41:$B$42
Name EXPCODES: '[1]Budget form'!#REF!
Name EXPCODES: [2]Source!$J$2:$L$859
Name EXPCOM: [2]Source!$A$32:$B$36
Name ExpenseDescr: [6]Source!#REF!
Name ExpenseName: #REF!
Name ExpenseNames: [6]!ExpenseAccts[Expense Description]
Name ExpenseNumber: #REF!
Name EXPtitles: [2]Source!$E$1:$E$1
Name Fieldheads: [2]Source!$R$2:$Y$4
Name Fundhead: 'Budget form_SAMPLE PAGE'!#REF!
Name Heading: 'Budget form_SAMPLE PAGE'!#REF!
Name Heading: [2]Source!$R$2:$S$4
Name IFR: [7]IFR!$B$5:$B$11
Name Ledger: 'Budget form_SAMPLE PAGE'!$V$5:$V$7
Name Ledger: 'Budget Modification Form'!#REF!
Name Library_BCF: #REF!
Name list_level1: Level_1[Column1]
Name list_level2: INDEX(tmp_list_level2,1):INDEX(tmp_list_level2,COUNTA(tmp_list_level2))
Name list_level3: INDEX(tmp_list_level3,1):INDEX(tmp_list_level3,COUNTA(tmp_list_level3))
Name MSPIA: #REF!
Name MSPIA_BCF: #REF!
Name MSPIA_ExeGlobal: #REF!
Name MSPIA_NTL: #REF!
Name Non_Tax_Levy_Assoc: '[8]Bar03 Tree Linked'!$B$7:$B$19
Name Non_Tax_Levy_AUX: '[8]Non Tax-Levy'!$F$141:$F$143
Name Non_Tax_Levy_ELC: '[8]Non Tax-Levy'!$F$104
Name OCA_BCF: #REF!
Name OCM: 'Budget form_SAMPLE PAGE'!#REF!
Name OptDescr: OptCodes[Program, Spec Init, Fnd Src, OU Description]
Name PaymentInterval: '[3]Business Unit Dropdown List'!$A$2:$A$6
Name President: #REF!
Name President_BCF: #REF!
Name President_NTL: #REF!
Name Program: [2]Source!$A$31:$A$35
Name Starr_Career_BCF: #REF!
Name Tax_Levy: '[7]Tax Levy'!$A$3:$A$14
Name TLCodes: #REF!
Name tmp_list_level2: INDEX(Level_2[],,MATCH('Budget Modification Form'!$C$7:$E$7&"",Level_2[#Headers],0))
Name tmp_list_level3: INDEX(Level_3[],0,MATCH('Budget Modification Form'!$C$7:$E$7&"\"&'Budget Modification Form'!$B1,Level_3[#Headers],0))

Sheet Budget Modification Form
K3: FY23 BUDGET CHANGE REQUEST | V3: Action | W3: Account Type | X3: Affected Fiscal year(s): | Y3: Allocation | Z3: Date
K4: =IFERROR(IF(C8=" ", "Tax Levy", IF(C7="Tax Levy", "Tax Levy", "IFR")), " ") -> Tax Levy
J5: Send all Budget Change Requests to: | K5: BudgetChangeRequest@baruch.cuny.edu | V5: Modification | W5: Adjunct | X5: Current YR only | Y5: BASE-Unrestricted | Z5: 44743
H6: All requests will be processed ASAP, and an updated Budget file will be saved in the All-Funds Budget & Budget Information drive at the end of the day. | V6: New CUNY Funding | W6: Non-Teaching Adjuncts | X6: Permanent | Y6: BASE-Restricted | Z6: 44744
A7: 1. | B7: Ledger: | V7: Permanent Mods | W7: OTPS | Y7: INTRA-UNIVERSITY(CUNY Transfers) | Z7: 44745
A8: 2. | B8: Business Unit: | C8: =IF(OR(C7="IFR",C7="Tax Levy"),"BAR01",IF(C7="Non Tax-Levy","BAR55",IF(C7="Non Tax-Levy-AUX","BAR02",IF(C7="Non Tax-Levy-ELC","BAR04",IF(C7="Non Tax Levy Assoc","BAR03"," "))))) | J8: *Requested By: | K8: Type your name here | V8: Initial Allocation | W8: PS Regular | Z8: 44746
A9: 3. | B9: Action: | J9: *Date | V9: Budget Realignment | W9: Temp Services | Z9: 44747
A10: 4. | B10: Allocation: | F10: Required for Tax-Levy ONLY | W10: Unassigned | Z10: 44748
Z11: 44749
B12: 5. Select a Division | E12: 6. Department Description | F12: 7. Program, Special Initiative, Operating Unit, or Funding Source Description | G12: 8. Account Type | H12: 9. Increase/ (Decrease) | J12: Comments (Optional) | K12: CUNYFIRST Dept. Code | M12: Program Code | N12: Major Purpose Code | O12: Funding Source | P12: Special Initiatives | Q12: Operating Unit | R12: Fund Code | Y12: Base | Z12: 44750
A13: 1 | H13: $ | K13: =IFERROR(IF($C$7="", "−−−−−−−►", VLOOKUP(E13,Chartfields!C:H,6,FALSE)),"−−−−−−−►") -> −−−−−−−► | M13: =IFERROR(IF(OR(K13="", E13=""), "−−−−−−−►", IF(LEFT(F13, 7)="Program", VLOOKUP(F13,OptCodes[],2,FALSE), IF(OR(P13=114, P13=116, P13=100, P13=102), 99999,IF(AND(K13=65040, LEFT(F13,11) ="Funding Src"), 40300, IF(LEFT(F13,4)="Fund", 99999,IF(Q13=3017, 99999, IF(AND(F13="", $C$7="Tax Levy"), 99999,IF($C$7="Tax Levy",VLOOKUP(F13,OptCodes[],2,FALSE),IF(AND($C$7="IFR", K13="75018"), VLOOKUP(K13,Chartfields!H:R,11,FALSE), VLOOKUP(T13,Chartfields!G:R,12,FALSE)))))))))), "−−−−−−−►") -> −−−−−−−► | N13: =IFERROR(IF($C$7="Tax Levy", VLOOKUP(T13,Chartfields!G:M,7,FALSE), IF(AND($C$7="IFR", K13="75018"), VLOOKUP(T13,Chartfields!G:M,7,FALSE), VLOOKUP(T13,Chartfields!G:M,7,FALSE))), "−−−−−−−►") -> −−−−−−−► | O13: =IFERROR( IF(AND(M13=40300, K13=65040),302500, IF(AND(M13=40360, LEFT(F13,7)="Program"), VLOOKUP('Budget Modification Form'!M13,Chartfields!R:T,3,FALSE), IF(LEFT(F13,4)="Fund", VLOOKUP(F13,OptCodes[],2,FALSE),IF($C$7="Tax Levy", VLOOKUP(T13,Chartfields!G:T,14,FALSE), IF(AND($C$7="IFR", K13="75018"), VLOOKUP(T13,Chartfields!G:T,14,FALSE), VLOOKUP('Budget Modification Form'!T13,Chartfields!G:T,14,FALSE)))))), "−−−−−−−►") -> −−−−−−−► | P13: =IFERROR(IF(LEFT(F13, 4)="Spec", VLOOKUP(F13,OptCodes[],2,FALSE), IF(F13="Program: Tutor Corp-30040", 100, IF($C$7="Tax Levy", VLOOKUP(T13,Chartfields!G:V,16,FALSE), IF(AND($C$7="IFR", K13="75018"), VLOOKUP(T13,Chartfields!G:V,16,FALSE), VLOOKUP(T13,Chartfields!G:V,16,FALSE))))), "−−−−−−−►") -> −−−−−−−► | Q13: =IFERROR(IF(LEFT(F13, 4)="Oper", VLOOKUP(F13,OptCodes[],2,FALSE), IF($C$7="Tax Levy", VLOOKUP(T13,Chartfields!G:P,10,FALSE), IF(AND($C$7="IFR", K13="75018"), VLOOKUP(T13,Chartfields!G:P,10,FALSE), VLOOKUP(T13,Chartfields!G:P,10,FALSE)))), "−−−−−−−►") -> −−−−−−−► | R13: =IFERROR(IF(OR($C$7="",B13=""), "−−−−−−−►",IF($C$7="Tax Levy", 10, IF($C$7="IFR", 11, "−−−−−−−►"))),"−−−−−−−►") -> −−−−−−−► | T13: =IF(OR($C$7="",B13="",E13=""),"",$C$7&K13) | Y13: Excellence Fee | Z13: 44751
A14: 2 | H14: $ | K14: =IFERROR(IF($C$7="", "−−−−−−−►", VLOOKUP(E14,Chartfields!C:H,6,FALSE)),"−−−−−−−►") -> −−−−−−−► | M14: =IFERROR(IF(OR(K14="", E14=""), "−−−−−−−►", IF(LEFT(F14, 7)="Program", VLOOKUP(F14,OptCodes[],2,FALSE), IF(OR(P14=114, P14=116, P14=100, P14=102), 99999,IF(AND(K14=65040, LEFT(F14,11) ="Funding Src"), 40300, IF(LEFT(F14,4)="Fund", 99999,IF(Q14=3017, 99999, IF(AND(F14="", $C$7="Tax Levy"), 99999,IF($C$7="Tax Levy",VLOOKUP(F14,OptCodes[],2,FALSE),IF(AND($C$7="IFR", K14="75018"), VLOOKUP(K14,Chartfields!H:R,11,FALSE), VLOOKUP(T14,Chartfields!G:R,12,FALSE)))))))))), "−−−−−−−►") -> −−−−−−−► | N14: =IFERROR(IF($C$7="Tax Levy", VLOOKUP(T14,Chartfields!G:M,7,FALSE), IF(AND($C$7="IFR", K14="75018"), VLOOKUP(T14,Chartfields!G:M,7,FALSE), VLOOKUP(T14,Chartfields!G:M,7,FALSE))), "−−−−−−−►") -> −−−−−−−► | O14: =IFERROR( IF(AND(M14=40300, K14=65040),302500, IF(AND(M14=40360, LEFT(F14,7)="Program"), VLOOKUP('Budget Modification Form'!M14,Chartfields!R:T,3,FALSE), IF(LEFT(F14,4)="Fund", VLOOKUP(F14,OptCodes[],2,FALSE),IF($C$7="Tax Levy", VLOOKUP(T14,Chartfields!G:T,14,FALSE), IF(AND($C$7="IFR", K14="75018"), VLOOKUP(T14,Chartfields!G:T,14,FALSE), VLOOKUP('Budget Modification Form'!T14,Chartfields!G:T,14,FALSE)))))), "−−−−−−−►") -> −−−−−−−► | P14: =IFERROR(IF(LEFT(F14, 4)="Spec", VLOOKUP(F14,OptCodes[],2,FALSE), IF(F14="Program: Tutor Corp-30040", 100, IF($C$7="Tax Levy", VLOOKUP(T14,Chartfields!G:V,16,FALSE), IF(AND($C$7="IFR", K14="75018"), VLOOKUP(T14,Chartfields!G:V,16,FALSE), VLOOKUP(T14,Chartfields!G:V,16,FALSE))))), "−−−−−−−►") -> −−−−−−−► | Q14: =IFERROR(IF(LEFT(F14, 4)="Oper", VLOOKUP(F14,OptCodes[],2,FALSE), IF($C$7="Tax Levy", VLOOKUP(T14,Chartfields!G:P,10,FALSE), IF(AND($C$7="IFR", K14="75018"), VLOOKUP(T14,Chartfields!G:P,10,FALSE), VLOOKUP(T14,Chartfields!G:P,10,FALSE)))), "−−−−−−−►") -> −−−−−−−► | R14: =IFERROR(IF(OR($C$7="",B14=""), "−−−−−−−►",IF($C$7="Tax Levy", 10, IF($C$7="IFR", 11, "−−−−−−−►"))),"−−−−−−−►") -> −−−−−−−► | T14: =IF(OR($C$7="",B14="",E14=""),"",$C$7&K14) | Y14: Intra-Univ | Z14: 44752
A15: 3 | H15: $ | K15: =IFERROR(IF($C$7="", "−−−−−−−►", VLOOKUP(E15,Chartfields!C:H,6,FALSE)),"−−−−−−−►") -> −−−−−−−► | M15: =IFERROR(IF(OR(K15="", E15=""), "−−−−−−−►", IF(LEFT(F15, 7)="Program", VLOOKUP(F15,OptCodes[],2,FALSE), IF(OR(P15=114, P15=116, P15=100, P15=102), 99999,IF(AND(K15=65040, LEFT(F15,11) ="Funding Src"), 40300, IF(LEFT(F15,4)="Fund", 99999,IF(Q15=3017, 99999, IF(AND(F15="", $C$7="Tax Levy"), 99999,IF($C$7="Tax Levy",VLOOKUP(F15,OptCodes[],2,FALSE),IF(AND($C$7="IFR", K15="75018"), VLOOKUP(K15,Chartfields!H:R,11,FALSE), VLOOKUP(T15,Chartfields!G:R,12,FALSE)))))))))), "−−−−−−−►") -> −−−−−−−► | N15: =IFERROR(IF($C$7="Tax Levy", VLOOKUP(T15,Chartfields!G:M,7,FALSE), IF(AND($C$7="IFR", K15="75018"), VLOOKUP(T15,Chartfields!G:M,7,FALSE), VLOOKUP(T15,Chartfields!G:M,7,FALSE))), "−−−−−−−►") -> −−−−−−−► | O15: =IFERROR( IF(AND(M15=40300, K15=65040),302500, IF(AND(M15=40360, LEFT(F15,7)="Program"), VLOOKUP('Budget Modification Form'!M15,Chartfields!R:T,3,FALSE), IF(LEFT(F15,4)="Fund", VLOOKUP(F15,OptCodes[],2,FALSE),IF($C$7="Tax Levy", VLOOKUP(T15,Chartfields!G:T,14,FALSE), IF(AND($C$7="IFR", K15="75018"), VLOOKUP(T15,Chartfields!G:T,14,FALSE), VLOOKUP('Budget Modification Form'!T15,Chartfields!G:T,14,FALSE)))))), "−−−−−−−►") -> −−−−−−−► | P15: =IFERROR(IF(LEFT(F15, 4)="Spec", VLOOKUP(F15,OptCodes[],2,FALSE), IF(F15="Program: Tutor Corp-30040", 100, IF($C$7="Tax Levy", VLOOKUP(T15,Chartfields!G:V,16,FALSE), IF(AND($C$7="IFR", K15="75018"), VLOOKUP(T15,Chartfields!G:V,16,FALSE), VLOOKUP(T15,Chartfields!G:V,16,FALSE))))), "−−−−−−−►") -> −−−−−−−► | Q15: =IFERROR(IF(LEFT(F15, 4)="Oper", VLOOKUP(F15,OptCodes[],2,FALSE), IF($C$7="Tax Levy", VLOOKUP(T15,Chartfields!G:P,10,FALSE), IF(AND($C$7="IFR", K15="75018"), VLOOKUP(T15,Chartfields!G:P,10,FALSE), VLOOKUP(T15,Chartfields!G:P,10,FALSE)))), "−−−−−−−►") -> −−−−−−−► | R15: =IFERROR(IF(OR($C$7="",B15=""), "−−−−−−−►",IF($C$7="Tax Levy", 10, IF($C$7="IFR", 11, "−−−−−−−►"))),"−−−−−−−►") -> −−−−−−−► | T15: =IF(OR($C$7="",B15="",E15=""),"",$C$7&K15) | Z15: 44753
A16: 4 | H16: $ | K16: =IFERROR(IF($C$7="", "−−−−−−−►", VLOOKUP(E16,Chartfields!C:H,6,FALSE)),"−−−−−−−►") -> −−−−−−−► | M16: =IFERROR(IF(OR(K16="", E16=""), "−−−−−−−►", IF(LEFT(F16, 7)="Program", VLOOKUP(F16,OptCodes[],2,FALSE), IF(OR(P16=114, P16=116, P16=100, P16=102), 99999,IF(AND(K16=65040, LEFT(F16,11) ="Funding Src"), 40300, IF(LEFT(F16,4)="Fund", 99999,IF(Q16=3017, 99999, IF(AND(F16="", $C$7="Tax Levy"), 99999,IF($C$7="Tax Levy",VLOOKUP(F16,OptCodes[],2,FALSE),IF(AND($C$7="IFR", K16="75018"), VLOOKUP(K16,Chartfields!H:R,11,FALSE), VLOOKUP(T16,Chartfields!G:R,12,FALSE)))))))))), "−−−−−−−►") -> −−−−−−−► | N16: =IFERROR(IF($C$7="Tax Levy", VLOOKUP(T16,Chartfields!G:M,7,FALSE), IF(AND($C$7="IFR", K16="75018"), VLOOKUP(T16,Chartfields!G:M,7,FALSE), VLOOKUP(T16,Chartfields!G:M,7,FALSE))), "−−−−−−−►") -> −−−−−−−► | O16: =IFERROR( IF(AND(M16=40300, K16=65040),302500, IF(AND(M16=40360, LEFT(F16,7)="Program"), VLOOKUP('Budget Modification Form'!M16,Chartfields!R:T,3,FALSE), IF(LEFT(F16,4)="Fund", VLOOKUP(F16,OptCodes[],2,FALSE),IF($C$7="Tax Levy", VLOOKUP(T16,Chartfields!G:T,14,FALSE), IF(AND($C$7="IFR", K16="75018"), VLOOKUP(T16,Chartfields!G:T,14,FALSE), VLOOKUP('Budget Modification Form'!T16,Chartfields!G:T,14,FALSE)))))), "−−−−−−−►") -> −−−−−−−► | P16: =IFERROR(IF(LEFT(F16, 4)="Spec", VLOOKUP(F16,OptCodes[],2,FALSE), IF(F16="Program: Tutor Corp-30040", 100, IF($C$7="Tax Levy", VLOOKUP(T16,Chartfields!G:V,16,FALSE), IF(AND($C$7="IFR", K16="75018"), VLOOKUP(T16,Chartfields!G:V,16,FALSE), VLOOKUP(T16,Chartfields!G:V,16,FALSE))))), "−−−−−−−►") -> −−−−−−−► | Q16: =IFERROR(IF(LEFT(F16, 4)="Oper", VLOOKUP(F16,OptCodes[],2,FALSE), IF($C$7="Tax Levy", VLOOKUP(T16,Chartfields!G:P,10,FALSE), IF(AND($C$7="IFR", K16="75018"), VLOOKUP(T16,Chartfields!G:P,10,FALSE), VLOOKUP(T16,Chartfields!G:P,10,FALSE)))), "−−−−−−−►") -> −−−−−−−► | R16: =IFERROR(IF(OR($C$7="",B16=""), "−−−−−−−►",IF($C$7="Tax Levy", 10, IF($C$7="IFR", 11, "−−−−−−−►"))),"−−−−−−−►") -> −−−−−−−► | T16: =IF(OR($C$7="",B16="",E16=""),"",$C$7&K16) | Z16: 44754
A17: 5 | H17: $ | K17: =IFERROR(IF($C$7="", "−−−−−−−►", VLOOKUP(E17,Chartfields!C:H,6,FALSE)),"−−−−−−−►") -> −−−−−−−► | M17: =IFERROR(IF(OR(K17="", E17=""), "−−−−−−−►", IF(LEFT(F17, 7)="Program", VLOOKUP(F17,OptCodes[],2,FALSE), IF(OR(P17=114, P17=116, P17=100, P17=102), 99999,IF(AND(K17=65040, LEFT(F17,11) ="Funding Src"), 40300, IF(LEFT(F17,4)="Fund", 99999,IF(Q17=3017, 99999, IF(AND(F17="", $C$7="Tax Levy"), 99999,IF($C$7="Tax Levy",VLOOKUP(F17,OptCodes[],2,FALSE),IF(AND($C$7="IFR", K17="75018"), VLOOKUP(K17,Chartfields!H:R,11,FALSE), VLOOKUP(T17,Chartfields!G:R,12,FALSE)))))))))), "−−−−−−−►") -> −−−−−−−► | N17: =IFERROR(IF($C$7="Tax Levy", VLOOKUP(T17,Chartfields!G:M,7,FALSE), IF(AND($C$7="IFR", K17="75018"), VLOOKUP(T17,Chartfields!G:M,7,FALSE), VLOOKUP(T17,Chartfields!G:M,7,FALSE))), "−−−−−−−►") -> −−−−−−−► | O17: =IFERROR( IF(AND(M17=40300, K17=65040),302500, IF(AND(M17=40360, LEFT(F17,7)="Program"), VLOOKUP('Budget Modification Form'!M17,Chartfields!R:T,3,FALSE), IF(LEFT(F17,4)="Fund", VLOOKUP(F17,OptCodes[],2,FALSE),IF($C$7="Tax Levy", VLOOKUP(T17,Chartfields!G:T,14,FALSE), IF(AND($C$7="IFR", K17="75018"), VLOOKUP(T17,Chartfields!G:T,14,FALSE), VLOOKUP('Budget Modification Form'!T17,Chartfields!G:T,14,FALSE)))))), "−−−−−−−►") -> −−−−−−−► | P17: =IFERROR(IF(LEFT(F17, 4)="Spec", VLOOKUP(F17,OptCodes[],2,FALSE), IF(F17="Program: Tutor Corp-30040", 100, IF($C$7="Tax Levy", VLOOKUP(T17,Chartfields!G:V,16,FALSE), IF(AND($C$7="IFR", K17="75018"), VLOOKUP(T17,Chartfields!G:V,16,FALSE), VLOOKUP(T17,Chartfields!G:V,16,FALSE))))), "−−−−−−−►") -> −−−−−−−► | Q17: =IFERROR(IF(LEFT(F17, 4)="Oper", VLOOKUP(F17,OptCodes[],2,FALSE), IF($C$7="Tax Levy", VLOOKUP(T17,Chartfields!G:P,10,FALSE), IF(AND($C$7="IFR", K17="75018"), VLOOKUP(T17,Chartfields!G:P,10,FALSE), VLOOKUP(T17,Chartfields!G:P,10,FALSE)))), "−−−−−−−►") -> −−−−−−−► | R17: =IFERROR(IF(OR($C$7="",B17=""), "−−−−−−−►",IF($C$7="Tax Levy", 10, IF($C$7="IFR", 11, "−−−−−−−►"))),"−−−−−−−►") -> −−−−−−−► | T17: =IF(OR($C$7="",B17="",E17=""),"",$C$7&K17) | Z17: 44755
A18: 6 | H18: $ | K18: =IFERROR(IF($C$7="", "−−−−−−−►", VLOOKUP(E18,Chartfields!C:H,6,FALSE)),"−−−−−−−►") -> −−−−−−−► | M18: =IFERROR(IF(OR(K18="", E18=""), "−−−−−−−►", IF(LEFT(F18, 7)="Program", VLOOKUP(F18,OptCodes[],2,FALSE), IF(OR(P18=114, P18=116, P18=100, P18=102), 99999,IF(AND(K18=65040, LEFT(F18,11) ="Funding Src"), 40300, IF(LEFT(F18,4)="Fund", 99999,IF(Q18=3017, 99999, IF(AND(F18="", $C$7="Tax Levy"), 99999,IF($C$7="Tax Levy",VLOOKUP(F18,OptCodes[],2,FALSE),IF(AND($C$7="IFR", K18="75018"), VLOOKUP(K18,Chartfields!H:R,11,FALSE), VLOOKUP(T18,Chartfields!G:R,12,FALSE)))))))))), "−−−−−−−►") -> −−−−−−−► | N18: =IFERROR(IF($C$7="Tax Levy", VLOOKUP(T18,Chartfields!G:M,7,FALSE), IF(AND($C$7="IFR", K18="75018"), VLOOKUP(T18,Chartfields!G:M,7,FALSE), VLOOKUP(T18,Chartfields!G:M,7,FALSE))), "−−−−−−−►") -> −−−−−−−► | O18: =IFERROR( IF(AND(M18=40300, K18=65040),302500, IF(AND(M18=40360, LEFT(F18,7)="Program"), VLOOKUP('Budget Modification Form'!M18,Chartfields!R:T,3,FALSE), IF(LEFT(F18,4)="Fund", VLOOKUP(F18,OptCodes[],2,FALSE),IF($C$7="Tax Levy", VLOOKUP(T18,Chartfields!G:T,14,FALSE), IF(AND($C$7="IFR", K18="75018"), VLOOKUP(T18,Chartfields!G:T,14,FALSE), VLOOKUP('Budget Modification Form'!T18,Chartfields!G:T,14,FALSE)))))), "−−−−−−−►") -> −−−−−−−► | P18: =IFERROR(IF(LEFT(F18, 4)="Spec", VLOOKUP(F18,OptCodes[],2,FALSE), IF(F18="Program: Tutor Corp-30040", 100, IF($C$7="Tax Levy", VLOOKUP(T18,Chartfields!G:V,16,FALSE), IF(AND($C$7="IFR", K18="75018"), VLOOKUP(T18,Chartfields!G:V,16,FALSE), VLOOKUP(T18,Chartfields!G:V,16,FALSE))))), "−−−−−−−►") -> −−−−−−−► | Q18: =IFERROR(IF(LEFT(F18, 4)="Oper", VLOOKUP(F18,OptCodes[],2,FALSE), IF($C$7="Tax Levy", VLOOKUP(T18,Chartfields!G:P,10,FALSE), IF(AND($C$7="IFR", K18="75018"), VLOOKUP(T18,Chartfields!G:P,10,FALSE), VLOOKUP(T18,Chartfields!G:P,10,FALSE)))), "−−−−−−−►") -> −−−−−−−► | R18: =IFERROR(IF(OR($C$7="",B18=""), "−−−−−−−►",IF($C$7="Tax Levy", 10, IF($C$7="IFR", 11, "−−−−−−−►"))),"−−−−−−−►") -> −−−−−−−► | T18: =IF(OR($C$7="",B18="",E18=""),"",$C$7&K18) | Z18: 44756
A19: 7 | H19: $ | K19: =IFERROR(IF($C$7="", "−−−−−−−►", VLOOKUP(E19,Chartfields!C:H,6,FALSE)),"−−−−−−−►") -> −−−−−−−► | M19: =IFERROR(IF(OR(K19="", E19=""), "−−−−−−−►", IF(LEFT(F19, 7)="Program", VLOOKUP(F19,OptCodes[],2,FALSE), IF(OR(P19=114, P19=116, P19=100, P19=102), 99999,IF(AND(K19=65040, LEFT(F19,11) ="Funding Src"), 40300, IF(LEFT(F19,4)="Fund", 99999,IF(Q19=3017, 99999, IF(AND(F19="", $C$7="Tax Levy"), 99999,IF($C$7="Tax Levy",VLOOKUP(F19,OptCodes[],2,FALSE),IF(AND($C$7="IFR", K19="75018"), VLOOKUP(K19,Chartfields!H:R,11,FALSE), VLOOKUP(T19,Chartfields!G:R,12,FALSE)))))))))), "−−−−−−−►") -> −−−−−−−► | N19: =IFERROR(IF($C$7="Tax Levy", VLOOKUP(T19,Chartfields!G:M,7,FALSE), IF(AND($C$7="IFR", K19="75018"), VLOOKUP(T19,Chartfields!G:M,7,FALSE), VLOOKUP(T19,Chartfields!G:M,7,FALSE))), "−−−−−−−►") -> −−−−−−−► | O19: =IFERROR( IF(AND(M19=40300, K19=65040),302500, IF(AND(M19=40360, LEFT(F19,7)="Program"), VLOOKUP('Budget Modification Form'!M19,Chartfields!R:T,3,FALSE), IF(LEFT(F19,4)="Fund", VLOOKUP(F19,OptCodes[],2,FALSE),IF($C$7="Tax Levy", VLOOKUP(T19,Chartfields!G:T,14,FALSE), IF(AND($C$7="IFR", K19="75018"), VLOOKUP(T19,Chartfields!G:T,14,FALSE), VLOOKUP('Budget Modification Form'!T19,Chartfields!G:T,14,FALSE)))))), "−−−−−−−►") -> −−−−−−−► | P19: =IFERROR(IF(LEFT(F19, 4)="Spec", VLOOKUP(F19,OptCodes[],2,FALSE), IF(F19="Program: Tutor Corp-30040", 100, IF($C$7="Tax Levy", VLOOKUP(T19,Chartfields!G:V,16,FALSE), IF(AND($C$7="IFR", K19="75018"), VLOOKUP(T19,Chartfields!G:V,16,FALSE), VLOOKUP(T19,Chartfields!G:V,16,FALSE))))), "−−−−−−−►") -> −−−−−−−► | Q19: =IFERROR(IF(LEFT(F19, 4)="Oper", VLOOKUP(F19,OptCodes[],2,FALSE), IF($C$7="Tax Levy", VLOOKUP(T19,Chartfields!G:P,10,FALSE), IF(AND($C$7="IFR", K19="75018"), VLOOKUP(T19,Chartfields!G:P,10,FALSE), VLOOKUP(T19,Chartfields!G:P,10,FALSE)))), "−−−−−−−►") -> −−−−−−−► | R19: =IFERROR(IF(OR($C$7="",B19=""), "−−−−−−−►",IF($C$7="Tax Levy", 10, IF($C$7="IFR", 11, "−−−−−−−►"))),"−−−−−−−►") -> −−−−−−−► | T19: =IF(OR($C$7="",B19="",E19=""),"",$C$7&K19) | Z19: 44757
A20: 8 | H20: $ | K20: =IFERROR(IF($C$7="", "−−−−−−−►", VLOOKUP(E20,Chartfields!C:H,6,FALSE)),"−−−−−−−►") -> −−−−−−−► | M20: =IFERROR(IF(OR(K20="", E20=""), "−−−−−−−►", IF(LEFT(F20, 7)="Program", VLOOKUP(F20,OptCodes[],2,FALSE), IF(OR(P20=114, P20=116, P20=100, P20=102), 99999,IF(AND(K20=65040, LEFT(F20,11) ="Funding Src"), 40300, IF(LEFT(F20,4)="Fund", 99999,IF(Q20=3017, 99999, IF(AND(F20="", $C$7="Tax Levy"), 99999,IF($C$7="Tax Levy",VLOOKUP(F20,OptCodes[],2,FALSE),IF(AND($C$7="IFR", K20="75018"), VLOOKUP(K20,Chartfields!H:R,11,FALSE), VLOOKUP(T20,Chartfields!G:R,12,FALSE)))))))))), "−−−−−−−►") -> −−−−−−−► | N20: =IFERROR(IF($C$7="Tax Levy", VLOOKUP(T20,Chartfields!G:M,7,FALSE), IF(AND($C$7="IFR", K20="75018"), VLOOKUP(T20,Chartfields!G:M,7,FALSE), VLOOKUP(T20,Chartfields!G:M,7,FALSE))), "−−−−−−−►") -> −−−−−−−► | O20: =IFERROR( IF(AND(M20=40300, K20=65040),302500, IF(AND(M20=40360, LEFT(F20,7)="Program"), VLOOKUP('Budget Modification Form'!M20,Chartfields!R:T,3,FALSE), IF(LEFT(F20,4)="Fund", VLOOKUP(F20,OptCodes[],2,FALSE),IF($C$7="Tax Levy", VLOOKUP(T20,Chartfields!G:T,14,FALSE), IF(AND($C$7="IFR", K20="75018"), VLOOKUP(T20,Chartfields!G:T,14,FALSE), VLOOKUP('Budget Modification Form'!T20,Chartfields!G:T,14,FALSE)))))), "−−−−−−−►") -> −−−−−−−► | P20: =IFERROR(IF(LEFT(F20, 4)="Spec", VLOOKUP(F20,OptCodes[],2,FALSE), IF(F20="Program: Tutor Corp-30040", 100, IF($C$7="Tax Levy", VLOOKUP(T20,Chartfields!G:V,16,FALSE), IF(AND($C$7="IFR", K20="75018"), VLOOKUP(T20,Chartfields!G:V,16,FALSE), VLOOKUP(T20,Chartfields!G:V,16,FALSE))))), "−−−−−−−►") -> −−−−−−−► | Q20: =IFERROR(IF(LEFT(F20, 4)="Oper", VLOOKUP(F20,OptCodes[],2,FALSE), IF($C$7="Tax Levy", VLOOKUP(T20,Chartfields!G:P,10,FALSE), IF(AND($C$7="IFR", K20="75018"), VLOOKUP(T20,Chartfields!G:P,10,FALSE), VLOOKUP(T20,Chartfields!G:P,10,FALSE)))), "−−−−−−−►") -> −−−−−−−► | R20: =IFERROR(IF(OR($C$7="",B20=""), "−−−−−−−►",IF($C$7="Tax Levy", 10, IF($C$7="IFR", 11, "−−−−−−−►"))),"−−−−−−−►") -> −−−−−−−► | T20: =IF(OR($C$7="",B20="",E20=""),"",$C$7&K20) | Z20: 44758
Z21: 44759
G22: Total: | H22: =SUM(H13:I20) -> 0 | Z22: 44760
B23: Revised Date: 10/18/2022 | Z23: 44761
Z24: 44762
Z25: 44763
A26: * | B26: Modification: Must Net to "0", with the same Allocation | Z26: 44764
A27: * | B27: New CUNY Funding: Must Provide Budget Document | Z27: 44765
A28: ** | B28: Intra-University: Funds Provided by other CUNY Entities on a One-time Basis. | Z28: 44766
A29: *** | B29: N/A Means that the HCM Dept. is not active in CUNYfirst | Z29: 44767
Z30: 44768
Z31: 44769
Z32: 44770
Z33: 44771
Z34: 44772
Z35: 44773
Z36: 44774
Z37: 44775
Z38: 44776
Z39: 44777
Z40: 44778
Z41: 44779
... Z431: 45169

Sheet Date Range for Forms
A1: Date
A3: 44743
A4: 44744
A5: 44745
A6: 44746
A7: 44747
A8: 44748
A9: 44749
A10: 44750
A11: 44751
A12: 44752
A13: 44753
A14: 44754
... A552: 45292

Sheet Budget form_SAMPLE PAGE
G1: Send all Budget Change Requests to: | J1: BudgetChangeRequest@baruch.cuny.edu
G2: All requests will be processed ASAP, and an updated Budget file will be saved in the All-Funds Budget & Budget Information drive at the end of the day.
L3: FY20 BUDGET CHANGE REQUEST | V3: Ledger | X3: Action | Y3: Business Unit | Z3: Division | AA3: Account Type | AB3: Affected Fiscal year(s): | AC3: Allocation | AD3: Date
L4: (Tax-Levy, IFR, and Non Tax-Levy)
V5: IFR | X5: Modification | Y5: Bar 01 | Z5: Acad. Aff. | AA5: Adjunct | AB5: Current YR only | AC5: Base | AD5: 43592
J6: *Requested By: | K6: Jane Deaux | V6: Tax Levy | X6: New CUNY Funding | Y6: Bar 55 | Z6: OCM | AA6: Non-Teaching Adjuncts | AB6: Permanent | AC6: Excellence Fee | AD6: 43593
A7: 1. | B7: Ledger: | C7: Tax Levy | J7: *Date | K7: 43875 | V7: Non Tax-Levy | X7: Permanent Mods | Y7: Bar 04 | Z7: President | AA7: OTPS | AC7: Intra-Univ | AD7: 43594
A8: 2. | B8: Business Unit: | C8: =IF(C7="IFR", "BAR01", IF(C7="Tax Levy", "BAR01", IF(C7="Non Tax-Levy", "BAR55", " "))) -> BAR01 | X8: Initial Allocation | Z8: MSPIA | AA8: PS Regular | AD8: 43595
A9: 3. | B9: Action: | C9: Modification | X9: Budget Realignment | Z9: VPAF | AA9: Temp Services | AD9: 43596
A10: 4. | B10: Allocation: | C10: Base | F10: Required for Tax-Levy ONLY | Z10: VPCA | AA10: Unassigned | AD10: 43597
Z11: VPEM | AD11: 43598
B12: 5. Select a Division | E12: 6. Department Description | F12: 7. Program, Special Initiative Description, or Funding Source | G12: 8. Account Type | H12: 9. Increase/ (Decrease) | J12: Comments (Optional) | K12: CUNYFIRST Dept. Code | M12: Program Code | N12: Major Purpose Code | O12: Funding Source | P12: Special Initiatives | Q12: Operating Unit | R12: Fund Code | Z12: VPISD | AD12: 43599
A13: 1 | B13: TL_Acad Aff | E13: Provost-Faculty Operations | G13: Temp Services | H13: -100 | J13: Budget mod form test | K13: =IFERROR(IF($C$7="Tax Levy",VLOOKUP(E13,#REF!,3,FALSE), IF($C$7="IFR", VLOOKUP(E13,#REF!,3,FALSE), IF($C$7="Non Tax-Levy",VLOOKUP(F13,#REF!,3,FALSE),"−−−−−−−►"))), "−−−−−−−►") -> −−−−−−−► | M13: =IFERROR(IF(OR(K13="", E13=""), "−−−−−−−►", IF(OR(P13=114, P13=116), 99999,IF(AND(K13=65040, LEFT(F13,11) ="Funding Src"), 40300,IF(AND(F13="", $C$7="Tax Levy"), 99999,IF($C$7="Tax Levy",VLOOKUP(F13,#REF!,2,FALSE),IF($C$7="Non Tax-Levy",VLOOKUP(F13,#REF!,6,FALSE), IF(AND($C$7="IFR", K13="75018"), VLOOKUP(K13,#REF!,13,FALSE), VLOOKUP(K13,#REF!,6,FALSE)))))))), "−−−−−−−►") -> 99999 | N13: =IFERROR(IF($C$7="Tax Levy", VLOOKUP(K13,#REF!,5,FALSE), IF($C$7="Non Tax-Levy", VLOOKUP(F13,#REF!,7,FALSE), IF(AND($C$7="IFR", K13="75018"), VLOOKUP(K13,#REF!,5,FALSE), VLOOKUP(K13,#REF!,9,FALSE)))), "−−−−−−−►") -> −−−−−−−► | O13: =IFERROR( IF(AND(C$10="Excellence Fee", B13<>""),801066, IF(AND(M13=40300, K13=65040), VLOOKUP(M13,#REF!,3,FALSE),IF($C$7="Tax Levy", VLOOKUP(K13,#REF!,15,FALSE), IF($C$7="Non Tax-Levy", VLOOKUP(F13,#REF!,9,FALSE), IF(AND($C$7="IFR", K13="75018"), VLOOKUP(K13,#REF!,15,FALSE), VLOOKUP(K13,#REF!,7,FALSE)))))), "−−−−−−−►") -> −−−−−−−► | P13: =IFERROR(IF(OR(F13="Spec. Initiative: Open Education Rsrc.- 116", F13="Spec. Initiative: Strategic Investment- 114"), VLOOKUP(F13,#REF!,2,FALSE), IF($C$7="Tax Levy", VLOOKUP(K13,#REF!,10,FALSE), IF($C$7="Non Tax-Levy", VLOOKUP(F13,#REF!,8,FALSE), IF(AND($C$7="IFR", K13="75018"), VLOOKUP(K13,#REF!,10,FALSE), VLOOKUP(K13,#REF!,8,FALSE))))), "−−−−−−−►") -> −−−−−−−► | Q13: =IFERROR(IF($C$7="Tax Levy", VLOOKUP(C$7&K13,#REF!,3,FALSE), IF($C$7="Non Tax-Levy", VLOOKUP(F13,#REF!,10,FALSE), IF(AND($C$7="IFR", K13="75018"), VLOOKUP(K13,#REF!,7,FALSE), VLOOKUP(K13,#REF!, 10,FALSE)))), "−−−−−−−►") -> −−−−−−−► | R13: =IFERROR(IF($C$7="Tax Levy", VLOOKUP($C$7&$K13,#REF!, 2,FALSE), IF($C$7="IFR", VLOOKUP(K13,#REF!,2,FALSE), IF($C$7="Non Tax-Levy", VLOOKUP(F13,#REF!,11,FALSE), "−−−−−−−►"))), "−−−−−−−►") -> −−−−−−−► | Z13: VPSA | AD13: 43600
A14: 2 | B14: TL_Acad Aff | E14: Schwartz Communication Center | G14: OTPS | H14: 100 | J14: Budget mod form test | K14: =IFERROR(IF($C$7="Tax Levy",VLOOKUP(E14,#REF!,3,FALSE), IF($C$7="IFR", VLOOKUP(E14,#REF!,3,FALSE), IF($C$7="Non Tax-Levy",VLOOKUP(F14,#REF!,3,FALSE),"−−−−−−−►"))), "−−−−−−−►") -> −−−−−−−► | M14: =IFERROR(IF(OR(K14="", E14=""), "−−−−−−−►", IF(OR(P14=114, P14=116), 99999,IF(AND(K14=65040, LEFT(F14,11) ="Funding Src"), 40300,IF(AND(F14="", $C$7="Tax Levy"), 99999,IF($C$7="Tax Levy",VLOOKUP(F14,#REF!,2,FALSE),IF($C$7="Non Tax-Levy",VLOOKUP(F14,#REF!,6,FALSE), IF(AND($C$7="IFR", K14="75018"), VLOOKUP(K14,#REF!,13,FALSE), VLOOKUP(K14,#REF!,6,FALSE)))))))), "−−−−−−−►") -> 99999 | N14: =IFERROR(IF($C$7="Tax Levy", VLOOKUP(K14,#REF!,5,FALSE), IF($C$7="Non Tax-Levy", VLOOKUP(F14,#REF!,7,FALSE), IF(AND($C$7="IFR", K14="75018"), VLOOKUP(K14,#REF!,5,FALSE), VLOOKUP(K14,#REF!,9,FALSE)))), "−−−−−−−►") -> −−−−−−−► | O14: =IFERROR( IF(AND(C$10="Excellence Fee", B14<>""),801066, IF(AND(M14=40300, K14=65040), VLOOKUP(M14,#REF!,3,FALSE),IF($C$7="Tax Levy", VLOOKUP(K14,#REF!,15,FALSE), IF($C$7="Non Tax-Levy", VLOOKUP(F14,#REF!,9,FALSE), IF(AND($C$7="IFR", K14="75018"), VLOOKUP(K14,#REF!,15,FALSE), VLOOKUP(K14,#REF!,7,FALSE)))))), "−−−−−−−►") -> −−−−−−−► | P14: =IFERROR(IF(OR(F14="Spec. Initiative: Open Education Rsrc.- 116", F14="Spec. Initiative: Strategic Investment- 114"), VLOOKUP(F14,#REF!,2,FALSE), IF($C$7="Tax Levy", VLOOKUP(K14,#REF!,10,FALSE), IF($C$7="Non Tax-Levy", VLOOKUP(F14,#REF!,8,FALSE), IF(AND($C$7="IFR", K14="75018"), VLOOKUP(K14,#REF!,10,FALSE), VLOOKUP(K14,#REF!,8,FALSE))))), "−−−−−−−►") -> −−−−−−−► | Q14: =IFERROR(IF($C$7="Tax Levy", VLOOKUP(C$7&K14,#REF!,3,FALSE), IF($C$7="Non Tax-Levy", VLOOKUP(F14,#REF!,10,FALSE), IF(AND($C$7="IFR", K14="75018"), VLOOKUP(K14,#REF!,7,FALSE), VLOOKUP(K14,#REF!, 10,FALSE)))), "−−−−−−−►") -> −−−−−−−► | R14: =IFERROR(IF($C$7="Tax Levy", VLOOKUP($C7&$K14,#REF!, 2,FALSE), IF($C$7="IFR", VLOOKUP(K14,#REF!,2,FALSE), IF($C$7="Non Tax-Levy", VLOOKUP(F14,#REF!,11,FALSE), "−−−−−−−►"))), "−−−−−−−►") -> −−−−−−−► | Z14: WSAS | AD14: 43601
A15: 3 | B15: TL_VPISD | E15: Library | G15: OTPS | H15: -3000 | J15: Budget mod form test | K15: =IFERROR(IF($C$7="Tax Levy",VLOOKUP(E15,#REF!,3,FALSE), IF($C$7="IFR", VLOOKUP(E15,#REF!,3,FALSE), IF($C$7="Non Tax-Levy",VLOOKUP(F15,#REF!,3,FALSE),"−−−−−−−►"))), "−−−−−−−►") -> −−−−−−−► | M15: =IFERROR(IF(OR(K15="", E15=""), "−−−−−−−►", IF(OR(P15=114, P15=116), 99999,IF(AND(K15=65040, LEFT(F15,11) ="Funding Src"), 40300,IF(AND(F15="", $C$7="Tax Levy"), 99999,IF($C$7="Tax Levy",VLOOKUP(F15,#REF!,2,FALSE),IF($C$7="Non Tax-Levy",VLOOKUP(F15,#REF!,6,FALSE), IF(AND($C$7="IFR", K15="75018"), VLOOKUP(K15,#REF!,13,FALSE), VLOOKUP(K15,#REF!,6,FALSE)))))))), "−−−−−−−►") -> 99999 | N15: =IFERROR(IF($C$7="Tax Levy", VLOOKUP(K15,#REF!,5,FALSE), IF($C$7="Non Tax-Levy", VLOOKUP(F15,#REF!,7,FALSE), IF(AND($C$7="IFR", K15="75018"), VLOOKUP(K15,#REF!,5,FALSE), VLOOKUP(K15,#REF!,9,FALSE)))), "−−−−−−−►") -> −−−−−−−► | O15: =IFERROR( IF(AND(C$10="Excellence Fee", B15<>""),801066, IF(AND(M15=40300, K15=65040), VLOOKUP(M15,#REF!,3,FALSE),IF($C$7="Tax Levy", VLOOKUP(K15,#REF!,15,FALSE), IF($C$7="Non Tax-Levy", VLOOKUP(F15,#REF!,9,FALSE), IF(AND($C$7="IFR", K15="75018"), VLOOKUP(K15,#REF!,15,FALSE), VLOOKUP(K15,#REF!,7,FALSE)))))), "−−−−−−−►") -> −−−−−−−► | P15: =IFERROR(IF(OR(F15="Spec. Initiative: Open Education Rsrc.- 116", F15="Spec. Initiative: Strategic Investment- 114"), VLOOKUP(F15,#REF!,2,FALSE), IF($C$7="Tax Levy", VLOOKUP(K15,#REF!,10,FALSE), IF($C$7="Non Tax-Levy", VLOOKUP(F15,#REF!,8,FALSE), IF(AND($C$7="IFR", K15="75018"), VLOOKUP(K15,#REF!,10,FALSE), VLOOKUP(K15,#REF!,8,FALSE))))), "−−−−−−−►") -> −−−−−−−► | Q15: =IFERROR(IF($C$7="Tax Levy", VLOOKUP(C$7&K15,#REF!,3,FALSE), IF($C$7="Non Tax-Levy", VLOOKUP(F15,#REF!,10,FALSE), IF(AND($C$7="IFR", K15="75018"), VLOOKUP(K15,#REF!,7,FALSE), VLOOKUP(K15,#REF!, 10,FALSE)))), "−−−−−−−►") -> −−−−−−−► | R15: =IFERROR(IF($C$7="Tax Levy", VLOOKUP($C7&K15,#REF!, 2,FALSE), IF($C$7="IFR", VLOOKUP(K15,#REF!,2,FALSE), IF($C$7="Non Tax-Levy", VLOOKUP(F15,#REF!,11,FALSE), "−−−−−−−►"))), "−−−−−−−►") -> −−−−−−−► | Z15: ZSB | AD15: 43602
A16: 4 | B16: TL_VPISD | E16: BCTC - Computing & Tech Ctr | G16: Temp Services | H16: 3000 | J16: Budget mod form test | K16: =IFERROR(IF($C$7="Tax Levy",VLOOKUP(E16,#REF!,3,FALSE), IF($C$7="IFR", VLOOKUP(E16,#REF!,3,FALSE), IF($C$7="Non Tax-Levy",VLOOKUP(F16,#REF!,3,FALSE),"−−−−−−−►"))), "−−−−−−−►") -> −−−−−−−► | M16: =IFERROR(IF(OR(K16="", E16=""), "−−−−−−−►", IF(OR(P16=114, P16=116), 99999,IF(AND(K16=65040, LEFT(F16,11) ="Funding Src"), 40300,IF(AND(F16="", $C$7="Tax Levy"), 99999,IF($C$7="Tax Levy",VLOOKUP(F16,#REF!,2,FALSE),IF($C$7="Non Tax-Levy",VLOOKUP(F16,#REF!,6,FALSE), IF(AND($C$7="IFR", K16="75018"), VLOOKUP(K16,#REF!,13,FALSE), VLOOKUP(K16,#REF!,6,FALSE)))))))), "−−−−−−−►") -> 99999 | N16: =IFERROR(IF($C$7="Tax Levy", VLOOKUP(K16,#REF!,5,FALSE), IF($C$7="Non Tax-Levy", VLOOKUP(F16,#REF!,7,FALSE), IF(AND($C$7="IFR", K16="75018"), VLOOKUP(K16,#REF!,5,FALSE), VLOOKUP(K16,#REF!,9,FALSE)))), "−−−−−−−►") -> −−−−−−−► | O16: =IFERROR( IF(AND(C$10="Excellence Fee", B16<>""),801066, IF(AND(M16=40300, K16=65040), VLOOKUP(M16,#REF!,3,FALSE),IF($C$7="Tax Levy", VLOOKUP(K16,#REF!,15,FALSE), IF($C$7="Non Tax-Levy", VLOOKUP(F16,#REF!,9,FALSE), IF(AND($C$7="IFR", K16="75018"), VLOOKUP(K16,#REF!,15,FALSE), VLOOKUP(K16,#REF!,7,FALSE)))))), "−−−−−−−►") -> −−−−−−−► | P16: =IFERROR(IF(OR(F16="Spec. Initiative: Open Education Rsrc.- 116", F16="Spec. Initiative: Strategic Investment- 114"), VLOOKUP(F16,#REF!,2,FALSE), IF($C$7="Tax Levy", VLOOKUP(K16,#REF!,10,FALSE), IF($C$7="Non Tax-Levy", VLOOKUP(F16,#REF!,8,FALSE), IF(AND($C$7="IFR", K16="75018"), VLOOKUP(K16,#REF!,10,FALSE), VLOOKUP(K16,#REF!,8,FALSE))))), "−−−−−−−►") -> −−−−−−−► | Q16: =IFERROR(IF($C$7="Tax Levy", VLOOKUP(C$7&K16,#REF!,3,FALSE), IF($C$7="Non Tax-Levy", VLOOKUP(F16,#REF!,10,FALSE), IF(AND($C$7="IFR", K16="75018"), VLOOKUP(K16,#REF!,7,FALSE), VLOOKUP(K16,#REF!, 10,FALSE)))), "−−−−−−−►") -> −−−−−−−► | R16: =IFERROR(IF($C$7="Tax Levy", VLOOKUP(C7&K16,#REF!,2,FALSE), IF($C$7="IFR", VLOOKUP(K16,#REF!,2,FALSE), IF($C$7="Non Tax-Levy", VLOOKUP(F16,#REF!,11,FALSE), "−−−−−−−►"))), "−−−−−−−►") -> −−−−−−−► | Z16: College | AD16: 43603
A17: 5 | H17: $ | K17: =IFERROR(IF($C$7="Tax Levy",VLOOKUP(E17,#REF!,3,FALSE), IF($C$7="IFR", VLOOKUP(E17,#REF!,3,FALSE), IF($C$7="Non Tax-Levy",VLOOKUP(F17,#REF!,3,FALSE),"−−−−−−−►"))), "−−−−−−−►") -> −−−−−−−► | M17: =IFERROR(IF(OR(K17="", E17=""), "−−−−−−−►", IF(OR(P17=114, P17=116), 99999,IF(AND(K17=65040, LEFT(F17,11) ="Funding Src"), 40300,IF(AND(F17="", $C$7="Tax Levy"), 99999,IF($C$7="Tax Levy",VLOOKUP(F17,#REF!,2,FALSE),IF($C$7="Non Tax-Levy",VLOOKUP(F17,#REF!,6,FALSE), IF(AND($C$7="IFR", K17="75018"), VLOOKUP(K17,#REF!,13,FALSE), VLOOKUP(K17,#REF!,6,FALSE)))))))), "−−−−−−−►") -> −−−−−−−► | N17: =IFERROR(IF($C$7="Tax Levy", VLOOKUP(K17,#REF!,5,FALSE), IF($C$7="Non Tax-Levy", VLOOKUP(F17,#REF!,7,FALSE), IF(AND($C$7="IFR", K17="75018"), VLOOKUP(K17,#REF!,5,FALSE), VLOOKUP(K17,#REF!,9,FALSE)))), "−−−−−−−►") -> −−−−−−−► | O17: =IFERROR( IF(AND(C$10="Excellence Fee", B17<>""),801066, IF(AND(M17=40300, K17=65040), VLOOKUP(M17,#REF!,3,FALSE),IF($C$7="Tax Levy", VLOOKUP(K17,#REF!,15,FALSE), IF($C$7="Non Tax-Levy", VLOOKUP(F17,#REF!,9,FALSE), IF(AND($C$7="IFR", K17="75018"), VLOOKUP(K17,#REF!,15,FALSE), VLOOKUP(K17,#REF!,7,FALSE)))))), "−−−−−−−►") -> −−−−−−−► | P17: =IFERROR(IF(OR(F17="Spec. Initiative: Open Education Rsrc.- 116", F17="Spec. Initiative: Strategic Investment- 114"), VLOOKUP(F17,#REF!,2,FALSE), IF($C$7="Tax Levy", VLOOKUP(K17,#REF!,10,FALSE), IF($C$7="Non Tax-Levy", VLOOKUP(F17,#REF!,8,FALSE), IF(AND($C$7="IFR", K17="75018"), VLOOKUP(K17,#REF!,10,FALSE), VLOOKUP(K17,#REF!,8,FALSE))))), "−−−−−−−►") -> −−−−−−−► | Q17: =IFERROR(IF($C$7="Tax Levy", VLOOKUP(C$7&K17,#REF!,3,FALSE), IF($C$7="Non Tax-Levy", VLOOKUP(F17,#REF!,10,FALSE), IF(AND($C$7="IFR", K17="75018"), VLOOKUP(K17,#REF!,7,FALSE), VLOOKUP(K17,#REF!, 10,FALSE)))), "−−−−−−−►") -> −−−−−−−► | R17: =IFERROR(IF($C$7="Tax Levy", VLOOKUP(C7&K17,#REF!, 2,FALSE), IF($C$7="IFR", VLOOKUP(K17,#REF!,2,FALSE), IF($C$7="Non Tax-Levy", VLOOKUP(F17,#REF!,11,FALSE), "−−−−−−−►"))), "−−−−−−−►") -> −−−−−−−► | AD17: 43604
A18: 6 | H18: $ | K18: =IFERROR(IF($C$7="Tax Levy",VLOOKUP(E18,#REF!,3,FALSE), IF($C$7="IFR", VLOOKUP(E18,#REF!,3,FALSE), IF($C$7="Non Tax-Levy",VLOOKUP(F18,#REF!,3,FALSE),"−−−−−−−►"))), "−−−−−−−►") -> −−−−−−−► | M18: =IFERROR(IF(OR(K18="", E18=""), "−−−−−−−►", IF(OR(P18=114, P18=116), 99999,IF(AND(K18=65040, LEFT(F18,11) ="Funding Src"), 40300,IF(AND(F18="", $C$7="Tax Levy"), 99999,IF($C$7="Tax Levy",VLOOKUP(F18,#REF!,2,FALSE),IF($C$7="Non Tax-Levy",VLOOKUP(F18,#REF!,6,FALSE), IF(AND($C$7="IFR", K18="75018"), VLOOKUP(K18,#REF!,13,FALSE), VLOOKUP(K18,#REF!,6,FALSE)))))))), "−−−−−−−►") -> −−−−−−−► | N18: =IFERROR(IF($C$7="Tax Levy", VLOOKUP(K18,#REF!,5,FALSE), IF($C$7="Non Tax-Levy", VLOOKUP(F18,#REF!,7,FALSE), IF(AND($C$7="IFR", K18="75018"), VLOOKUP(K18,#REF!,5,FALSE), VLOOKUP(K18,#REF!,9,FALSE)))), "−−−−−−−►") -> −−−−−−−► | O18: =IFERROR( IF(AND(C$10="Excellence Fee", B18<>""),801066, IF(AND(M18=40300, K18=65040), VLOOKUP(M18,#REF!,3,FALSE),IF($C$7="Tax Levy", VLOOKUP(K18,#REF!,15,FALSE), IF($C$7="Non Tax-Levy", VLOOKUP(F18,#REF!,9,FALSE), IF(AND($C$7="IFR", K18="75018"), VLOOKUP(K18,#REF!,15,FALSE), VLOOKUP(K18,#REF!,7,FALSE)))))), "−−−−−−−►") -> −−−−−−−► | P18: =IFERROR(IF(OR(F18="Spec. Initiative: Open Education Rsrc.- 116", F18="Spec. Initiative: Strategic Investment- 114"), VLOOKUP(F18,#REF!,2,FALSE), IF($C$7="Tax Levy", VLOOKUP(K18,#REF!,10,FALSE), IF($C$7="Non Tax-Levy", VLOOKUP(F18,#REF!,8,FALSE), IF(AND($C$7="IFR", K18="75018"), VLOOKUP(K18,#REF!,10,FALSE), VLOOKUP(K18,#REF!,8,FALSE))))), "−−−−−−−►") -> −−−−−−−► | Q18: =IFERROR(IF($C$7="Tax Levy", VLOOKUP(C$7&K18,#REF!,3,FALSE), IF($C$7="Non Tax-Levy", VLOOKUP(F18,#REF!,10,FALSE), IF(AND($C$7="IFR", K18="75018"), VLOOKUP(K18,#REF!,7,FALSE), VLOOKUP(K18,#REF!, 10,FALSE)))), "−−−−−−−►") -> −−−−−−−► | R18: =IFERROR(IF($C$7="Tax Levy", VLOOKUP(C7&K18,#REF!, 2,FALSE), IF($C$7="IFR", VLOOKUP(K18,#REF!,2,FALSE), IF($C$7="Non Tax-Levy", VLOOKUP(F18,#REF!,11,FALSE), "−−−−−−−►"))), "−−−−−−−►") -> −−−−−−−► | AD18: 43605
A19: 7 | H19: $ | K19: =IFERROR(IF($C$7="Tax Levy",VLOOKUP(E19,#REF!,3,FALSE), IF($C$7="IFR", VLOOKUP(E19,#REF!,3,FALSE), IF($C$7="Non Tax-Levy",VLOOKUP(F19,#REF!,3,FALSE),"−−−−−−−►"))), "−−−−−−−►") -> −−−−−−−► | M19: =IFERROR(IF(OR(K19="", E19=""), "−−−−−−−►", IF(OR(P19=114, P19=116), 99999,IF(AND(K19=65040, LEFT(F19,11) ="Funding Src"), 40300,IF(AND(F19="", $C$7="Tax Levy"), 99999,IF($C$7="Tax Levy",VLOOKUP(F19,#REF!,2,FALSE),IF($C$7="Non Tax-Levy",VLOOKUP(F19,#REF!,6,FALSE), IF(AND($C$7="IFR", K19="75018"), VLOOKUP(K19,#REF!,13,FALSE), VLOOKUP(K19,#REF!,6,FALSE)))))))), "−−−−−−−►") -> −−−−−−−► | N19: =IFERROR(IF($C$7="Tax Levy", VLOOKUP(K19,#REF!,5,FALSE), IF($C$7="Non Tax-Levy", VLOOKUP(F19,#REF!,7,FALSE), IF(AND($C$7="IFR", K19="75018"), VLOOKUP(K19,#REF!,5,FALSE), VLOOKUP(K19,#REF!,9,FALSE)))), "−−−−−−−►") -> −−−−−−−► | O19: =IFERROR( IF(AND(C$10="Excellence Fee", B19<>""),801066, IF(AND(M19=40300, K19=65040), VLOOKUP(M19,#REF!,3,FALSE),IF($C$7="Tax Levy", VLOOKUP(K19,#REF!,15,FALSE), IF($C$7="Non Tax-Levy", VLOOKUP(F19,#REF!,9,FALSE), IF(AND($C$7="IFR", K19="75018"), VLOOKUP(K19,#REF!,15,FALSE), VLOOKUP(K19,#REF!,7,FALSE)))))), "−−−−−−−►") -> −−−−−−−► | P19: =IFERROR(IF(OR(F19="Spec. Initiative: Open Education Rsrc.- 116", F19="Spec. Initiative: Strategic Investment- 114"), VLOOKUP(F19,#REF!,2,FALSE), IF($C$7="Tax Levy", VLOOKUP(K19,#REF!,10,FALSE), IF($C$7="Non Tax-Levy", VLOOKUP(F19,#REF!,8,FALSE), IF(AND($C$7="IFR", K19="75018"), VLOOKUP(K19,#REF!,10,FALSE), VLOOKUP(K19,#REF!,8,FALSE))))), "−−−−−−−►") -> −−−−−−−► | Q19: =IFERROR(IF($C$7="Tax Levy", VLOOKUP(C$7&K19,#REF!,3,FALSE), IF($C$7="Non Tax-Levy", VLOOKUP(F19,#REF!,10,FALSE), IF(AND($C$7="IFR", K19="75018"), VLOOKUP(K19,#REF!,7,FALSE), VLOOKUP(K19,#REF!, 10,FALSE)))), "−−−−−−−►") -> −−−−−−−► | R19: =IFERROR(IF($C$7="Tax Levy", VLOOKUP(C7&K19,#REF!, 2,FALSE), IF($C$7="IFR", VLOOKUP(K19,#REF!,2,FALSE), IF($C$7="Non Tax-Levy", VLOOKUP(F19,#REF!,11,FALSE), "−−−−−−−►"))), "−−−−−−−►") -> −−−−−−−► | AD19: 43606
A20: 8 | H20: $ | K20: =IFERROR(IF($C$7="Tax Levy",VLOOKUP(E20,#REF!,3,FALSE), IF($C$7="IFR", VLOOKUP(E20,#REF!,3,FALSE), IF($C$7="Non Tax-Levy",VLOOKUP(F20,#REF!,3,FALSE),"−−−−−−−►"))), "−−−−−−−►") -> −−−−−−−► | M20: =IFERROR(IF(OR(K20="", E20=""), "−−−−−−−►", IF(OR(P20=114, P20=116), 99999,IF(AND(K20=65040, LEFT(F20,11) ="Funding Src"), 40300,IF(AND(F20="", $C$7="Tax Levy"), 99999,IF($C$7="Tax Levy",VLOOKUP(F20,#REF!,2,FALSE),IF($C$7="Non Tax-Levy",VLOOKUP(F20,#REF!,6,FALSE), IF(AND($C$7="IFR", K20="75018"), VLOOKUP(K20,#REF!,13,FALSE), VLOOKUP(K20,#REF!,6,FALSE)))))))), "−−−−−−−►") -> −−−−−−−► | N20: =IFERROR(IF($C$7="Tax Levy", VLOOKUP(K20,#REF!,5,FALSE), IF($C$7="Non Tax-Levy", VLOOKUP(F20,#REF!,7,FALSE), IF(AND($C$7="IFR", K20="75018"), VLOOKUP(K20,#REF!,5,FALSE), VLOOKUP(K20,#REF!,9,FALSE)))), "−−−−−−−►") -> −−−−−−−► | O20: =IFERROR( IF(AND(C$10="Excellence Fee", B20<>""),801066, IF(AND(M20=40300, K20=65040), VLOOKUP(M20,#REF!,3,FALSE),IF($C$7="Tax Levy", VLOOKUP(K20,#REF!,15,FALSE), IF($C$7="Non Tax-Levy", VLOOKUP(F20,#REF!,9,FALSE), IF(AND($C$7="IFR", K20="75018"), VLOOKUP(K20,#REF!,15,FALSE), VLOOKUP(K20,#REF!,7,FALSE)))))), "−−−−−−−►") -> −−−−−−−► | P20: =IFERROR(IF(OR(F20="Spec. Initiative: Open Education Rsrc.- 116", F20="Spec. Initiative: Strategic Investment- 114"), VLOOKUP(F20,#REF!,2,FALSE), IF($C$7="Tax Levy", VLOOKUP(K20,#REF!,10,FALSE), IF($C$7="Non Tax-Levy", VLOOKUP(F20,#REF!,8,FALSE), IF(AND($C$7="IFR", K20="75018"), VLOOKUP(K20,#REF!,10,FALSE), VLOOKUP(K20,#REF!,8,FALSE))))), "−−−−−−−►") -> −−−−−−−► | Q20: =IFERROR(IF($C$7="Tax Levy", VLOOKUP(C$7&K20,#REF!,3,FALSE), IF($C$7="Non Tax-Levy", VLOOKUP(F20,#REF!,10,FALSE), IF(AND($C$7="IFR", K20="75018"), VLOOKUP(K20,#REF!,7,FALSE), VLOOKUP(K20,#REF!, 10,FALSE)))), "−−−−−−−►") -> −−−−−−−► | R20: =IFERROR(IF($C$7="Tax Levy", VLOOKUP(C7&K20,#REF!, 2,FALSE), IF($C$7="IFR", VLOOKUP(K20,#REF!,2,FALSE), IF($C$7="Non Tax-Levy", VLOOKUP(F20,#REF!,11,FALSE), "−−−−−−−►"))), "−−−−−−−►") -> −−−−−−−► | AD20: 43607
AD21: 43608
G22: Total: | H22: ="$"&SUM(H13:H20) -> $0 | AD22: 43609
AD23: 43610
AD24: 43611
AD25: 43612
A26: * | B26: Modification: Must Net to "0", with the same Allocation | AD26: 43613
A27: * | B27: New CUNY Funding: Must Provide Budget Document | AD27: 43614
A28: ** | B28: Intra-University: Funds Provided by other CUNY Entities on a One-time Basis. | AD28: 43615
A29: *** | B29: N/A Means that the HCM Dept. is not active in CUNYfirst | AD29: 43616
AD30: 43617
AD31: 43618
AD32: 43619
AD33: 43620
AD34: 43621
AD35: 43622
AD36: 43623
AD37: 43624
AD38: 43625
AD39: 43626
AD40: 43627
...

Sheet Chartfields
A1: Data.Ledger | B1: Data.Division | C1: Data.CUNYFIRST GL Dept. Description (University Shared) | D1: Name | E1: Data.Fund | F1: Data.Business Unit | G1: Data.use for Vlookup Division | H1: Data.CUNYFIRST GL Dept Code | I1: Data.CUNYFIRST GL Dept Code2 | J1: Data.CUNYFIRST GL Dept. Description (University Shared)3 | K1: Data.CUNYFIRST HCM Dept Code | L1: Data.CUNYFIRST HCM Dept Description | M1: Data.Major Purpose | N1: Data.Major Purpose Descr | O1: Data.Opearting Unit Descr | P1: Data.Operating Unit | Q1: Data.Program Code Descr | R1: Data.Program | S1: Data.Funding Source Descr | T1: Data.Funding Source | U1: Data. Special Initiatives Descr | V1: Data.Special Initiatives
A2: IFR | B2: Acad Aff | C2: ACE Administrative | D2: BudgetTree | E2: 11 | F2: BAR01 | G2: IFR15004 | H2: 15004 | I2: 15004 | J2: ACE Administrative | K2: 15004 | L2: Continuing & Profl Studies | M2: 100 | N2: Instruction | O2: Adult and Continuing Education | P2: 4001 | R2: 99999 | S2: FS not applicable | T2: 999999 | V2: 9999
A3: IFR | B3: VPAF | C3: Business Office/Fin Operations | D3: BudgetTree | E3: 11 | F3: BAR01 | G3: IFR80045 | H3: 80045 | I3: 80045 | J3: Business Office/Fin Operations | K3: 80045 | L3: Business Office/Fin Operations | M3: 355 | N3: General Administration | O3: IFR Senior Colleges | P3: 3012 | R3: 99999 | S3: FS not applicable | T3: 999999 | V3: 9999
A4: IFR | B4: VPAF | C4: Business Office/Fin Operations | D4: BudgetTree | E4: 11 | F4: BAR01 | G4: IFR80045 | H4: 80045 | I4: 80045 | J4: Business Office/Fin Operations | K4: 80045 | L4: Business Office/Fin Operations | M4: 400 | N4: Operation & Maintence of Plant | O4: IFR Senior Colleges | P4: 3012 | R4: 99999 | S4: FS not applicable | T4: 999999 | V4: 9999
A5: IFR | B5: VPAF | C5: Conference Center | D5: BudgetTree | E5: 11 | F5: BAR01 | G5: IFR80049 | H5: 80049 | I5: 80049 | J5: Conference Center | K5: 80049 | L5: Conference Center | M5: 400 | N5: Operation & Maintence of Plant | O5: Adult and Continuing Education | P5: 4001 | R5: 99999 | S5: FS not applicable | T5: 999999 | V5: 9999
A6: IFR | B6: VPEM | C6: Black Male Initiative | D6: BudgetTree | E6: 11 | F6: BAR01 | G6: IFR65011 | H6: 65011 | I6: 65011 | J6: Black Male Initiative | K6: 65011 | L6: Black Male Initiative | M6: 300 | N6: Student Services | O6: IFR Senior Colleges | P6: 3012 | R6: 99999 | S6: FS not applicable | T6: 999999 | V6: 102
A7: IFR | B7: VPISD | C7: High school | D7: BudgetTree | E7: 11 | F7: BAR01 | G7: IFR65146 | H7: 65146 | I7: 65146 | J7: High school | K7: 65146 | L7: High school | M7: 101 | N7: Collaborative Programs | O7: IFR High Schools | P7: 3017 | R7: 99999 | S7: FS not applicable | T7: 999999 | V7: 9999
A8: IFR | B8: VPISD | C8: Computer Center Operations | D8: BudgetTree | E8: 11 | F8: BAR01 | G8: IFR80073 | H8: 80073 | I8: 80073 | J8: Computer Center Operations | K8: 80073 | L8: BCTC - Computing & Tech Ctr | M8: 300 | N8: Student Services | O8: Technology Fees | P8: 3019 | R8: 99999 | S8: FS not applicable | T8: 999999 | V8: 9999
A9: IFR | B9: VPSA | C9: Center, Child Care | D9: BudgetTree | E9: 11 | F9: BAR01 | G9: IFR60021 | H9: 60021 | I9: 60021 | J9: Center, Child Care | K9: 60021 | L9: Early Learning Center (ELC) | M9: 200 | N9: Public Service | O9: IFR Senior Colleges | P9: 3012 | R9: 99999 | S9: FS not applicable | T9: 999999 | V9: 9999
A10: IFR | B10: WSAS | C10: Mathematics | D10: BudgetTree | E10: 11 | F10: BAR01 | G10: IFR10195 | H10: 10195 | I10: 10195 | J10: Mathematics | K10: 10195 | L10: Mathematics | M10: 100 | N10: Instruction | O10: IFR Senior Colleges | P10: 3012 | R10: 99999 | S10: FS not applicable | T10: 999999 | V10: 9999
A11: IFR | B11: WSAS | C11: Natural Sciences | D11: BudgetTree | E11: 11 | F11: BAR01 | G11: IFR10208 | H11: 10208 | I11: 10208 | J11: Natural Sciences | K11: 10208 | L11: Natural Sciences | M11: 100 | N11: Instruction | O11: IFR Senior Colleges | P11: 3012 | R11: 99999 | S11: FS not applicable | T11: 999999 | V11: 9999
A12: IFR | B12: ZSB | C12: Dean Of Business | D12: BudgetTree | E12: 11 | F12: BAR01 | G12: IFR10381 | H12: 10381 | I12: 10381 | J12: Dean Of Business | K12: 10381 | L12: Dean's Office - ZSB | M12: 100 | N12: Instruction | O12: Adult and Continuing Education | P12: 4001 | R12: 99999 | S12: FS not applicable | T12: 999999 | V12: 9999
A13: IFR | B13: ZSB | C13: Graduate Programs | D13: BudgetTree | E13: 11 | F13: BAR01 | G13: IFR80101 | H13: 80101 | I13: 80101 | J13: Graduate Programs | K13: 80101 | L13: Graduate Programs - ZSB | M13: 100 | N13: Instruction | O13: Adult and Continuing Education | P13: 4001 | R13: 99999 | S13: FS not applicable | T13: 999999 | V13: 9999
A14: IFR | B14: VPAF | C14: Facility Maintenance Operation | D14: BudgetTree | E14: 11 | F14: BAR01 | G14: IFR80048 | H14: 80048 | I14: 80048 | J14: Facility Maintenance Operation | K14: 80048 | L14: Buildings & Grounds | M14: 400 | N14: Operation & Maintence of Plant | P14: 3012 | R14: 99999 | S14: FS not applicable | T14: 999999 | V14: 9999
A15: IFR | B15: VPAF | C15: Security Operations | D15: BudgetTree | E15: 11 | F15: BAR01 | G15: IFR80274 | H15: 80274 | I15: 80274 | J15: Security Operations | K15: 80274 | L15: Public Safety | M15: 350 | N15: Institutional Support | P15: 4001 | R15: 99999 | S15: FS not applicable | T15: 999999 | V15: 9999
A16: IFR | B16: VPISD | C16: Library | D16: BudgetTree | E16: 11 | F16: BAR01 | G16: IFR70054 | H16: 70054 | I16: 70054 | J16: Library | K16: 70054 | L16: Library | M16: 251 | N16: Library | P16: 4001 | R16: 99999 | S16: FS not applicable | T16: 999999 | V16: 9999
A17: IFR | B17: ZSB | C17: Institute, Newman RE | D17: BudgetTree | E17: 11 | F17: BAR01 | G17: IFR60195 | H17: 60195 | I17: 60195 | J17: Institute, Newman RE | K17: 60195 | L17: Newman Real Estate Inst (NREI) | M17: 100 | N17: Instruction | P17: 4001 | R17: 99999 | S17: FS not applicable | T17: 999999 | V17: 9999
A18: IFR | B18: WSAS | C18: Philosophy | D18: BudgetTree | E18: 11 | F18: BAR01 | G18: IFR10221 | H18: 10221 | I18: 10221 | J18: Philosophy | K18: 10221 | L18: Philosophy | M18: 100 | N18: Instruction | P18: 3012 | R18: 99999 | S18: FS not applicable | T18: 999999 | V18: 9999
A19: IFR | B19: WSAS | C19: History & Contemporary Civil | D19: BudgetTree | E19: 11 | F19: BAR01 | G19: IFR10148 | H19: 10148 | I19: 10148 | J19: History & Contemporary Civil | K19: 10148 | L19: History | M19: 100 | N19: Instruction | P19: 3012 | R19: 99999 | S19: FS not applicable | T19: 999999 | V19: 9999
A20: Tax Levy | B20: Acad Aff | C20: Dean For Academic Affairs | D20: BudgetTree | E20: 10 | F20: BAR01 | G20: Tax Levy10377 | H20: 10377 | I20: 10377 | J20: Dean For Academic Affairs | K20: 10377 | L20: Provost-Faculty Operations | M20: 100 | N20: Instruction | P20: 9999 | R20: 99999 | S20: FS not applicable | T20: 999999 | V20: 9999
A21: Tax Levy | B21: Acad Aff | C21: Center, Computer Visually Imp | D21: BudgetTree | E21: 10 | F21: BAR01 | G21: Tax Levy60024 | H21: 60024 | I21: 60024 | J21: Center, Computer Visually Imp | K21: 60024 | L21: Computer Ctr Visually Impaired | M21: 350 | N21: Institutional Support | P21: 9999 | R21: 99999 | S21: FS not applicable | T21: 999999 | V21: 9999
A22: Tax Levy | B22: Acad Aff | C22: Center, Writing | D22: BudgetTree | E22: 10 | F22: BAR01 | G22: Tax Levy60083 | H22: 60083 | I22: 60083 | J22: Center, Writing | K22: 60083 | L22: Writing Center | M22: 100 | N22: Instruction | P22: 9999 | R22: 99999 | S22: FS not applicable | T22: 999999 | V22: 9999
A23: Tax Levy | B23: Acad Aff | C23: Institute, Schwartz Commun | D23: BudgetTree | E23: 10 | F23: BAR01 | G23: Tax Levy60196 | H23: 60196 | I23: 60196 | J23: Institute, Schwartz Commun | K23: 60196 | L23: Schwartz Communication Center | M23: 100 | N23: Instruction | P23: 9999 | R23: 99999 | S23: FS not applicable | T23: 999999 | V23: 9999
A24: Tax Levy | B24: VPEM | C24: College Now Program | D24: BudgetTree | E24: 10 | F24: BAR01 | G24: Tax Levy65017 | H24: 65017 | I24: 65017 | J24: College Now Program | K24: 65017 | L24: College Now Program | M24: 100 | N24: Instruction | P24: 9999 | R24: 99999 | S24: FS not applicable | T24: 999999 | V24: 9999
A25: Tax Levy | B25: Acad Aff | C25: Honors/Experimental | D25: BudgetTree | E25: 10 | F25: BAR01 | G25: Tax Levy65054 | H25: 65054 | I25: 65054 | J25: Honors/Experimental | K25: 65054 | L25: Honors Program | M25: 100 | N25: Instruction | P25: 9999 | R25: 99999 | S25: FS not applicable | T25: 999999 | V25: 9999
... A30: Tax Levy | B30: Acad Aff | C30: Provost Operations | D30: BudgetTree | E30: 10 | F30: BAR01 | G30: Tax Levy80259 | H30: 80259 | I30: 80259 | J30: Provost Operations | K30: 80259 | L30: VP Academic Affairs & Provost | M30: 355 | N30: General Administration | P30: 9999 | R30: 99999 | S30: FS not applicable | T30: 999999 | V30: 9999
A31: Tax Levy | B31: Acad Aff | C31: VP Strategic Planning, Assessm | D31: BudgetTree | E31: 10 | F31: BAR01 | G31: Tax Levy80522 | H31: 80522 | I31: 80522 | J31: VP Strategic Planning, Assessm | K31: 80522 | L31: Assmnt, Acred, Inst Effctvness | M31: 355 | P31: 9999 | R31: 99999 | S31: FS not applicable | T31: 999999 | V31: 9999
A32: Tax Levy | B32: Acad Aff | C32: English & Speech | D32: BudgetTree | E32: 10 | F32: BAR01 | G32: Tax Levy10103 | H32: 10103 | I32: 10103 | J32: English & Speech | K32: 10103 | L32: Tools for Clear Speech | M32: 100 | P32: 9999 | R32: 99999 | S32: FS not applicable | T32: 999999 | V32: 9999
A33: Tax Levy | B33: Acad Aff | C33: Curric. & Teaching | D33: BudgetTree | E33: 10 | F33: BAR01 | G33: Tax Levy70027 | H33: 70027 | I33: 70027 | J33: Curric. & Teaching | K33: 70027 | L33: Assc Provost-Teaching&Learning | M33: 100 | P33: 9999 | R33: 99999 | S33: FS not applicable | T33: 999999 | V33: 9999
A34: Tax Levy | B34: MSPIA | C34: Public Affairs | D34: BudgetTree | E34: 10 | F34: BAR01 | G34: Tax Levy10250 | H34: 10250 | I34: 10250 | J34: Public Affairs | K34: 10250 | L34: Public Affairs | M34: 100 | N34: Instruction | P34: 9999 | R34: 99999 | S34: FS not applicable | T34: 999999 | V34: 9999
A35: Tax Levy | B35: MSPIA | C35: Dean School of Public Affairs | D35: BudgetTree | E35: 10 | F35: BAR01 | G35: Tax Levy10405 | H35: 10405 | I35: 10405 | J35: Dean School of Public Affairs | K35: 10405 | L35: Dean's Office - SPA | M35: 100 | N35: Instruction | P35: 9999 | R35: 99999 | S35: FS not applicable | T35: 999999 | V35: 9999
A36: Tax Levy | B36: MSPIA | C36: CIDR | D36: BudgetTree | E36: 10 | F36: BAR01 | G36: Tax Levy60203 | H36: 60203 | I36: 60203 | J36: CIDR | K36: 60203 | L36: Inst-Demographic Resrch (CIDR) | M36: 100 | N36: Instruction | P36: 9999 | R36: 99999 | S36: FS not applicable | T36: 999999 | V36: 9999
A37: Tax Levy | B37: MSPIA | C37: Student Recruitment | D37: BudgetTree | E37: 10 | F37: BAR01 | G37: Tax Levy75071 | H37: 75071 | I37: 75071 | J37: Student Recruitment | K37: 75071 | L37: Grad Admission/Student Svc-SPA | M37: 300 | N37: Student Services | P37: 9999 | R37: 99999 | S37: FS not applicable | T37: 999999 | V37: 9999
A38: Tax Levy | B38: OCM | C38: Communications | D38: BudgetTree | E38: 10 | F38: BAR01 | G38: Tax Levy80070 | H38: 80070 | I38: 80070 | J38: Communications | K38: 80070 | L38: OCMPA | M38: 350 | N38: Institutional Support | P38: 9999 | R38: 99999 | S38: FS not applicable | T38: 999999 | V38: 9999
A39: Tax Levy | B39: President | C39: President | D39: BudgetTree | E39: 10 | F39: BAR01 | G39: Tax Levy80250 | H39: 80250 | I39: 80250 | J39: President | K39: 80250 | L39: President's Office | M39: 355 | N39: General Administration | P39: 9999 | R39: 99999 | S39: FS not applicable | T39: 999999 | V39: 9999
A40: Tax Levy | B40: VPAF | C40: Accounting Operations | D40: BudgetTree | E40: 10 | F40: BAR01 | G40: Tax Levy80002 | H40: 80002 | I40: 80002 | J40: Accounting Operations | K40: 80002 | L40: Controller's Office | M40: 355 | N40: General Administration | P40: 9999 | R40: 99999 | S40: FS not applicable | T40: 999999 | V40: 9999
A41: Tax Levy | B41: VPAF | C41: Budget and Planning Operations | D41: BudgetTree | E41: 10 | F41: BAR01 | G41: Tax Levy80037 | H41: 80037 | I41: 80037 | J41: Budget and Planning Operations | K41: 80037 | L41: Budget And Planning Operations | M41: 355 | N41: General Administration | P41: 9999 | R41: 99999 | S41: FS not applicable | T41: 999999 | V41: 9999
A42: Tax Levy | B42: VPAF | C42: Bursar Operations | D42: BudgetTree | E42: 10 | F42: BAR01 | G42: Tax Levy80042 | H42: 80042 | I42: 80042 | J42: Bursar Operations | K42: 80042 | L42: Bursar's Office | M42: 355 | N42: General Administration | P42: 9999 | R42: 99999 | S42: FS not applicable | T42: 999999 | V42: 9999
A43: Tax Levy | B43: VPAF | C43: Business Office/Fin Operations | D43: BudgetTree | E43: 10 | F43: BAR01 | G43: Tax Levy80045 | H43: 80045 | I43: 80045 | J43: Business Office/Fin Operations | K43: 80045 | L43: Business Office/Fin Operations | M43: 355 | N43: General Administration | P43: 9999 | R43: 99999 | S43: FS not applicable | T43: 999999 | V43: 9999
A44: Tax Levy | B44: VPAF | C44: Business Office/Fin Operations | D44: BudgetTree | E44: 10 | F44: BAR01 | G44: Tax Levy80045 | H44: 80045 | I44: 80045 | J44: Business Office/Fin Operations | K44: 80045 | L44: Business Office/Fin Operations | M44: 355 | N44: General Administration | P44: 9999 | Q44: Vendor Services | R44: 10454 | S44: FS not applicable | T44: 999999 | V44: 9999
...

Sheet OptionalCodes
A1: Program, Spec Init, Fnd Src, OU Description | B1: Program, Spec Init, Fnd Src, OU Codes | C1: Type | D1: Code Descriptions
B2: 999999
A3: Operating Unit: High School- 3017 | B3: 3017 | C3: Operating Unit | D3: High School
A4: Spec. Initiative: Black Male Initiative- 102 | B4: 102 | C4: Spec. Initiative | D4: Black Male Initiative
A5: Program: Tutor Corp- 30040 | B5: 30040 | C5: Program | D5: Tutor Corp
A6: Program: College Visits/Explorers- 30038 | B6: 30038 | C6: Program | D6: College Visits/Explorers
A7: Program: Assessment- 10489 | B7: 10489 | C7: Program | D7: Assessment
A8: Program: Coordinated UGRD Education- 10483 | B8: 10483 | C8: Program | D8: Coordinated UGRD Education
A9: Program: Credit Card Fee- 10482 | B9: 10482 | C9: Program | D9: Credit Card Fee
A10: Program: Global Initiatives- 10481 | B10: 10481 | C10: Program | D10: Global Initiatives
A11: Program: Human Research Protection- 10487 | B11: 10487 | C11: Program | D11: Human Research Protection
A12: Program: Membership Dues- 10310 | B12: 10310 | C12: Program | D12: Membership Dues
A13: Program: Research Integrity Officer- 10488 | B13: 10488 | C13: Program | D13: Research Integrity Officer
A14: Program: Vendor Services- 10454 | B14: 10454 | C14: Program | D14: Vendor Services
... A29: Operating Unit: Adult and Continuing Education- 4001 | B29: 4001 | C29: Operating Unit | D29: Adult and Continuing Education
B30: 9999 | C30: Operating Unit | D30: Default

Sheet Level1
A1: Column1
A2: IFR
A3: Tax Levy

Sheet Level2
A1: IFR | B1: Tax Levy
A2: Acad Aff | B2: Acad Aff
A3: VPAF | B3: VPEM
A4: VPEM | B4: MSPIA
A5: VPISD | B5: OCM
A6: VPSA | B6: President
A7: WSAS | B7: VPAF
A8: ZSB | B8: VPCA
B9: VPISD
B10: VPSA
B11: WSAS
B12: ZSB
B13: WSAS

Sheet Level3
A1: IFR\Acad Aff | B1: IFR\VPAF | C1: IFR\VPEM | D1: IFR\VPISD | E1: IFR\VPSA | F1: IFR\WSAS | G1: IFR\ZSB | H1: Tax Levy\Acad Aff | I1: Tax Levy\VPEM | J1: Tax Levy\MSPIA | K1: Tax Levy\OCM | L1: Tax Levy\President | M1: Tax Levy\VPAF | N1: Tax Levy\VPCA | O1: Tax Levy\VPISD | P1: Tax Levy\VPSA | Q1: Tax Levy\WSAS | R1: Tax Levy\ZSB | S1: Tax Levy\WSAS
A2: ACE Administrative | B2: Business Office/Fin Operations | C2: Black Male Initiative | D2: High school | E2: Center, Child Care | F2: Mathematics | G2: Dean Of Business | H2: Dean For Academic Affairs | I2: College Now Program | J2: Public Affairs | K2: Communications | L2: President | M2: Accounting Operations | N2: College Relations Operations | O2: Library | P2: Counseling & Comm Skills | Q2: Anthro & Sociology | R2: Accounting | S2: Psychology
B3: Conference Center | D3: Computer Center Operations | F3: Natural Sciences | G3: Graduate Programs | H3: Center, Computer Visually Imp | I3: Dean Of Student Services | J3: Dean School of Public Affairs | M3: Budget and Planning Operations | O3: Information Services Admin | P3: Physical Education | Q3: Communications | R3: Economics
B4: Facility Maintenance Operation | D4: Library | F4: Philosophy | G4: Institute, Newman RE | H4: Center, Writing | I4: SEEK - Special Programs | J4: CIDR | M4: Bursar Operations | O4: Computer Center Operations | P4: Center, Child Care | Q4: English Language/Literature | R4: Law
B5: Security Operations | F5: History & Contemporary Civil | H5: Institute, Schwartz Commun | I5: Academic Advisement | J5: Student Recruitment | M5: Business Office/Fin Operations | P5: Athletics & Recreation | Q5: Fine & Performing Arts | R5: Management
H6: Honors/Experimental | I6: Admissions Services | M6: Facility Maintenance Operation | P6: Counseling Center | Q6: History & Contemporary Civil | R6: Marketing
H7: Academic Affairs | I7: International Student Services | M7: Campus Planning & Operations | P7: Student Affairs & Serv | Q7: Journalism | R7: Real Estate
H8: Office for Teaching & Learning | I8: Student Financial Aid | M8: Central Receiving and Stores | P8: Student Affairs-Life/Devel | Q8: Mathematics | R8: Statistics
H9: Grants And Research Admin | I9: Testing and Evaluation | M9: Facilities Planning Operations | P9: Student Placement Office | Q9: Modern Languages & Literatures | R9: Dean Of Business
H10: Instructional Services | I10: Registrar | M10: Human Resources Operations | P10: Student Disability Services | Q10: Natural Sciences | R10: Center, Student Entrprneurship
H11: Provost Operations | M11: Mail and Messenger Services | Q11: Philosophy | R11: Institute, Newman RE
H12: VP Strategic Planning, Assessm | M12: Purchasing | Q12: Political Science/Government | R12: Center, Study Business & Gov't
H13: English & Speech | M13: Security Operations | Q13: Psychology | R13: Center, Lawrence Field/Sm Bus
H14: Curric. & Teaching | M14: VP Finance and Administration | Q14: Black & Hispanic Studies | R14: Center, Subotnick Fin Services
H15: Institutional Research/Analys | Q15: Center, Performing Arts | R15: Center, Weissman Intl Business
H16: ACE Administrative | Q16: Art Gallery | R16: Executive Programs
H17: Education Service Admin | Q17: Student Services | R17: Career Services Operations
Q18: Dean Of Liberal Arts | R18: Counseling-Academic
R19: Student Affairs Administration
R20: Graduate Programs
