Workbook
Name Acad._Aff.: '[1]Non Tax-Levy'!$A$3:$A$5
Name AccountType: 'NTL Budget Modification Form'!$S$3:$S$9
Name AcctInfo: '[2]Budget form'!#REF!
Name AcctInfo: '[2]Budget form'!#REF!
Name Bert_Wasserman_Dept_Eco_and_Fin: 'NTL Budget Modification Form'!#REF!
Name Bert_Wasserman_Dept_Eco_and_Fin: '[3]Budget form-ALL'!#REF!
Name DateRange: Date_Range_for_Forms[Date]
Name EXPCODES: '[2]Budget form'!#REF!
Name EXPCODES: '[2]Budget form'!#REF!
Name FS_not_applicable: '[1]Bar03 Tree Linked w Prgrm '!$P$33:$P$35+'[1]Bar03 Tree Linked w Prgrm '!$P$30:$P$32
Name Fundhead: 'NTL Budget Modification Form'!#REF!
Name Fundhead: '[4]Budget form-ALL'!#REF!
Name Heading: 'NTL Budget Modification Form'!#REF!
Name Heading: '[4]Budget form-ALL'!#REF!
Name IFR: [3]IFR!$B$5:$B$11
Name Ledger: 'NTL Budget Modification Form'!#REF!
Name list_level1: Level_1[Column1]
Name list_level2: INDEX(tmp_list_level2,1):INDEX(tmp_list_level2,COUNTA(tmp_list_level2))
Name list_level2_v: INDEX(tmp_list_level2_v,1):INDEX(tmp_list_level2_v,COUNTA(tmp_list_level2_v))
Name list_level3: INDEX(tmp_list_level3,1):INDEX(tmp_list_level3,COUNTA(tmp_list_level3))
Name list_level3_v: INDEX(tmp_list_level3_v,1):INDEX(tmp_list_level3_v,COUNTA(tmp_list_level3_v))
Name list_level4: INDEX(tmp_list_level4,1):INDEX(tmp_list_level4,COUNTA(tmp_list_level4))
Name list_level4_v: INDEX(tmp_list_level4_v,1):INDEX(tmp_list_level4_v,COUNTA(tmp_list_level4_v))
Name list_level5: INDEX(tmp_list_level5,1):INDEX(tmp_list_level5,COUNTA(tmp_list_level5))
Name list_level5_v: INDEX(tmp_list_level5_v,1):INDEX(tmp_list_level5_v,COUNTA(tmp_list_level5_v))
Name MSPIA: '[1]Non Tax-Levy'!$A$7:$A$8
Name Non_Tax_Levy_Assoc: '[1]Bar03 Tree Linked'!$A$8
Name Non_Tax_Levy_AUX: '[1]Non Tax-Levy'!$F$141:$F$143
Name Non_Tax_Levy_ELC: '[1]Non Tax-Levy'!$F$104
Name OCM: 'NTL Budget Modification Form'!#REF!
Name President: '[1]Non Tax-Levy'!$A$6
Name Tax_Levy: '[3]Tax Levy'!$A$3:$A$14
Name tmp_list_level2: INDEX(Level_2[],,MATCH('NTL Budget Modification Form'!$C$7&"",Level_2[#Headers],0))
Name tmp_list_level2_v: INDEX(Level_2[],,MATCH(#REF!&"",Level_2[#Headers],0))
Name tmp_list_level3: INDEX(Level_3[],0,MATCH('NTL Budget Modification Form'!$C$7&"\"&'NTL Budget Modification Form'!XFD1,Level_3[#Headers],0))
Name tmp_list_level3_v: INDEX(Level_3[],0,MATCH(#REF!&"\"&#REF!,Level_3[#Headers],0))
Name tmp_list_level4: INDEX(Level_4[],0,MATCH('NTL Budget Modification Form'!$C$7&"\"&'NTL Budget Modification Form'!$B1&"\"&'NTL Budget Modification Form'!$C1,Level_4[#Headers],0))
Name tmp_list_level4_v: INDEX(Level_4[],0,MATCH(#REF!&"\"&#REF!&"\"&#REF!,Level_4[#Headers],0))
Name tmp_list_level5: INDEX(Level_5[],0,MATCH('NTL Budget Modification Form'!$C$7&"\"&'NTL Budget Modification Form'!$B1&"\"&'NTL Budget Modification Form'!$C1&"\"&'NTL Budget Modification Form'!$D1,Level_5[#Headers],0))
Name tmp_list_level5_v: INDEX(Level_5[],0,MATCH(#REF!&"\"&#REF!&"\"&#REF!&"\"&#REF!,Level_5[#Headers],0))
Name VPAF: '[1]Non Tax-Levy'!$A$9:$A$13
Name VPCA: '[1]Non Tax-Levy'!$A$14
Name VPEM: '[1]Non Tax-Levy'!$A$15:$A$18
Name VPSA: '[1]Non Tax-Levy'!$A$21:$A$25
Name WSAS: '[1]Non Tax-Levy'!$A$26:$A$32
Name ZSB: '[1]Non Tax-Levy'!$A$33:$A$46

Sheet NTL Budget Modification Form
F2: FY23 BUDGET CHANGE REQUEST | S2: Account Type | T2: Action | U2: Date
F3: ="Non Tax-Levy Association BAR03" -> Non Tax-Levy Association BAR03
S4: Adjunct | T4: Modification | U4: 44317
E5: Send all Budget Change Requests to: | F5: BudgetChangeRequest@baruch.cuny.edu | S5: Non-Teaching Adjuncts | T5: New CUNY Funding | U5: 44318
E6: All requests will be processed ASAP, and an updated Budget file will be saved in the All-Funds Budget & Budget Information drive at the end of the day. | S6: OTPS | T6: Permanent Mods | U6: 44319
A7: 1. | B7: Ledger: | S7: PS Regular | U7: 44320
A8: 2. | B8: Business Unit: | C8: =IF(C7="","",VLOOKUP(C7,'NTL Chartfields'!A:G,7,FALSE)) | G8: *Requested By: | H8: Type your name here | S8: Temp Services | U8: 44321
A9: 3. | B9: Action: | G9: *Date | H9: nn | S9: Unassigned | U9: 44322
U10: 44323
U11: 44324
B12: 4. Division | C12: 5. Department Description | D12: 6. Program Code Description | E12: 7. Funding Source Decription | F12: 8. Account Type | G12: 8. Increase/ (Decrease) | I12: Comments (Optional) | J12: CUNYFIRST Dept. Code | L12: Program Code | M12: Major Purpose Code | N12: Funding Source | O12: Special Initiatives | P12: Operating Unit | Q12: Fund Code | U12: 44325
A13: 1 | G13: $ | J13: =IFERROR(IF($B13="","−−−−−−−►",(VLOOKUP(C13,'NTL Chartfields'!C:L,10,FALSE))),"−−−−−−−►") -> −−−−−−−► | L13: =IFERROR(IF($D13 ="", "−−−−−−−► ", VLOOKUP(D13,'NTL Chartfields'!D:P,13,FALSE)),"−−−−−−−►") -> −−−−−−−► | M13: =IFERROR(IF($J13=" ", " −−−−−−−► ", VLOOKUP(D13,'NTL Chartfields'!D:N,11,FALSE)),"−−−−−−−► ") -> −−−−−−−► | N13: =IFERROR(IF($E13=""," −−−−−−−► ",VLOOKUP(E13,'NTL Chartfields'!E:Q,13,FALSE)),"−−−−−−−►") -> −−−−−−−► | O13: =IFERROR(IF(J13=" ","−−−−−−−► ",VLOOKUP(D13,'NTL Chartfields'!D:R,15,FALSE)),"−−−−−−−►") -> −−−−−−−► | P13: =IFERROR(IF($J13=" ","−−−−−−−► ",VLOOKUP(D13,'NTL Chartfields'!D:O,12,FALSE)),"−−−−−−−► ") -> −−−−−−−► | Q13: =IFERROR(IF($J13="−−−−−−−►","−−−−−−−► ",VLOOKUP(D13,'NTL Chartfields'!D:M,10,FALSE)),"−−−−−−−► ") -> −−−−−−−► | U13: 44326
A14: 2 | G14: $ | J14: =IFERROR(IF($B14="","−−−−−−−►",(VLOOKUP(C14,'NTL Chartfields'!C:L,10,FALSE))),"−−−−−−−►") -> −−−−−−−► | L14: =IFERROR(IF($D14 ="", "−−−−−−−► ", VLOOKUP(D14,'NTL Chartfields'!D:P,13,FALSE)),"−−−−−−−►") -> −−−−−−−► | M14: =IFERROR(IF($J14=" ", " −−−−−−−► ", VLOOKUP(D14,'NTL Chartfields'!D:N,11,FALSE)),"−−−−−−−► ") -> −−−−−−−► | N14: =IFERROR(IF($E14=""," −−−−−−−► ",VLOOKUP(E14,'NTL Chartfields'!E:Q,13,FALSE)),"−−−−−−−►") -> −−−−−−−► | O14: =IFERROR(IF(J14=" ","−−−−−−−► ",VLOOKUP(D14,'NTL Chartfields'!D:R,15,FALSE)),"−−−−−−−►") -> −−−−−−−► | P14: =IFERROR(IF($J14=" ","−−−−−−−► ",VLOOKUP(D14,'NTL Chartfields'!D:O,12,FALSE)),"−−−−−−−► ") -> −−−−−−−► | Q14: =IFERROR(IF($J14="−−−−−−−►","−−−−−−−► ",VLOOKUP(D14,'NTL Chartfields'!D:M,10,FALSE)),"−−−−−−−► ") -> −−−−−−−► | U14: 44327
A15: 3 | G15: $ | J15: =IFERROR(IF($B15="","−−−−−−−►",(VLOOKUP(C15,'NTL Chartfields'!C:L,10,FALSE))),"−−−−−−−►") -> −−−−−−−► | L15: =IFERROR(IF($D15 ="", "−−−−−−−► ", VLOOKUP(D15,'NTL Chartfields'!D:P,13,FALSE)),"−−−−−−−►") -> −−−−−−−► | M15: =IFERROR(IF($J15=" ", " −−−−−−−► ", VLOOKUP(D15,'NTL Chartfields'!D:N,11,FALSE)),"−−−−−−−► ") -> −−−−−−−► | N15: =IFERROR(IF($E15=""," −−−−−−−► ",VLOOKUP(E15,'NTL Chartfields'!E:Q,13,FALSE)),"−−−−−−−►") -> −−−−−−−► | O15: =IFERROR(IF(J15=" ","−−−−−−−► ",VLOOKUP(D15,'NTL Chartfields'!D:R,15,FALSE)),"−−−−−−−►") -> −−−−−−−► | P15: =IFERROR(IF($J15=" ","−−−−−−−► ",VLOOKUP(D15,'NTL Chartfields'!D:O,12,FALSE)),"−−−−−−−► ") -> −−−−−−−► | Q15: =IFERROR(IF($J15="−−−−−−−►","−−−−−−−► ",VLOOKUP(D15,'NTL Chartfields'!D:M,10,FALSE)),"−−−−−−−► ") -> −−−−−−−► | U15: 44328
A16: 4 | G16: $ | J16: =IFERROR(IF($B16="","−−−−−−−►",(VLOOKUP(C16,'NTL Chartfields'!C:L,10,FALSE))),"−−−−−−−►") -> −−−−−−−► | L16: =IFERROR(IF($D16 ="", "−−−−−−−► ", VLOOKUP(D16,'NTL Chartfields'!D:P,13,FALSE)),"−−−−−−−►") -> −−−−−−−► | M16: =IFERROR(IF($J16=" ", " −−−−−−−► ", VLOOKUP(D16,'NTL Chartfields'!D:N,11,FALSE)),"−−−−−−−► ") -> −−−−−−−► | N16: =IFERROR(IF($E16=""," −−−−−−−► ",VLOOKUP(E16,'NTL Chartfields'!E:Q,13,FALSE)),"−−−−−−−►") -> −−−−−−−► | O16: =IFERROR(IF(J16=" ","−−−−−−−► ",VLOOKUP(D16,'NTL Chartfields'!D:R,15,FALSE)),"−−−−−−−►") -> −−−−−−−► | P16: =IFERROR(IF($J16=" ","−−−−−−−► ",VLOOKUP(D16,'NTL Chartfields'!D:O,12,FALSE)),"−−−−−−−► ") -> −−−−−−−► | Q16: =IFERROR(IF($J16="−−−−−−−►","−−−−−−−► ",VLOOKUP(D16,'NTL Chartfields'!D:M,10,FALSE)),"−−−−−−−► ") -> −−−−−−−► | U16: 44329
A17: 5 | G17: $ | J17: =IFERROR(IF($B17="","−−−−−−−►",(VLOOKUP(C17,'NTL Chartfields'!C:L,10,FALSE))),"−−−−−−−►") -> −−−−−−−► | L17: =IFERROR(IF($D17 ="", "−−−−−−−► ", VLOOKUP(D17,'NTL Chartfields'!D:P,13,FALSE)),"−−−−−−−►") -> −−−−−−−► | M17: =IFERROR(IF($J17=" ", " −−−−−−−► ", VLOOKUP(D17,'NTL Chartfields'!D:N,11,FALSE)),"−−−−−−−► ") -> −−−−−−−► | N17: =IFERROR(IF($E17=""," −−−−−−−► ",VLOOKUP(E17,'NTL Chartfields'!E:Q,13,FALSE)),"−−−−−−−►") -> −−−−−−−► | O17: =IFERROR(IF(J17=" ","−−−−−−−► ",VLOOKUP(D17,'NTL Chartfields'!D:R,15,FALSE)),"−−−−−−−►") -> −−−−−−−► | P17: =IFERROR(IF($J17=" ","−−−−−−−► ",VLOOKUP(D17,'NTL Chartfields'!D:O,12,FALSE)),"−−−−−−−► ") -> −−−−−−−► | Q17: =IFERROR(IF($J17="−−−−−−−►","−−−−−−−► ",VLOOKUP(D17,'NTL Chartfields'!D:M,10,FALSE)),"−−−−−−−► ") -> −−−−−−−► | U17: 44330
A18: 6 | G18: $ | J18: =IFERROR(IF($B18="","−−−−−−−►",(VLOOKUP(C18,'NTL Chartfields'!C:L,10,FALSE))),"−−−−−−−►") -> −−−−−−−► | L18: =IFERROR(IF($D18 ="", "−−−−−−−► ", VLOOKUP(D18,'NTL Chartfields'!D:P,13,FALSE)),"−−−−−−−►") -> −−−−−−−► | M18: =IFERROR(IF($J18=" ", " −−−−−−−► ", VLOOKUP(D18,'NTL Chartfields'!D:N,11,FALSE)),"−−−−−−−► ") -> −−−−−−−► | N18: =IFERROR(IF($E18=""," −−−−−−−► ",VLOOKUP(E18,'NTL Chartfields'!E:Q,13,FALSE)),"−−−−−−−►") -> −−−−−−−► | O18: =IFERROR(IF(J18=" ","−−−−−−−► ",VLOOKUP(D18,'NTL Chartfields'!D:R,15,FALSE)),"−−−−−−−►") -> −−−−−−−► | P18: =IFERROR(IF($J18=" ","−−−−−−−► ",VLOOKUP(D18,'NTL Chartfields'!D:O,12,FALSE)),"−−−−−−−► ") -> −−−−−−−► | Q18: =IFERROR(IF($J18="−−−−−−−►","−−−−−−−► ",VLOOKUP(D18,'NTL Chartfields'!D:M,10,FALSE)),"−−−−−−−► ") -> −−−−−−−► | U18: 44331
A19: 7 | G19: $ | J19: =IFERROR(IF($B19="","−−−−−−−►",(VLOOKUP(C19,'NTL Chartfields'!C:L,10,FALSE))),"−−−−−−−►") -> −−−−−−−► | L19: =IFERROR(IF($D19 ="", "−−−−−−−► ", VLOOKUP(D19,'NTL Chartfields'!D:P,13,FALSE)),"−−−−−−−►") -> −−−−−−−► | M19: =IFERROR(IF($J19=" ", " −−−−−−−► ", VLOOKUP(D19,'NTL Chartfields'!D:N,11,FALSE)),"−−−−−−−► ") -> −−−−−−−► | N19: =IFERROR(IF($E19=""," −−−−−−−► ",VLOOKUP(E19,'NTL Chartfields'!E:Q,13,FALSE)),"−−−−−−−►") -> −−−−−−−► | O19: =IFERROR(IF(J19=" ","−−−−−−−► ",VLOOKUP(D19,'NTL Chartfields'!D:R,15,FALSE)),"−−−−−−−►") -> −−−−−−−► | P19: =IFERROR(IF($J19=" ","−−−−−−−► ",VLOOKUP(D19,'NTL Chartfields'!D:O,12,FALSE)),"−−−−−−−► ") -> −−−−−−−► | Q19: =IFERROR(IF($J19="−−−−−−−►","−−−−−−−► ",VLOOKUP(D19,'NTL Chartfields'!D:M,10,FALSE)),"−−−−−−−► ") -> −−−−−−−► | U19: 44332
A20: 8 | G20: $ | J20: =IFERROR(IF($B20="","−−−−−−−►",(VLOOKUP(C20,'NTL Chartfields'!C:L,10,FALSE))),"−−−−−−−►") -> −−−−−−−► | L20: =IFERROR(IF($D20 ="", "−−−−−−−► ", VLOOKUP(D20,'NTL Chartfields'!D:P,13,FALSE)),"−−−−−−−►") -> −−−−−−−► | M20: =IFERROR(IF($J20=" ", " −−−−−−−► ", VLOOKUP(D20,'NTL Chartfields'!D:N,11,FALSE)),"−−−−−−−► ") -> −−−−−−−► | N20: =IFERROR(IF($E20=""," −−−−−−−► ",VLOOKUP(E20,'NTL Chartfields'!E:Q,13,FALSE)),"−−−−−−−►") -> −−−−−−−► | O20: =IFERROR(IF(J20=" ","−−−−−−−► ",VLOOKUP(D20,'NTL Chartfields'!D:R,15,FALSE)),"−−−−−−−►") -> −−−−−−−► | P20: =IFERROR(IF($J20=" ","−−−−−−−► ",VLOOKUP(D20,'NTL Chartfields'!D:O,12,FALSE)),"−−−−−−−► ") -> −−−−−−−► | Q20: =IFERROR(IF($J20="−−−−−−−►","−−−−−−−► ",VLOOKUP(D20,'NTL Chartfields'!D:M,10,FALSE)),"−−−−−−−► ") -> −−−−−−−► | U20: 44333
G21: Total: | H21: =SUM(G13:G20) -> 0 | U21: 44334
U22: 44335
U23: 44336
C24: Revised Date: 10/18/2022 | U24: 44337
C25: Modification: Must Net to "0", with the same Allocation | U25: 44338
C26: New CUNY Funding: Must Provide Budget Document | U26: 44339
C27: Intra-University: Funds Provided by other CUNY Entities on a One-time Basis. | U27: 44340
C28: N/A Means that the HCM Dept. is not active in CUNYfirst | U28: 44341
U29: 44342
U30: 44343
U31: 44344
U32: 44345
U33: 44346
U34: 44347
U35: 44348
U36: 44349
U37: 44350
U38: 44351
U39: 44352
U40: 44353
... U430: 44743

Sheet NTL Chartfields
A1: Divisions.Data.Ledger | B1: Divisions.Data.Division | C1: Department Descr | D1: Program Code Descr | E1: Funding Source Descr | F1: Source.Name | G1: Divisions.Data.Business Unit | H1: Budget Period | I1: Business Unit | J1: Account | K1: Account Description | L1: Department | M1: Fund Code | N1: Major Purpose | O1: Operating Unit | P1: Program Code | Q1: Funding Source | R1: Special Initiatives
A2: NTL-AUX | B2: VPAF | C2: Business Office/Fin Operations | D2: PC not applicable | E2: Supporting Services | F2: BAR02.xlsx | G2: BAR02 | H2: 2022 | I2: BAR02 | J2: 80001 | K2: Personal Service | L2: 80045 | M2: 12 | N2: 355 | O2: 9999 | P2: 99999 | Q2: 500000 | R2: 9999
A3: NTL-AUX | B3: VPAF | C3: Business Office/Fin Operations | D3: Legal Services | E3: Supporting Services | F3: BAR02.xlsx | G3: BAR02 | H3: 2022 | I3: BAR02 | J3: 80050 | K3: Non Personal Service | L3: 80045 | M3: 12 | N3: 355 | O3: 9999 | P3: 10294 | Q3: 500000 | R3: 9999
A4: NTL-AUX | B4: VPAF | C4: Business Office/Fin Operations | D4: Fringe Benefits | E4: Supporting Services | F4: BAR02.xlsx | G4: BAR02 | H4: 2022 | I4: BAR02 | J4: 80050 | K4: Non Personal Service | L4: 80045 | M4: 12 | N4: 355 | O4: 9999 | P4: 10510 | Q4: 500000 | R4: 9999
A5: NTL-AUX | B5: VPAF | C5: Business Office/Fin Operations | D5: Insurance | E5: Supporting Services | F5: BAR02.xlsx | G5: BAR02 | H5: 2022 | I5: BAR02 | J5: 80050 | K5: Non Personal Service | L5: 80045 | M5: 12 | N5: 355 | O5: 9999 | P5: 10527 | Q5: 500000 | R5: 9999
A6: NTL-AUX | B6: VPAF | C6: Business Office/Fin Operations | D6: Office Supplies | E6: Supporting Services | F6: BAR02.xlsx | G6: BAR02 | H6: 2022 | I6: BAR02 | J6: 80050 | K6: Non Personal Service | L6: 80045 | M6: 12 | N6: 355 | O6: 9999 | P6: 10529 | Q6: 500000 | R6: 9999
A7: NTL-AUX | B7: VPAF | C7: Business Office/Fin Operations | D7: Postage | E7: Supporting Services | F7: BAR02.xlsx | G7: BAR02 | H7: 2022 | I7: BAR02 | J7: 80050 | K7: Non Personal Service | L7: 80045 | M7: 12 | N7: 355 | O7: 9999 | P7: 10530 | Q7: 500000 | R7: 9999
A8: NTL-AUX | B8: VPAF | C8: Business Office/Fin Operations | D8: Professional Fees-Auditing | E8: Supporting Services | F8: BAR02.xlsx | G8: BAR02 | H8: 2022 | I8: BAR02 | J8: 80050 | K8: Non Personal Service | L8: 80045 | M8: 12 | N8: 355 | O8: 9999 | P8: 10531 | Q8: 500000 | R8: 9999
A9: NTL-AUX | B9: VPAF | C9: Business Office/Fin Operations | D9: Subscriptions/Memberships | E9: Supporting Services | F9: BAR02.xlsx | G9: BAR02 | H9: 2022 | I9: BAR02 | J9: 80050 | K9: Non Personal Service | L9: 80045 | M9: 12 | N9: 355 | O9: 9999 | P9: 10533 | Q9: 500000 | R9: 9999
A10: NTL-AUX | B10: VPAF | C10: Business Office/Fin Operations | D10: Software | E10: Supporting Services | F10: BAR02.xlsx | G10: BAR02 | H10: 2022 | I10: BAR02 | J10: 80050 | K10: Non Personal Service | L10: 80045 | M10: 12 | N10: 355 | O10: 9999 | P10: 10537 | Q10: 500000 | R10: 9999
A11: NTL-AUX | B11: VPAF | C11: Business Office/Fin Operations | D11: Payroll Service | E11: Supporting Services | F11: BAR02.xlsx | G11: BAR02 | H11: 2022 | I11: BAR02 | J11: 80050 | K11: Non Personal Service | L11: 80045 | M11: 12 | N11: 355 | O11: 9999 | P11: 10542 | Q11: 500000 | R11: 9999
A12: NTL-AUX | B12: VPSA | C12: Student Affairs-Life/Devel | D12: Commencement Ceremony | E12: Student Services | F12: BAR02.xlsx | G12: BAR02 | H12: 2022 | I12: BAR02 | J12: 80050 | K12: Non Personal Service | L12: 75060 | M12: 12 | N12: 300 | O12: 9999 | P12: 10127 | Q12: 500001 | R12: 9999
... A592: NTL | B592: VPAF | C592: VP Finance and Administration | D592: Administrative Management | E592: Admin & Finance(20-15) | F592: BAR55.xlsx | G592: BAR55 | H592: 2022 | I592: BAR55 | J592: 80050 | K592: Non Personal Service | L592: 80299 | M592: 12 | N592: 355 | O592: 9999 | P592: 40042 | Q592: 201500 | R592: 9999
A593: NTL | B593: Acad Aff | G593: BAR55
A594: NTL | B594: VPEM | G594: BAR55
A595: NTL | B595: Acad Aff | G595: BAR55
A596: NTL | B596: WSAS | G596: BAR55
A597: NTL | B597: WSAS | G597: BAR55
A598: NTL | B598: WSAS | G598: BAR55
A599: NTL | B599: WSAS | G599: BAR55
A600: NTL | B600: Acad Aff | G600: BAR55
A601: NTL | B601: Acad Aff | G601: BAR55
A602: NTL | B602: VPAF | G602: BAR55

Sheet Date Range for Forms
A1: Date
A3: 44743
A4: 44744
A5: 44745
A6: 44746
A7: 44747
A8: 44748
A9: 44749
A10: 44750
A11: 44751
A12: 44752
A13: 44753
A14: 44754
... A552: 45292

Sheet Date Range Data

Sheet Divisions
A1: Data.Division | B1: Data.CUNYFIRST GL Dept Code | C1: Data.Ledger | D1: Data.Business Unit | E1: Data.CUNYFIRST GL Dept. Description (University Shared)
A2: VPSA | B2: 75060 | C2: NTL-AUX | D2: BAR02 | E2: Student Affairs-Life/Devel
A3: VPEM | B3: 10393 | C3: NTL-AUX | D3: BAR02 | E3: Dean Of Student Services
A4: VPSA | B4: 75056 | C4: NTL-AUX | D4: BAR02 | E4: Student Affairs & Serv
A5: VPAF | B5: 80045 | C5: NTL-AUX | D5: BAR02 | E5: Business Office/Fin Operations
A6: VPSA | B6: 60021 | C6: NTL-ELC | D6: BAR04 | E6: Center, Child Care
A7: Acad Aff | B7: 10103 | C7: NTL | D7: BAR55 | E7: English & Speech
A8: VPEM | B8: 65017 | C8: NTL | D8: BAR55 | E8: College Now Program
A9: Acad Aff | B9: 70001 | C9: NTL | D9: BAR55 | E9: Academic Affairs
A10: MSPIA | B10: 10250 | C10: NTL | D10: BAR55 | E10: Public Affairs
A11: MSPIA | B11: 10405 | C11: NTL | D11: BAR55 | E11: Dean School of Public Affairs
A12: President | B12: 80250 | C12: NTL | D12: BAR55 | E12: President
... A67: VPAF | B67: 80045 | C67: NTL | D67: BAR55 | E67: Business Office/Fin Operations

Sheet Level 1
A1: Column1
A2: NTL
A3: NTL-Assoc
A4: NTL-AUX
A5: NTL-ELC

Sheet Level 2
A1: NTL-AUX | B1: NTL-Assoc | C1: NTL-ELC | D1: NTL
A2: VPAF | B2: VPSA | C2: VPSA | D2: VPAF
A3: VPSA | D3: VPSA
A4: VPEM | D4: VPEM
D5: ZSB
D6: WSAS
D7: MSPIA
D8: VPISD
D9: VPCA
D10: President
D11: PRES
D12: Acad Aff

Sheet Level 3
A1: NTL-AUX\VPAF | B1: NTL-AUX\VPSA | C1: NTL-AUX\VPEM | D1: NTL-Assoc\VPSA | E1: NTL-ELC\VPSA | F1: NTL\VPAF | G1: NTL\VPSA | H1: NTL\VPEM | I1: NTL\ZSB | J1: NTL\WSAS | K1: NTL\MSPIA | L1: NTL\VPISD | M1: NTL\VPCA | N1: NTL\President | O1: NTL\PRES | P1: NTL\Acad Aff
A2: Business Office/Fin Operations | B2: Student Affairs-Life/Devel | C2: Dean Of Student Services | D2: Student Affairs-Life/Devel | E2: Center, Child Care | F2: Business Office/Fin Operations | G2: Student Affairs-Life/Devel | H2: Dean Of Student Services | I2: Law | J2: Mathematics | K2: Public Affairs | L2: Library | M2: College Relations Operations | N2: President | O2: President
B3: Student Affairs & Serv | D3: Athletics & Recreation | F3: VP Finance and Administration | G3: Student Affairs & Serv | H3: International Student Services | I3: Management | J3: Center, Performing Arts | K3: Dean School of Public Affairs | L3: Computer Center Operations
D4: Special Programs | F4: Accounting Operations | G4: Athletics & Recreation | H4: Student Financial Aid | I4: Dean Of Business | J4: Dean Of Liberal Arts
D5: Student Center/Student Activ | F5: Campus Planning & Operations | G5: Student Placement Office | H5: Admissions Services | I5: Institute, Newman RE
D6: Student Health Services | F6: Facilities Planning Operations | G6: Ofc Students w/ Disabilities | I6: Center, Lawrence Field/Sm Bus
D7: Student Union | F7: Security Operations | I7: Center, Subotnick Fin Services
D8: Communica/News, Photo, Video | I8: Center, Weissman Intl Business
D9: Special Projects | I9: Executive Programs
D10: Special Services | I10: Graduate Programs
D11: Stud. Affairs-Stud. Life&Devel | I11: Accounting
D12: Student Activities | I12: Economics
D13: Communica/Editorial & Design | I13: Marketing
I14: Statistics
I15: Career Services Operations

Sheet Level 4
A1: NTL-AUX\VPAF\Business Office/Fin Operations | B1: NTL-AUX\VPSA\Student Affairs-Life/Devel | C1: NTL-AUX\VPEM\Dean Of Student Services | D1: NTL-AUX\VPSA\Student Affairs & Serv | E1: NTL-Assoc\VPSA\Student Affairs-Life/Devel | F1: NTL-Assoc\VPSA\Athletics & Recreation | G1: NTL-Assoc\VPSA\Special Programs | H1: NTL-Assoc\VPSA\Student Center/Student Activ | I1: NTL-Assoc\VPSA\Student Health Services | J1: NTL-Assoc\VPSA\Student Union | K1: NTL-Assoc\VPSA\Communica/News, Photo, Video | L1: NTL-Assoc\VPSA\Special Projects | M1: NTL-Assoc\VPSA\Special Services | N1: NTL-Assoc\VPSA\Stud. Affairs-Stud. Life&Devel | O1: NTL-Assoc\VPSA\Student Activities | P1: NTL-Assoc\VPSA\Communica/Editorial & Design | Q1: NTL-ELC\VPSA\Center, Child Care | R1: NTL\VPAF\Business Office/Fin Operations | S1: NTL\VPSA\Student Affairs-Life/Devel | T1: NTL\VPEM\Dean Of Student Services | U1: NTL\VPSA\Student Affairs & Serv | V1: NTL\VPSA\Athletics & Recreation | W1: NTL\ZSB\Law | X1: NTL\ZSB\Management | Y1: NTL\WSAS\Mathematics | Z1: NTL\MSPIA\Public Affairs | AA1: NTL\ZSB\Dean Of Business | AB1: NTL\MSPIA\Dean School of Public Affairs | AC1: NTL\WSAS\Center, Performing Arts | AD1: NTL\ZSB\Institute, Newman RE | AE1: NTL\ZSB\Center, Lawrence Field/Sm Bus | AF1: NTL\ZSB\Center, Subotnick Fin Services | AG1: NTL\ZSB\Center, Weissman Intl Business | AH1: NTL\ZSB\Executive Programs | AI1: NTL\VPEM\International Student Services | AJ1: NTL\VPEM\Student Financial Aid | AK1: NTL\VPSA\Student Placement Office | AL1: NTL\VPSA\Ofc Students w/ Disabilities | AM1: NTL\ZSB\Graduate Programs | AN1: NTL\WSAS\Dean Of Liberal Arts | AO1: NTL\VPAF\VP Finance and Administration | AP1: NTL\ZSB\Accounting | AQ1: NTL\ZSB\Economics | AR1: NTL\ZSB\Marketing | AS1: NTL\ZSB\Statistics | AT1: NTL\VPISD\Library | AU1: NTL\VPEM\Admissions Services | AV1: NTL\ZSB\Career Services Operations | AW1: NTL\VPAF\Accounting Operations | AX1: NTL\VPAF\Campus Planning & Operations | AY1: NTL\VPCA\College Relations Operations | AZ1: NTL\VPISD\Computer Center Operations | BA1: NTL\VPAF\Facilities Planning Operations | BB1: NTL\President\President | BC1: NTL\PRES\President | BD1: NTL\VPAF\Security Operations | BE1: Column57
A2: PC not applicable | B2: Commencement Ceremony | C2: PC not applicable | D2: PC not applicable | E2: Commencement Ceremony | F2: ATH-Student Aide Services | G2: PC not applicable | H2: Cleaners | I2: Student Assistants | J2: Bursar | K2: PC not applicable | L2: Accounting Unit Support | M2: ATH-Men's Baseball | N2: Accounting Unit Support | O2: Accounting Unit Support | P2: Accounting Unit Support | Q2: Head Teacher\Director | R2: PC not applicable | S2: Commencement Ceremony | T2: PC not applicable | U2: PC not applicable | V2: ATH-Student Aide Services | W2: Law Department | X2: Management Department | Y2: Master Financial Engineering | Z2: Non-Degree Domestic Program | AA2: Dean Zicklin School | AB2: Dean Marxe School | AC2: Baruch Performing Arts Center | AD2: Newman Real Estate Institute | AE2: Undergrad Programs/Activities | AF2: Subotnick Center | AG2: Weissman Center Intntnl Prgrm | AH2: Executive MBA | AI2: SWUFE--EM Support Services | AJ2: Pell Admin/Enrollment Services | AK2: Career Services | AL2: Students w/ Disabilities Srvcs | AM2: SWUFE PhD Program | AN2: Dean Weissman School | AO2: Administrative Management | AP2: Stan Ross Dept. of Accountancy | AQ2: Economics Dept.-Microstructure | AR2: Marketing-from Exe/Global | AS2: Statistics/CIS-from Exc/Global | AT2: Library, PCMH | AU2: Summer Leadership Academy | AV2: Graduate Career Services ZSB | AW2: Controller's Office | AX2: Conference Center | AY2: Alumni Events | AZ2: BCTC Staff Development | BA2: Campus Operations | BB2: Administrative Overhead | BC2: Administrative Overhead | BD2: Public Safety
A3: Legal Services | B3: Cleaners | C3: Academic Support Services | D3: Student Affairs Division | E3: Cleaners | F3: Coaching Salaries | G3: Fringe Benefits | H3: Student Assistants | I3: Health & Wellness Assc Dr | J3: Fringe Benefits | K3: Fringe Benefits | L3: Professional Fees-Auditing | M3: ATH-Men's Basketball | N3: Professional Fees-Auditing | O3: Professional Fees-Auditing | P3: Professional Fees-Auditing | Q3: Assistant Teachers | R3: Legal Services | S3: Cleaners | T3: Academic Support Services | U3: Student Affairs Division | V3: Coaching Salaries | X3: Sigma Iota Epsilon | Z3: Executive MPA | AA3: RZicklin Center Corp Integrity | AB3: Acad Administration & Programs | AC3: BPAC Ticket Income | AD3: Real Estate Certificate Prgm | AH3: Executive MS Finance | AM3: SWUFE 3+1 - Chengdu China | AN3: Technology Fund | AQ3: Finance-from Exe/Global | AT3: Library, Friends of | AY3: Real Estate Club | AZ3: BCTC Media Support
A4: Fringe Benefits | B4: Computer Specialist | E4: Computer Specialist | F4: PC not applicable | G4: Accounting Unit Support | H4: Student Life Building Manager | I4: APA Training Psychologist | J4: Accounting Unit Support | K4: Accounting Unit Support | L4: Administrative Overhead | M4: ATH-Men's cross country | N4: Administrative Overhead | O4: Administrative Overhead | P4: Administrative Overhead | Q4: P/T Aides | R4: Fringe Benefits | S4: Computer Specialist | V4: PC not applicable | AA4: Non-Degree Programs | AH4: Executive MS-ILR | AM4: Management Department | AN4: SWUFE - WSAS | AT4: Library Miscellaneous | AZ4: BCTC Hardware Replacement
A5: Insurance | B5: Director of Student Activities | E5: Director of Student Activities | F5: ATH-Athletic Office | G5: Professional Fees-Auditing | H5: Legal Services | I5: Part time coordinator | J5: Professional Fees-Auditing | K5: Professional Fees-Auditing | L5: PC not applicable | M5: ATH-Men's Soccer | N5: PC not applicable | O5: PC not applicable | Q5: Head Teacher | R5: Insurance | S5: Director of Student Activities | V5: ATH-Athletic Office | AA5: Non-Exe/Global Marketing Expns | AH5: Executive Business DPS | AM5: Zicklin-Graduate Admissions | AN5: WSAS Dean's ADJ Replacement | AT5: Library Corporation
A6: Office Supplies | B6: Office Assistants | E6: Office Assistants | F6: Athletic Trainer | G6: Administrative Overhead | H6: Fringe Benefits | I6: PC not applicable | J6: Elections | K6: Administrative Overhead | M6: ATH-Men's Swimming | Q6: College Assistant | R6: Office Supplies | S6: Office Assistants | V6: Athletic Trainer | AA6: Zicklin Global Collaboration | AH6: Executive MS HR Management | AM6: Graduate Academic Advising ZSB | AT6: GIS & Data Services Support
A7: Postage | B7: Overtime | E7: Overtime | F7: ATH-Recreation/Intramurals | H7: Accounting Unit Support | I7: Staff Development | J7: Administrative Overhead | M7: ATH-Men's Volleyball | Q7: Grant-Educational Associate | R7: Postage | S7: Overtime | V7: ATH-Recreation/Intramurals | AA7: Global MS Entrepreneurship | AH7: Exe MBA Healthcare Admin | AT7: Coronavirus
A8: Professional Fees-Auditing | B8: Office Manager Salary | E8: Office Manager Salary | F8: Fringe Benefits | H8: Furniture & Fixtures | I8: Fringe Benefits | J8: PC not applicable | M8: ATH-Women's Cross Country | Q8: Grant-Licensed Social Worker | R8: Professional Fees-Auditing | S8: Office Manager Salary | V8: Fringe Benefits | AA8: Dean's Honors Ceremony | AH8: Exe MS Information Systems
A9: Subscriptions/Memberships | B9: Graduate Assistants | E9: Graduate Assistants | F9: Accounting Unit Support | H9: Insurance | I9: Accounting Unit Support | M9: ATH-Women's Softball | Q9: Events | R9: Subscriptions/Memberships | S9: Graduate Assistants | V9: Accounting Unit Support | AA9: Schwartz Faculty Activity | AH9: Executive MPA
A10: Software | B10: Student Assistants | E10: Student Assistants | F10: Insurance | H10: Office Supplies | I10: Equipment | M10: ATH-Women's Volleyball | Q10: Parent Development | R10: Software | S10: Student Assistants | V10: Insurance | AA10: Undergrad Programs/Activities
A11: Payroll Service | B11: PC not applicable | E11: PC not applicable | F11: Professional Fees-Auditing | H11: Professional Fees-Auditing | I11: Furniture & Fixtures | M11: Volleyball - Alumni | Q11: Staff Development | R11: Payroll Service | S11: PC not applicable | V11: Professional Fees-Auditing | AA11: SWUFE Management Fee
A12: Endowment Funds 3 | B12: Commission Sales-Senior Gifts | E12: Commission Sales-Senior Gifts | F12: Photography | H12: Information Technology | I12: Office Supplies | M12: PC not applicable | Q12: Trips | R12: Endowment Funds 3 | S12: Commission Sales-Senior Gifts | V12: Photography | AA12: Confucius Inst Global Finance
A13: Endowment Funds 4 | B13: Leadership Development Program | E13: Leadership Development Program | F13: Student-Athlete Advisory Comm | H13: Electricity | I13: Professional Fees-Auditing | Q13: Fringe Benefits | R13: Endowment Funds 4 | S13: Leadership Development Program | V13: Student-Athlete Advisory Comm | AA13: Business Consulting Program
B14: Fringe Benefits | E14: Fringe Benefits | F14: Intercollegiate Teams | H14: Water | I14: Cont. Health Beth Israel | Q14: Accounting Unit Support | S14: Fringe Benefits | V14: Intercollegiate Teams | AA14: ZSB-Dean International Prg
B15: Accounting Unit Support | E15: Accounting Unit Support | F15: Covid Testing | H15: Elevator Maintenance | I15: Medical Supplies | Q15: Advertising | S15: Accounting Unit Support | V15: Covid Testing | AA15: Dean's Office Pilot Program
B16: Equipment | E16: Equipment | F16: ARC Maintenance Supplies | H16: Maintenance supplies | I16: Health fair, Wellness Days | Q16: Classroom Supplies & Materials | S16: Equipment | V16: ARC Maintenance Supplies | AA16: Global Executive MBA Program
B17: Office Supplies | E17: Office Supplies | F17: Administrative Overhead | H17: Public Safety | I17: Administrative Overhead | Q17: Fees & Permits | S17: Office Supplies | V17: Administrative Overhead | AA17: Global MS Finance-1
B18: Professional Fees-Auditing | E18: Professional Fees-Auditing | F18: Athletics & Recreation Complex | H18: Skilled Trades | Q18: Furniture & Fixtures | S18: Professional Fees-Auditing | V18: Athletics & Recreation Complex | AA18: Global MS Finance–2
B19: Community Building Event | E19: Community Building Event | H19: Consultants | Q19: Insurance | S19: Community Building Event
B20: Computer Equipment | E20: Computer Equipment | H20: Security Deposits | Q20: Office Supplies | S20: Computer Equipment
B21: Maintenance Supplies | E21: Maintenance Supplies | H21: Miscellaneous | Q21: Postage | S21: Maintenance Supplies
B22: Team Baruch Training | E22: Team Baruch Training | H22: Administrative Overhead | Q22: Professional Fees-Auditing | S22: Team Baruch Training
B23: Administrative Overhead | E23: Administrative Overhead | H23: Lease Payments | Q23: Refreshments | S23: Administrative Overhead
B24: Student Life | E24: Student Life | Q24: Subscriptions/Memberships | S24: Student Life
Q25: Time Warner
Q26: Grant-Travel
Q27: Grant-Indirect Cost

Sheet Level 5
A1: NTL-AUX\VPAF\Business Office/Fin Operations\PC not applicable | B1: NTL-AUX\VPAF\Business Office/Fin Operations\Legal Services | C1: NTL-AUX\VPAF\Business Office/Fin Operations\Fringe Benefits | D1: NTL-AUX\VPAF\Business Office/Fin Operations\Insurance | E1: NTL-AUX\VPAF\Business Office/Fin Operations\Office Supplies | F1: NTL-AUX\VPAF\Business Office/Fin Operations\Postage | G1: NTL-AUX\VPAF\Business Office/Fin Operations\Professional Fees-Auditing | H1: NTL-AUX\VPAF\Business Office/Fin Operations\Subscriptions/Memberships | I1: NTL-AUX\VPAF\Business Office/Fin Operations\Software | J1: NTL-AUX\VPAF\Business Office/Fin Operations\Payroll Service | K1: NTL-AUX\VPSA\Student Affairs-Life/Devel\Commencement Ceremony | L1: NTL-AUX\VPSA\Student Affairs-Life/Devel\Cleaners | M1: NTL-AUX\VPSA\Student Affairs-Life/Devel\Computer Specialist | N1: NTL-AUX\VPSA\Student Affairs-Life/Devel\Director of Student Activities | O1: NTL-AUX\VPSA\Student Affairs-Life/Devel\Office Assistants | P1: NTL-AUX\VPSA\Student Affairs-Life/Devel\Overtime | Q1: NTL-AUX\VPSA\Student Affairs-Life/Devel\Office Manager Salary | R1: NTL-AUX\VPSA\Student Affairs-Life/Devel\Graduate Assistants | S1: NTL-AUX\VPSA\Student Affairs-Life/Devel\Student Assistants | T1: NTL-AUX\VPSA\Student Affairs-Life/Devel\PC not applicable | U1: NTL-AUX\VPEM\Dean Of Student Services\PC not applicable | V1: NTL-AUX\VPSA\Student Affairs & Serv\PC not applicable | W1: NTL-AUX\VPSA\Student Affairs-Life/Devel\Commission Sales-Senior Gifts | X1: NTL-AUX\VPSA\Student Affairs-Life/Devel\Leadership Development Program | Y1: NTL-AUX\VPSA\Student Affairs-Life/Devel\Fringe Benefits | Z1: NTL-AUX\VPSA\Student Affairs-Life/Devel\Accounting Unit Support | AA1: NTL-AUX\VPSA\Student Affairs-Life/Devel\Equipment | AB1: NTL-AUX\VPSA\Student Affairs-Life/Devel\Office Supplies | AC1: NTL-AUX\VPSA\Student Affairs-Life/Devel\Professional Fees-Auditing | AD1: NTL-AUX\VPSA\Student Affairs-Life/Devel\Community Building Event | AE1: NTL-AUX\VPSA\Student Affairs-Life/Devel\Computer Equipment | AF1: NTL-AUX\VPSA\Student Affairs-Life/Devel\Maintenance Supplies | AG1: NTL-AUX\VPSA\Student Affairs-Life/Devel\Team Baruch Training | AH1: NTL-AUX\VPSA\Student Affairs-Life/Devel\Administrative Overhead | AI1: NTL-AUX\VPEM\Dean Of Student Services\Academic Support Services | AJ1: NTL-AUX\VPSA\Student Affairs & Serv\Student Affairs Division | AK1: NTL-AUX\VPAF\Business Office/Fin Operations\Endowment Funds 3 | AL1: NTL-AUX\VPAF\Business Office/Fin Operations\Endowment Funds 4 | AM1: NTL-AUX\VPSA\Student Affairs-Life/Devel\Student Life | AN1: NTL-Assoc\VPSA\Student Affairs-Life/Devel\Commencement Ceremony | AO1: NTL-Assoc\VPSA\Student Affairs-Life/Devel\Cleaners | AP1: NTL-Assoc\VPSA\Student Affairs-Life/Devel\Computer Specialist | AQ1: NTL-Assoc\VPSA\Student Affairs-Life/Devel\Director of Student Activities | AR1: NTL-Assoc\VPSA\Student Affairs-Life/Devel\Office Assistants | AS1: NTL-Assoc\VPSA\Student Affairs-Life/Devel\Overtime | AT1: NTL-Assoc\VPSA\Student Affairs-Life/Devel\Office Manager Salary | AU1: NTL-Assoc\VPSA\Student Affairs-Life/Devel\Graduate Assistants | AV1: NTL-Assoc\VPSA\Student Affairs-Life/Devel\Student Assistants | AW1: NTL-Assoc\VPSA\Student Affairs-Life/Devel\PC not applicable | AX1: NTL-Assoc\VPSA\Athletics & Recreation\ATH-Student Aide Services | AY1: NTL-Assoc\VPSA\Athletics & Recreation\Coaching Salaries | AZ1: NTL-Assoc\VPSA\Athletics & Recreation\PC not applicable | BA1: NTL-Assoc\VPSA\Athletics & Recreation\ATH-Athletic Office | BB1: NTL-Assoc\VPSA\Athletics & Recreation\Athletic Trainer | BC1: NTL-Assoc\VPSA\Athletics & Recreation\ATH-Recreation/Intramurals | BD1: NTL-Assoc\VPSA\Athletics & Recreation\Fringe Benefits | BE1: NTL-Assoc\VPSA\Athletics & Recreation\Accounting Unit Support | BF1: NTL-Assoc\VPSA\Athletics & Recreation\Insurance | BG1: NTL-Assoc\VPSA\Athletics & Recreation\Professional Fees-Auditing | BH1: NTL-Assoc\VPSA\Athletics & Recreation\Photography | BI1: NTL-Assoc\VPSA\Athletics & Recreation\Student-Athlete Advisory Comm | BJ1: NTL-Assoc\VPSA\Athletics & Recreation\Intercollegiate Teams | BK1: NTL-Assoc\VPSA\Athletics & Recreation\Covid Testing | BL1: NTL-Assoc\VPSA\Athletics & Recreation\ARC Maintenance Supplies | BM1: NTL-Assoc\VPSA\Athletics & Recreation\Administrative Overhead | BN1: NTL-Assoc\VPSA\Special Programs\PC not applicable | BO1: NTL-Assoc\VPSA\Special Programs\Fringe Benefits | BP1: NTL-Assoc\VPSA\Special Programs\Accounting Unit Support | BQ1: NTL-Assoc\VPSA\Special Programs\Professional Fees-Auditing | BR1: NTL-Assoc\VPSA\Special Programs\Administrative Overhead | BS1: NTL-Assoc\VPSA\Student Center/Student Activ\Cleaners | BT1: NTL-Assoc\VPSA\Student Center/Student Activ\Student Assistants | BU1: NTL-Assoc\VPSA\Student Center/Student Activ\Student Life Building Manager | BV1: NTL-Assoc\VPSA\Student Health Services\Student Assistants | BW1: NTL-Assoc\VPSA\Student Health Services\Health & Wellness Assc Dr | BX1: NTL-Assoc\VPSA\Student Health Services\APA Training Psychologist | BY1: NTL-Assoc\VPSA\Student Health Services\Part time coordinator | BZ1: NTL-Assoc\VPSA\Student Health Services\PC not applicable | CA1: NTL-Assoc\VPSA\Student Union\Bursar | CB1: NTL-Assoc\VPSA\Communica/News, Photo, Video\PC not applicable | CC1: NTL-Assoc\VPSA\Special Projects\Accounting Unit Support | CD1: NTL-Assoc\VPSA\Special Projects\Professional Fees-Auditing | CE1: NTL-Assoc\VPSA\Special Projects\Administrative Overhead | CF1: NTL-Assoc\VPSA\Special Projects\PC not applicable | CG1: NTL-Assoc\VPSA\Special Services\ATH-Men's Baseball | CH1: NTL-Assoc\VPSA\Special Services\ATH-Men's Basketball | CI1: NTL-Assoc\VPSA\Special Services\ATH-Men's cross country | CJ1: NTL-Assoc\VPSA\Special Services\ATH-Men's Soccer | CK1: NTL-Assoc\VPSA\Special Services\ATH-Men's Swimming | CL1: NTL-Assoc\VPSA\Special Services\ATH-Men's Volleyball | CM1: NTL-Assoc\VPSA\Special Services\ATH-Women's Cross Country | CN1: NTL-Assoc\VPSA\Special Services\ATH-Women's Softball | CO1: NTL-Assoc\VPSA\Special Services\ATH-Women's Volleyball | CP1: NTL-Assoc\VPSA\Special Services\Volleyball - Alumni | CQ1: NTL-Assoc\VPSA\Special Services\PC not applicable | CR1: NTL-Assoc\VPSA\Stud. Affairs-Stud. Life&Devel\Accounting Unit Support | CS1: NTL-Assoc\VPSA\Stud. Affairs-Stud. Life&Devel\Professional Fees-Auditing | CT1: NTL-Assoc\VPSA\Stud. Affairs-Stud. Life&Devel\Administrative Overhead | CU1: NTL-Assoc\VPSA\Stud. Affairs-Stud. Life&Devel\PC not applicable | CV1: NTL-Assoc\VPSA\Student Activities\Accounting Unit Support | CW1: NTL-Assoc\VPSA\Student Activities\Professional Fees-Auditing | CX1: NTL-Assoc\VPSA\Student Activities\Administrative Overhead | CY1: NTL-Assoc\VPSA\Student Activities\PC not applicable | CZ1: NTL-Assoc\VPSA\Student Affairs-Life/Devel\Commission Sales-Senior Gifts | DA1: NTL-Assoc\VPSA\Student Affairs-Life/Devel\Leadership Development Program | DB1: NTL-Assoc\VPSA\Student Affairs-Life/Devel\Fringe Benefits | DC1: NTL-Assoc\VPSA\Student Affairs-Life/Devel\Accounting Unit Support | DD1: NTL-Assoc\VPSA\Student Affairs-Life/Devel\Equipment | DE1: NTL-Assoc\VPSA\Student Affairs-Life/Devel\Office Supplies | DF1: NTL-Assoc\VPSA\Student Affairs-Life/Devel\Professional Fees-Auditing | DG1: NTL-Assoc\VPSA\Student Affairs-Life/Devel\Community Building Event | DH1: NTL-Assoc\VPSA\Student Affairs-Life/Devel\Computer Equipment | DI1: NTL-Assoc\VPSA\Student Affairs-Life/Devel\Maintenance Supplies | DJ1: NTL-Assoc\VPSA\Student Affairs-Life/Devel\Team Baruch Training | DK1: NTL-Assoc\VPSA\Student Affairs-Life/Devel\Administrative Overhead | DL1: NTL-Assoc\VPSA\Student Center/Student Activ\Legal Services | DM1: NTL-Assoc\VPSA\Student Center/Student Activ\Fringe Benefits | DN1: NTL-Assoc\VPSA\Student Center/Student Activ\Accounting Unit Support | DO1: NTL-Assoc\VPSA\Student Center/Student Activ\Furniture & Fixtures | DP1: NTL-Assoc\VPSA\Student Center/Student Activ\Insurance | DQ1: NTL-Assoc\VPSA\Student Center/Student Activ\Office Supplies | DR1: NTL-Assoc\VPSA\Student Center/Student Activ\Professional Fees-Auditing | DS1: NTL-Assoc\VPSA\Student Center/Student Activ\Information Technology | DT1: NTL-Assoc\VPSA\Student Center/Student Activ\Electricity | DU1: NTL-Assoc\VPSA\Student Center/Student Activ\Water | DV1: NTL-Assoc\VPSA\Student Center/Student Activ\Elevator Maintenance | DW1: NTL-Assoc\VPSA\Student Center/Student Activ\Maintenance supplies | DX1: NTL-Assoc\VPSA\Student Center/Student Activ\Public Safety | DY1: NTL-Assoc\VPSA\Student Center/Student Activ\Skilled Trades | DZ1: NTL-Assoc\VPSA\Student Center/Student Activ\Consultants | EA1: NTL-Assoc\VPSA\Student Center/Student Activ\Security Deposits | EB1: NTL-Assoc\VPSA\Student Center/Student Activ\Miscellaneous | EC1: NTL-Assoc\VPSA\Student Center/Student Activ\Administrative Overhead | ED1: NTL-Assoc\VPSA\Student Center/Student Activ\Lease Payments | EE1: NTL-Assoc\VPSA\Student Health Services\Staff Development | EF1: NTL-Assoc\VPSA\Student Health Services\Fringe Benefits | EG1: NTL-Assoc\VPSA\Student Health Services\Accounting Unit Support | EH1: NTL-Assoc\VPSA\Student Health Services\Equipment | EI1: NTL-Assoc\VPSA\Student Health Services\Furniture & Fixtures | EJ1: NTL-Assoc\VPSA\Student Health Services\Office Supplies | EK1: NTL-Assoc\VPSA\Student Health Services\Professional Fees-Auditing | EL1: NTL-Assoc\VPSA\Student Health Services\Cont. Health Beth Israel | EM1: NTL-Assoc\VPSA\Student Health Services\Medical Supplies | EN1: NTL-Assoc\VPSA\Student Health Services\Health fair, Wellness Days | EO1: NTL-Assoc\VPSA\Student Health Services\Administrative Overhead | EP1: NTL-Assoc\VPSA\Student Union\Fringe Benefits | EQ1: NTL-Assoc\VPSA\Student Union\Accounting Unit Support | ER1: NTL-Assoc\VPSA\Student Union\Professional Fees-Auditing | ES1: NTL-Assoc\VPSA\Student Union\Elections | ET1: NTL-Assoc\VPSA\Student Union\Administrative Overhead | EU1: NTL-Assoc\VPSA\Student Union\PC not applicable | EV1: NTL-Assoc\VPSA\Communica/Editorial & Design\Accounting Unit Support | EW1: NTL-Assoc\VPSA\Communica/Editorial & Design\Professional Fees-Auditing | EX1: NTL-Assoc\VPSA\Communica/Editorial & Design\Administrative Overhead | EY1: NTL-Assoc\VPSA\Communica/News, Photo, Video\Fringe Benefits | EZ1: NTL-Assoc\VPSA\Communica/News, Photo, Video\Accounting Unit Support | FA1: NTL-Assoc\VPSA\Communica/News, Photo, Video\Professional Fees-Auditing | FB1: NTL-Assoc\VPSA\Communica/News, Photo, Video\Administrative Overhead | FC1: NTL-Assoc\VPSA\Athletics & Recreation\Athletics & Recreation Complex | FD1: NTL-Assoc\VPSA\Student Affairs-Life/Devel\Student Life | FE1: NTL-ELC\VPSA\Center, Child Care\Head Teacher\Director | FF1: NTL-ELC\VPSA\Center, Child Care\Assistant Teachers | FG1: NTL-ELC\VPSA\Center, Child Care\P/T Aides | FH1: NTL-ELC\VPSA\Center, Child Care\Head Teacher | FI1: NTL-ELC\VPSA\Center, Child Care\College Assistant | FJ1: NTL-ELC\VPSA\Center, Child Care\Grant-Educational Associate | FK1: NTL-ELC\VPSA\Center, Child Care\Grant-Licensed Social Worker | FL1: NTL-ELC\VPSA\Center, Child Care\Events | FM1: NTL-ELC\VPSA\Center, Child Care\Parent Development | FN1: NTL-ELC\VPSA\Center, Child Care\Staff Development | FO1: NTL-ELC\VPSA\Center, Child Care\Trips | FP1: NTL-ELC\VPSA\Center, Child Care\Fringe Benefits | FQ1: NTL-ELC\VPSA\Center, Child Care\Accounting Unit Support | FR1: NTL-ELC\VPSA\Center, Child Care\Advertising | FS1: NTL-ELC\VPSA\Center, Child Care\Classroom Supplies & Materials | FT1: NTL-ELC\VPSA\Center, Child Care\Fees & Permits | FU1: NTL-ELC\VPSA\Center, Child Care\Furniture & Fixtures | FV1: NTL-ELC\VPSA\Center, Child Care\Insurance | FW1: NTL-ELC\VPSA\Center, Child Care\Office Supplies | FX1: NTL-ELC\VPSA\Center, Child Care\Postage | FY1: NTL-ELC\VPSA\Center, Child Care\Professional Fees-Auditing | FZ1: NTL-ELC\VPSA\Center, Child Care\Refreshments | GA1: NTL-ELC\VPSA\Center, Child Care\Subscriptions/Memberships | GB1: NTL-ELC\VPSA\Center, Child Care\Time Warner | GC1: NTL-ELC\VPSA\Center, Child Care\Grant-Travel | GD1: NTL-ELC\VPSA\Center, Child Care\Grant-Indirect Cost | GE1: NTL\VPAF\Business Office/Fin Operations\PC not applicable | GF1: NTL\VPAF\Business Office/Fin Operations\Legal Services | GG1: NTL\VPAF\Business Office/Fin Operations\Fringe Benefits | GH1: NTL\VPAF\Business Office/Fin Operations\Insurance | GI1: NTL\VPAF\Business Office/Fin Operations\Office Supplies | GJ1: NTL\VPAF\Business Office/Fin Operations\Postage | GK1: NTL\VPAF\Business Office/Fin Operations\Professional Fees-Auditing | GL1: NTL\VPAF\Business Office/Fin Operations\Subscriptions/Memberships | GM1: NTL\VPAF\Business Office/Fin Operations\Software | GN1: NTL\VPAF\Business Office/Fin Operations\Payroll Service | GO1: NTL\VPSA\Student Affairs-Life/Devel\Commencement Ceremony | GP1: NTL\VPSA\Student Affairs-Life/Devel\Cleaners | GQ1: NTL\VPSA\Student Affairs-Life/Devel\Computer Specialist | GR1: NTL\VPSA\Student Affairs-Life/Devel\Director of Student Activities | GS1: NTL\VPSA\Student Affairs-Life/Devel\Office Assistants | GT1: NTL\VPSA\Student Affairs-Life/Devel\Overtime | GU1: NTL\VPSA\Student Affairs-Life/Devel\Office Manager Salary | GV1: NTL\VPSA\Student Affairs-Life/Devel\Graduate Assistants | GW1: NTL\VPSA\Student Affairs-Life/Devel\Student Assistants | GX1: NTL\VPSA\Student Affairs-Life/Devel\PC not applicable | GY1: NTL\VPEM\Dean Of Student Services\PC not applicable | GZ1: NTL\VPSA\Student Affairs & Serv\PC not applicable | HA1: NTL\VPSA\Athletics & Recreation\ATH-Student Aide Services | HB1: NTL\VPSA\Athletics & Recreation\Coaching Salaries | HC1: NTL\VPSA\Athletics & Recreation\PC not applicable | HD1: NTL\VPSA\Athletics & Recreation\ATH-Athletic Office | HE1: NTL\VPSA\Athletics & Recreation\Athletic Trainer | HF1: NTL\VPSA\Athletics & Recreation\ATH-Recreation/Intramurals | HG1: NTL\VPSA\Athletics & Recreation\Fringe Benefits | HH1: NTL\VPSA\Athletics & Recreation\Accounting Unit Support | HI1: NTL\VPSA\Athletics & Recreation\Insurance | HJ1: NTL\VPSA\Athletics & Recreation\Professional Fees-Auditing | HK1: NTL\VPSA\Athletics & Recreation\Photography | HL1: NTL\VPSA\Athletics & Recreation\Student-Athlete Advisory Comm | HM1: NTL\VPSA\Athletics & Recreation\Intercollegiate Teams | HN1: NTL\VPSA\Athletics & Recreation\Covid Testing | HO1: NTL\VPSA\Athletics & Recreation\ARC Maintenance Supplies | HP1: NTL\VPSA\Athletics & Recreation\Administrative Overhead | HQ1: NTL\VPSA\Student Affairs-Life/Devel\Commission Sales-Senior Gifts | HR1: NTL\VPSA\Student Affairs-Life/Devel\Leadership Development Program | HS1: NTL\VPSA\Student Affairs-Life/Devel\Fringe Benefits | HT1: NTL\VPSA\Student Affairs-Life/Devel\Accounting Unit Support | HU1: NTL\VPSA\Student Affairs-Life/Devel\Equipment | HV1: NTL\VPSA\Student Affairs-Life/Devel\Office Supplies | HW1: NTL\VPSA\Student Affairs-Life/Devel\Professional Fees-Auditing | HX1: NTL\VPSA\Student Affairs-Life/Devel\Community Building Event | HY1: NTL\VPSA\Student Affairs-Life/Devel\Computer Equipment | HZ1: NTL\VPSA\Student Affairs-Life/Devel\Maintenance Supplies | IA1: NTL\VPSA\Student Affairs-Life/Devel\Team Baruch Training | IB1: NTL\VPSA\Student Affairs-Life/Devel\Administrative Overhead | IC1: NTL\ZSB\Law\Law Department | ID1: NTL\ZSB\Management\Management Department | IE1: NTL\WSAS\Mathematics\Master Financial Engineering | IF1: NTL\MSPIA\Public Affairs\Non-Degree Domestic Program | IG1: NTL\MSPIA\Public Affairs\Executive MPA | IH1: NTL\ZSB\Dean Of Business\Dean Zicklin School | II1: NTL\ZSB\Dean Of Business\RZicklin Center Corp Integrity | IJ1: NTL\ZSB\Dean Of Business\Non-Degree Programs | IK1: NTL\ZSB\Dean Of Business\Non-Exe/Global Marketing Expns | IL1: NTL\ZSB\Dean Of Business\Zicklin Global Collaboration | IM1: NTL\ZSB\Dean Of Business\Global MS Entrepreneurship | IN1: NTL\VPEM\Dean Of Student Services\Academic Support Services | IO1: NTL\MSPIA\Dean School of Public Affairs\Dean Marxe School | IP1: NTL\MSPIA\Dean School of Public Affairs\Acad Administration & Programs | IQ1: NTL\WSAS\Center, Performing Arts\Baruch Performing Arts Center | IR1: NTL\WSAS\Center, Performing Arts\BPAC Ticket Income | IS1: NTL\ZSB\Institute, Newman RE\Newman Real Estate Institute | IT1: NTL\ZSB\Institute, Newman RE\Real Estate Certificate Prgm | IU1: NTL\ZSB\Center, Lawrence Field/Sm Bus\Undergrad Programs/Activities | IV1: NTL\ZSB\Center, Subotnick Fin Services\Subotnick Center | IW1: NTL\ZSB\Center, Weissman Intl Business\Weissman Center Intntnl Prgrm | IX1: NTL\ZSB\Executive Programs\Executive MBA | IY1: NTL\ZSB\Executive Programs\Executive MS Finance | IZ1: NTL\ZSB\Executive Programs\Executive MS-ILR | JA1: NTL\ZSB\Executive Programs\Executive Business DPS | JB1: NTL\ZSB\Executive Programs\Executive MS HR Management | JC1: NTL\ZSB\Executive Programs\Exe MBA Healthcare Admin | JD1: NTL\ZSB\Executive Programs\Exe MS Information Systems | JE1: NTL\VPEM\International Student Services\SWUFE--EM Support Services | JF1: NTL\VPSA\Student Affairs & Serv\Student Affairs Division | JG1: NTL\VPEM\Student Financial Aid\Pell Admin/Enrollment Services | JH1: NTL\VPSA\Student Placement Office\Career Services | JI1: NTL\VPSA\Ofc Students w/ Disabilities\Students w/ Disabilities Srvcs | JJ1: NTL\VPAF\Business Office/Fin Operations\Endowment Funds 3 | JK1: NTL\VPAF\Business Office/Fin Operations\Endowment Funds 4 | JL1: NTL\ZSB\Graduate Programs\SWUFE PhD Program | JM1: NTL\ZSB\Graduate Programs\SWUFE 3+1 - Chengdu China | JN1: NTL\WSAS\Dean Of Liberal Arts\Dean Weissman School | JO1: NTL\WSAS\Dean Of Liberal Arts\Technology Fund | JP1: NTL\WSAS\Dean Of Liberal Arts\SWUFE - WSAS | JQ1: NTL\WSAS\Dean Of Liberal Arts\WSAS Dean's ADJ Replacement | JR1: NTL\VPAF\VP Finance and Administration\Administrative Management | JS1: NTL\ZSB\Accounting\Stan Ross Dept. of Accountancy | JT1: NTL\ZSB\Economics\Economics Dept.-Microstructure | JU1: NTL\ZSB\Economics\Finance-from Exe/Global | JV1: NTL\ZSB\Management\Sigma Iota Epsilon | JW1: NTL\ZSB\Marketing\Marketing-from Exe/Global | JX1: NTL\ZSB\Statistics\Statistics/CIS-from Exc/Global | JY1: NTL\ZSB\Dean Of Business\Dean's Honors Ceremony | JZ1: NTL\ZSB\Dean Of Business\Schwartz Faculty Activity | KA1: NTL\ZSB\Dean Of Business\Undergrad Programs/Activities | KB1: NTL\ZSB\Dean Of Business\SWUFE Management Fee | KC1: NTL\ZSB\Dean Of Business\Confucius Inst Global Finance | KD1: NTL\ZSB\Dean Of Business\Business Consulting Program | KE1: NTL\ZSB\Dean Of Business\ZSB-Dean International Prg | KF1: NTL\ZSB\Dean Of Business\Dean's Office Pilot Program | KG1: NTL\ZSB\Dean Of Business\Global Executive MBA Program | KH1: NTL\ZSB\Dean Of Business\Global MS Finance-1 | KI1: NTL\ZSB\Dean Of Business\Global MS Finance–2 | KJ1: NTL\ZSB\Executive Programs\Executive MPA | KK1: NTL\VPISD\Library\Library, PCMH | KL1: NTL\VPISD\Library\Library, Friends of | KM1: NTL\VPISD\Library\Library Miscellaneous | KN1: NTL\VPISD\Library\Library Corporation | KO1: NTL\VPISD\Library\GIS & Data Services Support | KP1: NTL\VPISD\Library\Coronavirus | KQ1: NTL\VPEM\Admissions Services\Summer Leadership Academy | KR1: NTL\VPSA\Athletics & Recreation\Athletics & Recreation Complex | KS1: NTL\ZSB\Career Services Operations\Graduate Career Services ZSB | KT1: NTL\VPSA\Student Affairs-Life/Devel\Student Life | KU1: NTL\VPAF\Accounting Operations\Controller's Office | KV1: NTL\VPAF\Campus Planning & Operations\Conference Center | KW1: NTL\VPCA\College Relations Operations\Alumni Events | KX1: NTL\VPCA\College Relations Operations\Real Estate Club | KY1: NTL\VPISD\Computer Center Operations\BCTC Staff Development | KZ1: NTL\VPISD\Computer Center Operations\BCTC Media Support | LA1: NTL\VPISD\Computer Center Operations\BCTC Hardware Replacement | LB1: NTL\ZSB\Graduate Programs\Management Department | LC1: NTL\ZSB\Graduate Programs\Zicklin-Graduate Admissions | LD1: NTL\ZSB\Graduate Programs\Graduate Academic Advising ZSB | LE1: NTL\VPAF\Facilities Planning Operations\Campus Operations | LF1: NTL\President\President\Administrative Overhead | LG1: NTL\PRES\President\Administrative Overhead | LH1: NTL\VPAF\Security Operations\Public Safety | LI1: Column321
A2: Supporting Services | B2: Supporting Services | C2: Supporting Services | D2: Supporting Services | E2: Supporting Services | F2: Supporting Services | G2: Supporting Services | H2: Supporting Services | I2: Supporting Services | J2: Supporting Services | K2: Student Services | L2: FS not applicable | M2: FS not applicable | N2: FS not applicable | O2: FS not applicable | P2: FS not applicable | Q2: FS not applicable | R2: FS not applicable | S2: FS not applicable | T2: FS not applicable | U2: Campus Housing | V2: Campus Housing | W2: FS not applicable | X2: FS not applicable | Y2: FS not applicable | Z2: FS not applicable | AA2: FS not applicable | AB2: FS not applicable | AC2: FS not applicable | AD2: FS not applicable | AE2: FS not applicable | AF2: FS not applicable | AG2: FS not applicable | AH2: FS not applicable | AI2: Enrollment Mngmt (20-20) | AJ2: Student Affairs (20-20) | AK2: Endowment Funds (20-90) | AL2: Endowment Funds (20-90) | AM2: Student Affairs (20-20) | AN2: Student Services | AO2: FS not applicable | AP2: FS not applicable | AQ2: FS not applicable | AR2: FS not applicable | AS2: FS not applicable | AT2: FS not applicable | AU2: FS not applicable | AV2: FS not applicable | AW2: FS not applicable | AX2: Athletic - Other | AY2: Athletic - Other | AZ2: Athletic - Other | BA2: Athletic - Other | BB2: Athletic - Other | BC2: Athletic - Other | BD2: Athletic - Other | BE2: FS not applicable | BF2: Athletic - Other | BG2: FS not applicable | BH2: Athletic - Other | BI2: Athletic - Other | BJ2: Athletic - Other | BK2: Athletic - Other | BL2: Athletic - Other | BM2: FS not applicable | BN2: Grad Student Assembly | BO2: Grad Student Assembly | BP2: FS not applicable | BQ2: FS not applicable | BR2: FS not applicable | BS2: FS not applicable | BT2: FS not applicable | BU2: FS not applicable | BV2: FS not applicable | BW2: FS not applicable | BX2: FS not applicable | BY2: FS not applicable | BZ2: FS not applicable | CA2: FS not applicable | CB2: Encounters Magazine | CC2: FS not applicable | CD2: FS not applicable | CE2: FS not applicable | CF2: Grad Baruch ASCEND | CG2: Athletic Teams | CH2: Athletic Teams | CI2: Athletic Teams | CJ2: Athletic Teams | CK2: Athletic Teams | CL2: Athletic Teams | CM2: Athletic Teams | CN2: Athletic Teams | CO2: Athletic Teams | CP2: Athletic Teams | CQ2: Athletic Teams | CR2: FS not applicable | CS2: FS not applicable | CT2: FS not applicable | CU2: Programming Board | CV2: FS not applicable | CW2: FS not applicable | CX2: FS not applicable | CY2: 50Five Capital | CZ2: FS not applicable | DA2: FS not applicable | DB2: FS not applicable | DC2: FS not applicable | DD2: FS not applicable | DE2: FS not applicable | DF2: FS not applicable | DG2: FS not applicable | DH2: FS not applicable | DI2: FS not applicable | DJ2: FS not applicable | DK2: FS not applicable | DL2: FS not applicable | DM2: FS not applicable | DN2: FS not applicable | DO2: FS not applicable | DP2: FS not applicable | DQ2: FS not applicable | DR2: FS not applicable | DS2: FS not applicable | DT2: FS not applicable | DU2: FS not applicable | DV2: FS not applicable | DW2: FS not applicable | DX2: FS not applicable | DY2: FS not applicable | DZ2: FS not applicable | EA2: FS not applicable | EB2: FS not applicable | EC2: FS not applicable | ED2: FS not applicable | EE2: FS not applicable | EF2: FS not applicable | EG2: FS not applicable | EH2: FS not applicable | EI2: FS not applicable | EJ2: FS not applicable | EK2: FS not applicable | EL2: FS not applicable | EM2: FS not applicable | EN2: FS not applicable | EO2: FS not applicable | EP2: FS not applicable | EQ2: FS not applicable | ER2: FS not applicable | ES2: FS not applicable | ET2: FS not applicable | EU2: Undergrad Student Assembly | EV2: FS not applicable | EW2: FS not applicable | EX2: FS not applicable | EY2: Encounters Magazine | EZ2: FS not applicable | FA2: FS not applicable | FB2: FS not applicable | FC2: Student Affairs (20-20) | FD2: Student Affairs (20-20) | FE2: FS not applicable | FF2: FS not applicable | FG2: FS not applicable | FH2: FS not applicable | FI2: FS not applicable | FJ2: FS not applicable | FK2: FS not applicable | FL2: FS not applicable | FM2: FS not applicable | FN2: FS not applicable | FO2: FS not applicable | FP2: FS not applicable | FQ2: FS not applicable | FR2: FS not applicable | FS2: FS not applicable | FT2: FS not applicable | FU2: FS not applicable | FV2: FS not applicable | FW2: FS not applicable | FX2: FS not applicable | FY2: FS not applicable | FZ2: FS not applicable | GA2: FS not applicable | GB2: FS not applicable | GC2: FS not applicable | GD2: FS not applicable | GE2: Supporting Services | GF2: Supporting Services | GG2: Supporting Services | GH2: Supporting Services | GI2: Supporting Services | GJ2: Supporting Services | GK2: Supporting Services | GL2: Supporting Services | GM2: Supporting Services | GN2: Supporting Services | GO2: Student Services | GP2: FS not applicable | GQ2: FS not applicable | GR2: FS not applicable | GS2: FS not applicable | GT2: FS not applicable | GU2: FS not applicable | GV2: FS not applicable | GW2: FS not applicable | GX2: FS not applicable | GY2: Campus Housing | GZ2: Campus Housing | HA2: Athletic - Other | HB2: Athletic - Other | HC2: Athletic - Other | HD2: Athletic - Other | HE2: Athletic - Other | HF2: Athletic - Other | HG2: Athletic - Other | HH2: FS not applicable | HI2: Athletic - Other | HJ2: FS not applicable | HK2: Athletic - Other | HL2: Athletic - Other | HM2: Athletic - Other | HN2: Athletic - Other | HO2: Athletic - Other | HP2: FS not applicable | HQ2: FS not applicable | HR2: FS not applicable | HS2: FS not applicable | HT2: FS not applicable | HU2: FS not applicable | HV2: FS not applicable | HW2: FS not applicable | HX2: FS not applicable | HY2: FS not applicable | HZ2: FS not applicable | IA2: FS not applicable | IB2: FS not applicable | IC2: Zicklin School (20-25) | ID2: Zicklin School (20-25) | IE2: Weissman School (20-30) | IF2: Marxe School (20-35) | IG2: Exe & Global MSPIA (30-35) | IH2: Zicklin School (20-25) | II2: Zicklin School (20-25) | IJ2: Zicklin School (20-25) | IK2: Zicklin School (20-25) | IL2: Zicklin School (20-25) | IM2: Exe & Global Zicklin (30-25) | IN2: Enrollment Mngmt (20-20) | IO2: Marxe School (20-35) | IP2: Marxe School (20-35) | IQ2: Weissman School (20-30) | IR2: Weissman School (20-30) | IS2: Zicklin School (20-25) | IT2: Zicklin School (20-25) | IU2: Zicklin School (20-25) | IV2: Zicklin School (20-25) | IW2: Zicklin School (20-25) | IX2: Exe & Global Zicklin (30-25) | IY2: Exe & Global Zicklin (30-25) | IZ2: Exe & Global Zicklin (30-25) | JA2: Exe & Global Zicklin (30-25) | JB2: Exe & Global Zicklin (30-25) | JC2: Exe & Global Zicklin (30-25) | JD2: Exe & Global Zicklin (30-25) | JE2: Enrollment Mngmt (20-20) | JF2: Student Affairs (20-20) | JG2: Enrollment Mngmt (20-20) | JH2: College Reserve (20-00) | JI2: Student Affairs (20-20) | JJ2: Endowment Funds (20-90) | JK2: Endowment Funds (20-90) | JL2: Zicklin School (20-25) | JM2: Zicklin School (20-25) | JN2: Weissman School (20-30) | JO2: Weissman School (20-30) | JP2: Weissman School (20-30) | JQ2: Weissman School (20-30) | JR2: Admin & Finance(20-15) | JS2: Zicklin School (20-25) | JT2: Zicklin School (20-25) | JU2: Zicklin School (20-25) | JV2: Zicklin School (20-25) | JW2: Zicklin School (20-25) | JX2: Zicklin School (20-25) | JY2: Zicklin School (20-25) | JZ2: Zicklin School (20-25) | KA2: Zicklin School (20-25) | KB2: Zicklin School (20-25) | KC2: Zicklin School (20-25) | KD2: Zicklin School (20-25) | KE2: Zicklin School (20-25) | KF2: Zicklin School (20-25) | KG2: Exe & Global Zicklin (30-25) | KH2: Exe & Global Zicklin (30-25) | KI2: Exe & Global Zicklin (30-25) | KJ2: Exe & Global Zicklin (30-25) | KK2: Library (20-40) | KL2: Library (20-40) | KM2: Library (20-40) | KN2: Library (20-40) | KO2: Library (20-40) | KP2: Library (20-40) | KQ2: Enrollment Mngmt (20-20) | KR2: Student Affairs (20-20) | KS2: Zicklin School (20-25) | KT2: Student Affairs (20-20) | KU2: Admin & Finance(20-15) | KV2: Admin & Finance(20-15) | KW2: College Advancement (20-08) | KX2: College Advancement (20-08) | KY2: Library (20-40) | KZ2: Library (20-40) | LA2: Library (20-40) | LB2: Zicklin School (20-25) | LC2: Zicklin School (20-25) | LD2: Zicklin School (20-25) | LE2: Admin & Finance(20-15) | LF2: President (20-03) | LG2: President (20-03) | LH2: Admin & Finance(20-15)
BN3: FS not applicable | BO3: FS not applicable | CB3: Lexicon | CF3: Grad Beta Alpha Psi | CQ3: Absolute Adrenaline | CY3: Acct Society | EY3: Lexicon | JH3: Student Affairs (20-20)
CB4: The Ticker | CF4: Grad Corp Comm Student Assn | CQ4: Acct Society | CY4: Actuarial Science Society | EY4: The Ticker
CB5: WBMB Radio | CF5: Grad Higher Ed Adm Club | CQ5: Actuarial Science Society | CY5: African Student Assn | EY5: WBMB Radio
CF6: Grad MPA Club | CQ6: Advertising Design Society | CY6: AIESEC
CF7: Grad MS IO/Psych Student Assn | CQ7: African Student Assn | CY7: Alpha Kappa Psi
CF8: Grad PRIDE Society | CQ8: AIESEC | CY8: Alpha Phi Omega
CF9: Grad Weissman Art Adm Network | CQ9: Albanian Club | CY9: American Marketing Assn
CF10: Grad MIA Club | CQ10: Alpha Kappa Delta Phi | CY10: ASCEND
CF11: Grad Zicklin Acct Society | CQ11: Alpha Kappa Psi | CY11: ASEDOM
CF12: Grad Zicklin Tax Society | CQ12: Alpha Phi Omega | CY12: Assn for Information Systems
CF13: Grad Zicklin Finance Club | CQ13: American Marketing Assn | CY13: Bangladesh Student Assn
CF14: Grad Zicklin Wmn in Business | CQ14: ASCEND | CY14: Baruch Org of Soviet Students
CF15: Grad Data Science & Analytics | CQ15: ASEDOM | CY15: Beta Alpha Psi
CF16: MBA Club | CQ16: Assn for Information Systems | CY16: Biomed Society
CQ17: Beta Alpha Psi | CY17: Black Student Union
