Workbook
Name _: 'Budget form-original'!$AD$4
Name Acad._Aff.: 'Non Tax-Levy'!$A$3:$A$5
Name Acad._Aff.: 'Non Tax-Levy'!$A$3:$A$5
Name Acad._Aff.: 'Budget form-NTL updated'!$AO$5:$AO$8
Name Acad._Aff.: 'Non Tax-Levy'!$A$3:$A$5
Name Acad._Aff.: 'Budget form-ALL'!$AJ$6:$AJ$17
Name AcctInfo: '[1]Budget form'!#REF!
Name AcctInfo: 'Budget form-NTL updated'!#REF!
Name AcctInfo: 'Budget form-original'!#REF!
Name AcctInfo: '[1]Budget form'!#REF!
Name AcctInfo: '[1]Budget form'!#REF!
Name Allen_Aaronson_Dept_of_Mkt\Ib: 'Non Tax-Levy'!$B$54:$B$55
Name Athletic_and_Recreation_ARC: 'Non Tax-Levy'!$B$34:$B$36
Name BCTC_Computing_and_Tech_Ctr: 'Non Tax-Levy'!$B$26:$B$28
Name Bert_Wasserman_Dept_Eco_and_Fin: 'Budget form_SAMPLE PAGE'!#REF!
Name Bert_Wasserman_Dept_Eco_and_Fin: 'Budget Modification Form'!#REF!
Name Bert_Wasserman_Dept_Eco_and_Fin: 'Budget form-ALL'!#REF!
Name Bert_Wasserman_Dept_of_Eco_and_Fin: 'Non Tax-Levy'!$B$56:$B$58
Name Campus_Facilities_and_Operations: 'Non Tax-Levy'!$B$16
Name Career_Development_Center: 'Non Tax-Levy'!$B$37
Name Career_Services_Operations: 'Non Tax-Levy'!$B$59
Name Center_Performing_Arts: 'Non Tax-Levy'!$B$41:$B$42
Name CodeDescr: OptCodes[Program, Spec Init, OU Description]
Name College: 'Non Tax-Levy'!$A$47
Name College_Advancement: 'Non Tax-Levy'!$B$20:$B$21
Name College_Now_Program: 'Non Tax-Levy'!$B$3
Name Communication_Studies: 'Non Tax-Levy'!$B$43
Name Conference_Center: 'Non Tax-Levy'!$B$17
Name Controllers_Office: 'Non Tax-Levy'!$B$18
Name DateRange: Date_Range_for_Forms[Date]
Name Deans_Office_MSPIA: 'Non Tax-Levy'!$B$10:$B$11
Name Deans_Office_WSAS: 'Non Tax-Levy'!$B$44:$B$48
Name Deans_Office_ZSB: 'Non Tax-Levy'!$B$60:$B$75
Name Executive_Programs_ZSB: 'Non Tax-Levy'!$B$76:$B$82
Name EXPCODES: '[1]Budget form'!#REF!
Name EXPCODES: 'Budget form-NTL updated'!#REF!
Name EXPCODES: 'Budget form-original'!#REF!
Name EXPCODES: '[1]Budget form'!#REF!
Name EXPCODES: '[1]Budget form'!#REF!
Name Financial_Aid: 'Non Tax-Levy'!$B$23
Name Fine_and_Performing_Arts: 'Non Tax-Levy'!$B$49
Name Fundhead: 'Budget form_SAMPLE PAGE'!#REF!
Name Fundhead: 'Budget form-ALL'!#REF!
Name Fundhead: 'Budget form-NTL updated'!#REF!
Name Fundhead: 'Budget form-ALL'!#REF!
Name Fundhead: 'Budget Modification Form'!#REF!
Name Fundhead: '[2]Budget form-ALL'!#REF!
Name Graduate_Programs_ZSB: 'Non Tax-Levy'!$B$83:$B$86
Name Heading: 'Budget form_SAMPLE PAGE'!#REF!
Name Heading: 'Budget form-ALL'!#REF!
Name Heading: 'Budget form-NTL updated'!#REF!
Name Heading: 'Budget form-ALL'!#REF!
Name Heading: 'Budget Modification Form'!#REF!
Name Heading: '[2]Budget form-ALL'!#REF!
Name IFR: [3]IFR!$B$5:$B$11
Name IFR: IFR!$B$5:$B$11
Name IFR_Acad_Aff: IFR!$F$7
Name IFR_Coll_Wide: IFR!$F$8
Name IFR_VPAF: IFR!$F$9:$F$11
Name IFR_VPEM: IFR!$F$12

Sheet Budget form-original
F1: Send all Budget Change Requests to: | J1: BudgetChangeRequest@baruch.cuny.edu
F2: All requests will be processed ASAP, and an updated Budget file will be saved in the Tax-Levy_&_IFR Resources drive at the end of the day.
A3: FY20 BUDGET CHANGE REQUEST | AD3: Division | AE3: Category | AF3: Affected Fiscal year(s): | AG3: Action | AH3: Allocation | AI3: Program | AJ3: CUNYFIRST HCM Local Dept. Description | AK3: CUNYFIRST DEPT | AL3: FAS DEPT | AM3: DEPT NAME (LOCAL usage) | AN3: Division | AO3: Date
A4: (TAX-LEVY ONLY) | AJ4: Please Select a Department | AK4: −−−−► | AL4: −−−−► | AM4: Please Select a Department | AN4: −−−−►
AD5: Acad. Aff. | AE5: Adjunct | AF5: Current YR only | AG5: Adjustment | AH5: Base | AI5: ACT Testing | AJ5: Dean For Academic Affairs | AK5: 10377 | AL5: 8601 | AM5: Provost-Faculty Operations | AN5: Acad Aff | AO5: 43592
AD6: OCM | AE6: Non-Teaching Adjuncts | AF6: Permanent | AG6: Initiative | AH6: Excellence Fee | AI6: Adjunct Extra Hour | AJ6: Center, Computer Visually Imp | AK6: 60024 | AL6: 9501 | AM6: Computer Ctr Visually Impaired | AN6: Acad Aff | AO6: 43593
A7: 1 | B7: *Action: | M7: *Requested By: | Q7: Type your name here | AD7: President | AE7: OTPS | AG7: Modification | AH7: Lump Sum | AI7: Athletics | AJ7: Center, Writing | AK7: 60083 | AL7: 88501 | AM7: Writing Center | AN7: Acad Aff | AO7: 43594
B8: Program: | M8: *Date | AD8: MSPIA | AE8: PS Regular | AG8: New CUNY Funding | AH8: Intra-Univ | AI8: Base & All PY Base | AJ8: Institute, Schwartz Commun | AK8: 60196 | AL8: 10901 | AM8: Schwartz Communication Center | AN8: Acad Aff | AO8: 43595
AD9: VPAF | AE9: Temp Services | AI9: Center for Student Entrepreneurship FY15 funds | AJ9: College Now Program | AK9: 65017 | AL9: 20701 | AM9: College Now Program | AN9: Acad Aff | AO9: 43596
AD10: VPCA | AI10: Childcare | AJ10: Honors/Experimental | AK10: 65054 | AL10: 68601 | AM10: Honors Program | AN10: Acad Aff | AO10: 43597
AD11: VPEM | AI11: Cluster Hire | AJ11: Acad. Aff. Teaching Operations | AK11: 70001 | AL11: 10701 | AM11: Provost-Teaching Operations | AN11: Acad Aff | AO11: 43598
B12: 2. Select a Division | D12: FAS Dept. Code | F12: CUNYFIRST Dept. Code | I12: 3. Select a CUNYFIRST HCM Local Dept. | L12: 4. Account Type | Q12: 5. Allocation | R12: 6. CF Program Code/ Funding Source/ Special Intiative/ Optional | T12: 7. Increase/ (Decrease) | W12: 8. Current YR only or Permanent | Y12: Comments (Optional) | AD12: VPISD | AI12: College Now & Collaborative Programs | AJ12: Office for Teaching & Learning | AK12: 70062 | AL12: 8301 | AM12: Ctr. Teaching and Learning | AN12: Acad Aff | AO12: 43599
A13: 1 | B13: President | D13: =IF(I13="","−−−−►",VLOOKUP(F13,$AK$4:$AL$97,2,FALSE)) -> 31701 | F13: =IF(I13="","−−−−►",VLOOKUP(I13,$AJ:$AN,2,FALSE)) -> 80250 | I13: President | T13: $ | AD13: VPSA | AI13: College Now Summer Program | AJ13: Office for Teaching & Learning- Strategic Investment Initiative | AK13: 70062 | AL13: 8301 | AM13: Ctr. Teaching and Learning | AN13: Acad Aff | AO13: 43600
A14: 2 | D14: =IF(I14="","−−−−►",VLOOKUP(F14,$AK$4:$AL$97,2,FALSE)) -> −−−−► | F14: =IF(I14="","−−−−►",VLOOKUP(I14,$AJ:$AN,2,FALSE)) -> −−−−► | T14: $ | AD14: WSAS | AI14: Coordinated undergraduate Education CUE | AJ14: Grants And Research Admin | AK14: 80170 | AL14: 26301 | AM14: Sponsored Prgs/Research (SPAR) | AN14: Acad Aff | AO14: 43601
A15: 3 | D15: =IF(I15="","−−−−►",VLOOKUP(F15,$AK$4:$AL$97,2,FALSE)) -> −−−−► | F15: =IF(I15="","−−−−►",VLOOKUP(I15,$AJ:$AN,2,FALSE)) -> −−−−► | T15: $ | AD15: ZSB | AI15: CUNY CAP | AJ15: Instructional Services | AK15: 80188 | AL15: 41601 | AM15: Student Acad Consult Ctr(SACC) | AN15: Acad Aff | AO15: 43602
A16: 4 | D16: =IF(I16="","−−−−►",VLOOKUP(F16,$AK$4:$AL$97,2,FALSE)) -> −−−−► | F16: =IF(I16="","−−−−►",VLOOKUP(I16,$AJ:$AN,2,FALSE)) -> −−−−► | T16: $ | AI16: CUNY Grant Tax Levy | AJ16: Provost Operations | AK16: 80259 | AL16: 37801 | AM16: VP Academic Affairs & Provost | AN16: Acad Aff | AO16: 43603
A17: 5 | D17: =IF(I17="","−−−−►",VLOOKUP(F17,$AK$4:$AL$97,2,FALSE)) -> −−−−► | F17: =IF(I17="","−−−−►",VLOOKUP(I17,$AJ:$AN,2,FALSE)) -> −−−−► | T17: $ | AI17: CUNY LEADS Funding | AJ17: Communications & Marketing | AK17: 80070 | AL17: 32601 | AM17: Communications & Marketing | AN17: OCM | AO17: 43604
A18: 6 | D18: =IF(I18="","−−−−►",VLOOKUP(F18,$AK$4:$AL$97,2,FALSE)) -> −−−−► | F18: =IF(I18="","−−−−►",VLOOKUP(I18,$AJ:$AN,2,FALSE)) -> −−−−► | T18: $ | AI18: CUNY Study Abroad Honors College | AJ18: President | AK18: 80250 | AL18: 31701 | AM18: President's Office | AN18: President | AO18: 43605
A19: 7 | D19: =IF(I19="","−−−−►",VLOOKUP(F19,$AK$4:$AL$97,2,FALSE)) -> −−−−► | F19: =IF(I19="","−−−−►",VLOOKUP(I19,$AJ:$AN,2,FALSE)) -> −−−−► | T19: $ | AI19: Degree Differential | AJ19: Public and International Affairs | AK19: 10250 | AL19: 78201 | AM19: Public Affairs | AN19: SPIA | AO19: 43606
A20: 8 | D20: =IF(I20="","−−−−►",VLOOKUP(F20,$AK$4:$AL$97,2,FALSE)) -> −−−−► | F20: =IF(I20="","−−−−►",VLOOKUP(I20,$AJ:$AN,2,FALSE)) -> −−−−► | T20: $ | AI20: Department Chair Summer Pay | AJ20: MSPIA Dean's Office | AK20: 10405 | AL20: 22701 | AM20: Dean's Office - MSPIA | AN20: SPIA | AO20: 43607
AI21: ECF/GCF Adjunct Replacement Funding | AJ21: CIDR | AK21: 60203 | AL21: 23701 | AM21: Inst-Demographic Resrch (CIDR) | AN21: SPIA | AO21: 43608
O22: TOTAL: | T22: $ | U22: =SUM(U13:U20) -> 0 | AI22: FY16 Senior College Strategic Technology Initiatives (STI) Revenue Transfers | AJ22: Student Recruitment- MSPIA | AK22: 75071 | AL22: 13601 | AM22: Grad Admission/Student Svc-MSPIA | AN22: SPIA | AO22: 43609
AI23: FY17 Base Budget Adjustment | AJ23: Accounting Operations | AK23: 80002 | AL23: 11401 | AM23: Controller's Office | AN23: VPAF | AO23: 43610
AI24: GC OTPS Science Allocation | AJ24: Budget and Planning Operations | AK24: 80037 | AL24: 17001 | AM24: Budget And Planning Operations | AN24: VPAF | AO24: 43611
AI25: Global Initiatives | AJ25: Bursar Operations | AK25: 80042 | AL25: 17501 | AM25: Bursar's Office | AN25: VPAF | AO25: 43612
A26: * | B26: Modification: Must Net to "0", with the same Allocation | AI26: Graduate Center Expense Journal | AJ26: Credit Card Fees | AK26: 80045 | AL26: 16601 | AM26: Credit Card Fees | AN26: VPAF | AO26: 43613
A27: * | B27: New CUNY Funding: Must Provide Budget Document | AI27: Hobson Admission Software | AJ27: Business Office/Fin Operations | AK27: 80045 | AL27: 18401 | AM27: Business Office/Fin Operations | AN27: VPAF | AO27: 43614
A28: ** | B28: Intra-University: Funds Provided by other CUNY Entities on a One-time Basis. | AI28: IBM Challenge Supplement | AJ28: Facility Maintenance Operation | AK28: 80048 | AL28: 17701 | AM28: Buildings & Grounds | AN28: VPAF | AO28: 43615
A29: *** | B29: N/A Means that the HCM Dept. is not active in CUNYfirst | AI29: Improving Undergrad/Grad Education | AJ29: Conference Center | AK29: 80049 | AL29: 17601 | AM29: Conference Center | AN29: VPAF | AO29: 43616
AI30: Library | AJ30: Central Receiving and Stores | AK30: 80054 | AL30: 34101 | AM30: Receiving & Stores | AN30: VPAF | AO30: 43617
AI31: Library Matching Funds | AJ31: Facilities Planning Operations | AK31: 80149 | AL31: 18701 | AM31: Campus Facilities & Operations | AN31: VPAF | AO31: 43618
AI32: Macaulay Honors College | AJ32: Human Resources Operations | AK32: 80174 | AL32: 30501 | AM32: Human Resources | AN32: VPAF | AO32: 43619
AI33: MBA Decline/MS Increase | AJ33: Mail and Messenger Services | AK33: 80203 | AL33: 28901 | AM33: Mailroom | AN33: VPAF | AO33: 43620
AI34: Pathways Committee Payments | AJ34: Purchasing | AK34: 80264 | AL34: 33101 | AM34: Purchasing | AN34: VPAF | AO34: 43621
AI35: PSC CUNY Travel-Article 28 | AJ35: Security Operations | AK35: 80274 | AL35: 34801 | AM35: Public Safety | AN35: VPAF | AO35: 43622
AI36: PSC Paid Parental Leaves | AJ36: VP Finance and Administration | AK36: 80299 | AL36: 22001 | AM36: VP for Admin & Finance | AN36: VPAF | AO36: 43623
AI37: PSC Reassigned Time | AJ37: College Relations Operations | AK37: 80069 | AL37: 19401 | AM37: College Advancement | AN37: VPCA | AO37: 43624
AI38: Sabbatical | AJ38: Dean Of Student Services | AK38: 10393 | AL38: 35901 | AM38: VP for Student Affairs-Enroll | AN38: VPEM | AO38: 43625
AI39: School Revenue Increases | AJ39: SEEK - Special Programs | AK39: 65100 | AL39: 38408 | AM39: SEEK | AN39: VPEM | AO39: 43626
AI40: SEEK | AJ40: Academic Advisement | AK40: 75001 | AL40: 8201 | AM40: Academic Advisement | AN40: VPEM | AO40: 43627
...

Sheet Budget form-NTL updated
F1: Send all Budget Change Requests to: | J1: BudgetChangeRequest@baruch.cuny.edu
F2: All requests will be processed ASAP, and an updated Budget file will be saved in the Tax-Levy_&_IFR Resources drive at the end of the day.
A3: FY20 BUDGET CHANGE REQUEST | AJ3: Division | AK3: Category | AL3: Affected Fiscal year(s): | AM3: Action | AN3: Allocation | AO3: Program Description | AP3: CUNYFIRST HCM Local Dept. Description | AQ3: CUNYFIRST DEPT | AR3: FAS DEPT | AS3: DEPT NAME (LOCAL usage) | AT3: Division | AU3: Program Code | AV3: Major Purpose | AW3: Special Init. | AX3: Fund Src | AY3: Operating Unit | AZ3: Fund Code | BA3: Date
A4: (TAX-LEVY ONLY) | AP4: Please Select a Department | AQ4: −−−−► | AR4: −−−−► | AS4: Please Select a Department | AT4: −−−−►
AJ5: Acad. Aff. | AK5: Adjunct | AL5: Current YR only | AM5: Adjustment | AN5: Base | AO5: College Now Program | AP5: College Now Program | AQ5: 65017 | AR5: 8601 | AS5: College Now Program | AT5: Acad Aff | AU5: 40020 | AV5: 100 | AW5: 9999 | AX5: 201000 | AY5: 9999 | AZ5: 12 | BA5: 43592
AJ6: OCM | AK6: Non-Teaching Adjuncts | AL6: Permanent | AM6: Initiative | AN6: Excellence Fee | AO6: Global Initiatives | AP6: Provost-Teaching Operations | AQ6: 70001 | AR6: 9501 | AS6: Provost-Teaching Operations | AT6: Acad Aff | AU6: 40023 | AV6: 100 | AW6: 9999 | AX6: 201000 | AY6: 9999 | AZ6: 12 | BA6: 43593
A7: 1 | B7: *Action: | S7: *Requested By: | W7: Type your name here | AJ7: President | AK7: OTPS | AM7: Modification | AN7: Lump Sum | AO7: Provost | AP7: VP Academic Affairs & Provost | AQ7: 80259 | AR7: 88501 | AS7: VP Academic Affairs & Provost | AT7: Acad Aff | AU7: 40021 | AV7: 355 | AW7: 9999 | AX7: 201000 | AY7: 9999 | AZ7: 12 | BA7: 43594
B8: Program: | S8: *Date | AJ8: MSPIA | AK8: PS Regular | AM8: New CUNY Funding | AN8: Intra-Univ | AO8: Tools for Clear Speech | AP8: VP Academic Affairs & Provost | AQ8: 80259 | AR8: 10901 | AS8: VP Academic Affairs & Provost | AT8: Acad Aff | AU8: 40024 | AV8: 355 | AW8: 9999 | AX8: 201000 | AY8: 9999 | AZ8: 12 | BA8: 43595
AJ9: VPAF | AK9: Temp Services | AO9: Administrative Overhead | AP9: President | AQ9: 80250 | AR9: 31701 | AS9: President's Office | AT9: President | AU9: 40003 | AV9: 355 | AW9: 9999 | AX9: 200300 | AY9: 9999 | AZ9: 12 | BA9: 43596
AJ10: VPCA | AO10: Legal Office | AP10: President | AQ10: 80250 | AS10: President's Office | AT10: President | AU10: 40004 | AV10: 355 | AW10: 9999 | AX10: 200300 | AY10: 9999 | AZ10: 12 | BA10: 43597
AJ11: VPEM | AO11: President | AP11: President | AQ11: 80250 | AS11: President's Office | AT11: President | AU11: 40001 | AV11: 355 | AW11: 9999 | AX11: 200300 | AY11: 9999 | AZ11: 12 | BA11: 43598
B12: 2. Select a Division | D12: FAS Dept. Code | F12: CUNYFIRST Dept. Code | I12: 3.Program Description | K12: 4. Department Description | L12: 5. Program Code | M12: 6. Major Purpose Code | N12: 7. Funding Source | O12: 8. Special Initiatives | P12: 9. Operating Unit | Q12: 10. Fund Code | R12: 11. Account Type | W12: 12. Allocation | X12: 13. CF Program Code/ Funding Source/ Special Intiative/ Optional | Z12: 14. Increase/ (Decrease) | AC12: 15. Current YR only or Permanent | AE12: Comments (Optional) | AJ12: VPISD | AO12: Acad Administration & Programs | AP12: Dean's Office - MSPIA | AQ12: 10405 | AR12: 78201 | AS12: Dean's Office - MSPIA | AT12: SPIA | AU12: 40236 | AV12: 100 | AW12: 9999 | AX12: 203500 | AY12: 9999 | AZ12: 12 | BA12: 43599
A13: 1 | B13: WSAS | D13: =IF(I13="","−−−−►",VLOOKUP(F13,$AQ$4:$AR$11,2,FALSE)) -> #N/A | F13: =IF(I13="","−−−−►",VLOOKUP(I13,AO:AQ,3,FALSE)) -> 10060 | I13: Corporate Communications Inst | K13: =IF(I13="","−−−−►",VLOOKUP(I13,AO:AS,5,FALSE)) -> Communication Studies | L13: =IF(I13="","−−−−►",VLOOKUP(I13,AO:AU,7,FALSE)) -> 40208 | M13: =IF(I13="","−−−−►",VLOOKUP(I13,AO:AV,8,FALSE)) -> 100 | N13: =IF(I13="","−−−−►",VLOOKUP(I13,AO:AX,10,FALSE)) -> 203000 | O13: =IF(I13="","−−−−►",VLOOKUP(I13,AO:AW,9,FALSE)) -> 9999 | P13: =IF(I13="","−−−−►",VLOOKUP(I13,AO:AY,11,FALSE)) -> 9999 | Q13: =IF(I13="","−−−−►",VLOOKUP(I13,AO:AZ,12,FALSE)) -> 12 | Z13: $ | AJ13: VPSA | AO13: Dean Marxe School | AP13: Dean's Office - MSPIA | AQ13: 10405 | AR13: 22701 | AS13: Dean's Office - MSPIA | AT13: SPIA | AU13: 40230 | AV13: 100 | AW13: 9999 | AX13: 203500 | AY13: 9999 | AZ13: 12 | BA13: 43600
A14: 2 | D14: =IF(I14="","−−−−►",VLOOKUP(F14,$AQ$4:$AR$11,2,FALSE)) -> −−−−► | F14: =IF(I14="","−−−−►",VLOOKUP(I14,$AP:$AT,2,FALSE)) -> −−−−► | Z14: $ | AJ14: WSAS | AO14: Executive MPA | AP14: Public Affairs | AQ14: 10250 | AR14: 23701 | AS14: Public Affairs | AT14: SPIA | AU14: 40330 | AV14: 100 | AW14: 9999 | AX14: 303500 | AY14: 9999 | AZ14: 12 | BA14: 43601
A15: 3 | D15: =IF(I15="","−−−−►",VLOOKUP(F15,$AQ$4:$AR$11,2,FALSE)) -> −−−−► | F15: =IF(I15="","−−−−►",VLOOKUP(I15,$AP:$AT,2,FALSE)) -> −−−−► | Z15: $ | AJ15: ZSB | AO15: Non-Degree Domestic Program | AP15: Public Affairs | AQ15: 10250 | AR15: 13601 | AS15: Public Affairs | AT15: SPIA | AU15: 40234 | AV15: 100 | AW15: 9999 | AX15: 203500 | AY15: 9999 | AZ15: 12 | BA15: 43602
A16: 4 | D16: =IF(I16="","−−−−►",VLOOKUP(F16,$AQ$4:$AR$11,2,FALSE)) -> −−−−► | F16: =IF(I16="","−−−−►",VLOOKUP(I16,$AP:$AT,2,FALSE)) -> −−−−► | Z16: $ | AO16: Non-Degree International Prgm | AP16: Public Affairs | AQ16: 10250 | AR16: 11401 | AS16: Public Affairs | AT16: SPIA | AU16: 40235 | AV16: 100 | AW16: 9999 | AX16: 203500 | AY16: 9999 | AZ16: 12 | BA16: 43603
A17: 5 | D17: =IF(I17="","−−−−►",VLOOKUP(F17,$AQ$4:$AR$11,2,FALSE)) -> −−−−► | F17: =IF(I17="","−−−−►",VLOOKUP(I17,$AP:$AT,2,FALSE)) -> −−−−► | Z17: $ | AO17: Administrative Management | AP17: VP for Admin & Finance | AQ17: 80299 | AR17: 17001 | AS17: VP for Admin & Finance | AT17: VPAF | AU17: 40042 | AV17: 355 | AW17: 9999 | AX17: 201500 | AY17: 9999 | AZ17: 12 | BA17: 43604
A18: 6 | D18: =IF(I18="","−−−−►",VLOOKUP(F18,$AQ$4:$AR$11,2,FALSE)) -> −−−−► | F18: =IF(I18="","−−−−►",VLOOKUP(I18,$AP:$AT,2,FALSE)) -> −−−−► | Z18: $ | AO18: Campus Operations | AP18: Campus Facilities & Operations | AQ18: 80149 | AR18: 17501 | AS18: Campus Facilities & Operations | AT18: VPAF | AU18: 40043 | AV18: 355 | AW18: 9999 | AX18: 201500 | AY18: 9999 | AZ18: 12 | BA18: 43605
A19: 7 | D19: =IF(I19="","−−−−►",VLOOKUP(F19,$AQ$4:$AR$11,2,FALSE)) -> −−−−► | F19: =IF(I19="","−−−−►",VLOOKUP(I19,$AP:$AT,2,FALSE)) -> −−−−► | Z19: $ | AO19: Conference Center | AP19: Conference Center | AQ19: 80049 | AR19: 16601 | AS19: Conference Center | AT19: VPAF | AU19: 40040 | AV19: 400 | AW19: 9999 | AX19: 201500 | AY19: 9999 | AZ19: 12 | BA19: 43606
A20: 8 | D20: =IF(I20="","−−−−►",VLOOKUP(F20,$AQ$4:$AR$11,2,FALSE)) -> −−−−► | F20: =IF(I20="","−−−−►",VLOOKUP(I20,$AP:$AT,2,FALSE)) -> −−−−► | Z20: $ | AO20: Controller's Office | AP20: Controller's Office | AQ20: 80002 | AR20: 18401 | AS20: Controller's Office | AT20: VPAF | AU20: 40041 | AV20: 355 | AW20: 9999 | AX20: 201500 | AY20: 9999 | AZ20: 12 | BA20: 43607
AO21: Public Safety | AP21: Public Safety | AQ21: 80274 | AR21: 17701 | AS21: Public Safety | AT21: VPAF | AU21: 40044 | AV21: 350 | AW21: 9999 | AX21: 201500 | AY21: 9999 | AZ21: 12 | BA21: 43608
U22: TOTAL: | Z22: $ | AA22: =SUM(AA13:AA20) -> 0 | AO22: Alumni Events | AP22: Alumni Events | AQ22: 80069 | AS22: College Advancement | AT22: VPCA | AU22: 40012 | AV22: 350 | AW22: 9999 | AX22: 200800 | AY22: 9999 | AZ22: 12 | BA22: 43609
AO23: Real Estate Club | AP23: Real Estate Club | AQ23: 80069 | AR23: 19401 | AS23: College Advancement | AT23: VPCA | AU23: 40014 | AV23: 350 | AW23: 9999 | AX23: 200800 | AY23: 9999 | AZ23: 12 | BA23: 43610
AO24: Academic Support Services | AP24: VP for Student Affairs-Enroll | AQ24: 10393 | AR24: 35901 | AS24: VP for Student Affairs-Enroll | AT24: VPEM | AU24: 40061 | AV24: 300 | AW24: 9999 | AX24: 202001 | AY24: 9999 | AZ24: 12 | BA24: 43611
AO25: Pell Admin/Enrollment Services | AP25: Financial Aid | AQ25: 75065 | AR25: 38408 | AS25: Financial Aid | AT25: VPEM | AU25: 40060 | AV25: 300 | AW25: 9999 | AX25: 202001 | AY25: 9999 | AZ25: 12 | BA25: 43612
A26: * | B26: Modification: Must Net to "0", with the same Allocation | AO26: Summer Leadership Academy | AP26: Undergraduate Admissions | AQ26: 75002 | AR26: 8201 | AS26: Undergraduate Admissions | AT26: VPEM | AU26: 40062 | AV26: 300 | AW26: 9999 | AX26: 202001 | AY26: 9999 | AZ26: 12 | BA26: 43613
A27: * | B27: New CUNY Funding: Must Provide Budget Document | AO27: SWUFE--EM Support Services | AP27: International Student Services | AQ27: 75037 | AR27: 13501 | AS27: International Student Services | AT27: VPEM | AU27: 40063 | AV27: 300 | AW27: 9999 | AX27: 202001 | AY27: 9999 | AZ27: 12 | BA27: 43614
A28: ** | B28: Intra-University: Funds Provided by other CUNY Entities on a One-time Basis. | AO28: BCTC Hardware Replacement | AP28: BCTC - Computing & Tech Ctr | AQ28: 80073 | AR28: 14701 | AS28: BCTC - Computing & Tech Ctr | AT28: VPISD | AU28: 40256 | AV28: 350 | AW28: 9999 | AX28: 204000 | AY28: 9999 | AZ28: 12 | BA28: 43615
A29: *** | B29: N/A Means that the HCM Dept. is not active in CUNYfirst | AO29: BCTC Media Support | AP29: BCTC - Computing & Tech Ctr | AQ29: 80073 | AR29: 38701 | AS29: BCTC - Computing & Tech Ctr | AT29: VPISD | AU29: 40255 | AV29: 350 | AW29: 9999 | AX29: 204000 | AY29: 9999 | AZ29: 12 | BA29: 43616
AO30: BCTC Staff Development | AP30: BCTC - Computing & Tech Ctr | AQ30: 80073 | AR30: 40201 | AS30: BCTC - Computing & Tech Ctr | AT30: VPISD | AU30: 40250 | AV30: 350 | AW30: 9999 | AX30: 204000 | AY30: 9999 | AZ30: 12 | BA30: 43617
AO31: GIS & Data Services Support | AP31: Library | AQ31: 70054 | AR31: 34501 | AS31: Library | AT31: VPISD | AU31: 40257 | AV31: 251 | AW31: 9999 | AX31: 204000 | AY31: 9999 | AZ31: 12 | BA31: 43618
AO32: Library Corporation | AP32: Library | AQ32: 70054 | AR32: 45501 | AS32: Library | AT32: VPISD | AU32: 40254 | AV32: 251 | AW32: 9999 | AX32: 204000 | AY32: 9999 | AZ32: 12 | BA32: 43619
AO33: Library Miscellaneous | AP33: Library | AQ33: 70054 | AR33: 4001 | AS33: Library | AT33: VPISD | AU33: 40253 | AV33: 251 | AW33: 9999 | AX33: 204000 | AY33: 9999 | AZ33: 12 | BA33: 43620
AO34: Library, Friends of | AP34: Library | AQ34: 70054 | AR34: 21201 | AS34: Library | AT34: VPISD | AU34: 40252 | AV34: 251 | AW34: 9999 | AX34: 204000 | AY34: 9999 | AZ34: 12 | BA34: 43621
AO35: Library, PCMH | AP35: Library | AQ35: 70054 | AR35: 28001 | AS35: Library | AT35: VPISD | AU35: 40251 | AV35: 251 | AW35: 9999 | AX35: 204000 | AY35: 9999 | AZ35: 12 | BA35: 43622
AO36: Athletic Swimming Program | AP36: Athletic & Recreation (ARC) | AQ36: 75012 | AR36: 50901 | AS36: Athletic & Recreation (ARC) | AT36: VPSA | AU36: 40081 | AV36: 300 | AW36: 9999 | AX36: 202000 | AY36: 9999 | AZ36: 12 | BA36: 43623
AO37: Athletics & Recreation Complex | AP37: Athletic & Recreation (ARC) | AQ37: 75012 | AR37: 67501 | AS37: Athletic & Recreation (ARC) | AT37: VPSA | AU37: 40083 | AV37: 300 | AW37: 9999 | AX37: 202000 | AY37: 9999 | AZ37: 12 | BA37: 43624
AO38: Summer Camp | AP38: Athletic & Recreation (ARC) | AQ38: 75012 | AR38: 17101 | AS38: Athletic & Recreation (ARC) | AT38: VPSA | AU38: 40080 | AV38: 300 | AW38: 9999 | AX38: 202000 | AY38: 9999 | AZ38: 12 | BA38: 43625
AO39: Career Services | AP39: Career Development Center | AQ39: 75070 | AR39: 14801 | AS39: Career Development Center | AT39: VPSA | AU39: 40082 | AV39: 300 | AW39: 9999 | AX39: 202000 | AY39: 9999 | AZ39: 12 | BA39: 43626
AO40: Student Affairs Division | AP40: Student Affairs & Serv | AQ40: 75056 | AR40: 41701 | AS40: Student Affairs & Serv | AT40: VPSA | AU40: 40086 | AV40: 300 | AW40: 9999 | AX40: 202000 | AY40: 9999 | AZ40: 12 | BA40: 43627
...

Sheet INSTRUCTIONS
B2: Accessing Tax-Levy Funds the University Describes as:
B3: Interdisciplinary/ Internal/ Special Project/ Research Grant Funding
B4: The following is a guide to help you get started on your project.
C5: While acceptance letters from the University typically indicate that you must wait until you receive further communication from a sponsoring office, Baruch can usually provide you with access to project funds based on the confirmation you already have. In most cases, The Baruch Budget office simply needs your written award confirmation and the following actions in order to get you started.
B6: Upon receipt of a written award confirmation (e-mail, memo, letter, etc.) please take the following steps:
B7: 1 | C7: Send your school or divisional business manager a copy of your award confirmation along with a summary of how you plan to spend the funds (separate amounts for part-time staff, purchases or goods or services, travel, etc.).
B9: 2 | C9: Schedule a meeting with your school or divisional business manager at which you will:
C11: a. Review your spending plan.
C13: b. Work together to complete a Budget Modification Form that your business manager will electronically submit this completed form to Baruch’s budget office, along with your written award confirmation.
C15: c. If compensating employees is part of your spending plan, your business manager must also work with the Budget Office to set up the necessary part-time positions in CUNYfirst with the codes required in your award letter (make sure you review this with your business).
C17: d. Work with your business manager to make sure that the part-time individuals your hire for your project are appointed to the specific CUNYfirst position numbers set up and coded for your project.
C19: e. Review with your business manager how you will ensure that you use the mandated codes for any and all OTPS activity related to your project.
B20: TRAVEL & EXPENSE REIMBURSEMENTS: If your project spending will include travel or other related business expenses, you are required to follow all standard CUNYfirst travel and expense policies and procedures -- including obtaining Travel Authorization in the CUNYfirst system prior to travel. Speak with your school or divisional business manager for more information.
B21: Congratulations on the grant!
B23: Recent examples of such University grant funding include: Open Educational Resource Grants and Stewart Travel Awards.
B24: These instructions do not apply to Federal, State, or Private Grant funds. If you receive one of these more traditional types of Grant awards, please contact Baruch’s Office of Sponsored Research, which provides administrative support for external Grants run through the Research Foundation of the City of New York.

Sheet Budget Modification Form
F2: Internal / Interdiscipliniary / Special Project / Research Grant from a CUNY Central Office or CUNY School
L3: FY20 BUDGET CHANGE REQUEST | V3: Ledger | X3: Action | Y3: Business Unit | Z3: Division | AA3: Account Type | AB3: Affected Fiscal year(s): | AC3: Allocation | AD3: Date
I4: Send all Budget Change Requests to: | J4: BudgetChangeRequest@baruch.cuny.edu
G5: All requests will be processed ASAP, and an updated Budget file will be saved in the All-Funds Budget & Budget Information drive at the end of the day. | V5: IFR | X5: Modification | Y5: Bar 01 | Z5: Acad. Aff. | AA5: PS Adjunct | AB5: Current YR only | AC5: BASE-Unrestricted | AD5: 44317
V6: Tax Levy | X6: New CUNY Funding | Y6: Bar 55 | Z6: OCM | AA6: PS Non-Teaching Adjunct | AB6: Permanent | AC6: BASE-Restricted | AD6: 44318
A7: 1. | B7: Ledger: | C7: Tax Levy | J7: Requested By: | K7: Type your name here | X7: Permanent Mods | Y7: Bar 04 | Z7: President | AA7: OTPS | AC7: INTRA-UNIVERSITY (CUNY Transfers) | AD7: 44319
A8: 2. | B8: Business Unit: | C8: =IF(C7="IFR", "BAR01", IF(C7="Tax Levy", "BAR01", IF(C7="Non Tax-Levy", "BAR55", " "))) -> BAR01 | J8: Date: | V8: Non Tax-Levy | X8: Initial Allocation | Z8: MSPIA | AA8: PS Regular (F/T) | AD8: 44320
A9: 3. | B9: Action: | C9: New CUNY Funding | X9: Budget Realignment | Z9: VPAF | AA9: PS Temp Svcs (Part-Time) | AD9: 44321
A10: 4. | B10: Allocation: | C10: Intra-Univ | Z10: VPCA | AD10: 44322
Z11: VPEM | AD11: 44323
B12: 5. Select Division | E12: 6. Department Description | F12: 7. Program, Special Initiative Description, or Funding Source | G12: 8. Account Type (see notes below) | H12: 9. Increase/ (Decrease) | J12: Comments (Optional) | K12: CUNYFIRST Dept. Code | M12: Program Code | N12: Major Purpose Code | O12: Funding Source | P12: Special Initiative | Q12: Operating Unit | R12: Fund Code | Z12: VPISD | AD12: 44324
A13: 1 | H13: $ | K13: =IFERROR(IF($C$7=" ","−−−−−−−►", VLOOKUP(E13,Chartfields!C:G,5,FALSE)), "−−−−−−−►") -> −−−−−−−► | M13: =IFERROR(IF(OR(K13="", E13=""), "−−−−−−−►", IF(LEFT(F13, 19)="Program: Tutor Corp", 30040,IF(OR(P13=114, P13=116, P13=100, P13=102), 99999,IF(AND(K13=65040, LEFT(F13,11) ="Funding Src"), 40300,IF(Q13=3017, 99999, IF(AND(F13="", $C$7="Tax Levy"), 99999,IF($C$7="Tax Levy",VLOOKUP(F13,'Tax Levy'!$G$4:$H$11,2,FALSE),"−−−−−−−►"))))))), "−−−−−−−►") -> −−−−−−−► | N13: =IFERROR(IF($C$7=" ","−−−−−−−►",VLOOKUP(K13,Chartfields!J:L,3,FALSE)),"−−−−−−−►") -> −−−−−−−► | O13: =IFERROR( IF(AND(M13=40300, K13=65040), VLOOKUP(M13,'Budget Tree updated'!$Q:$S,3,FALSE), IF(LEFT(F13,15)="Program: CARES", 802109,IF($C$7=" ", "−−−−−−−►",VLOOKUP(M13,Chartfields!Q:S,3,FALSE)))), "−−−−−−−►") -> −−−−−−−► | P13: =IFERROR(IF(LEFT(F13, 4)="Spec", VLOOKUP(F13,'Tax Levy'!G5:H23,2,FALSE), IF(F13="Program: Tutor Corp-30040", 100, IF($C$7=" ","−−−−−−−►", VLOOKUP(K13,Chartfields!H:U,14,FALSE)))), "−−−−−−−►") -> −−−−−−−► | Q13: =IFERROR(IF(LEFT(F13, 4)="Oper", VLOOKUP(F13,'Tax Levy'!G4:H22,2,FALSE), IF($C$7="","−−−−−−−►", VLOOKUP(K13,Chartfields!H:O,8,FALSE ))), "−−−−−−−►") -> −−−−−−−► | R13: =IFERROR(IF(OR($C$7="",B13=""), "−−−−−−−►", 10), "−−−−−−−►") -> −−−−−−−► | Z13: VPSA | AD13: 44325
A14: 2 | H14: $ | K14: =IFERROR(IF($C$7=" ","−−−−−−−►", VLOOKUP(E14,Chartfields!C:G,5,FALSE)), "−−−−−−−►") -> −−−−−−−► | M14: =IFERROR(IF(OR(K14="", E14=""), "−−−−−−−►", IF(LEFT(F14, 19)="Program: Tutor Corp", 30040,IF(OR(P14=114, P14=116, P14=100, P14=102), 99999,IF(AND(K14=65040, LEFT(F14,11) ="Funding Src"), 40300,IF(Q14=3017, 99999, IF(AND(F14="", $C$7="Tax Levy"), 99999,IF($C$7="Tax Levy",VLOOKUP(F14,'Tax Levy'!$G$4:$H$11,2,FALSE),"−−−−−−−►"))))))), "−−−−−−−►") -> −−−−−−−► | N14: =IFERROR(IF($C$7=" ","−−−−−−−►",VLOOKUP(K14,Chartfields!J:L,3,FALSE)),"−−−−−−−►") -> −−−−−−−► | O14: =IFERROR( IF(AND(M14=40300, K14=65040), VLOOKUP(M14,'Budget Tree updated'!$Q:$S,3,FALSE), IF(LEFT(F14,15)="Program: CARES", 802109,IF($C$7=" ", "−−−−−−−►",VLOOKUP(M14,Chartfields!Q:S,3,FALSE)))), "−−−−−−−►") -> −−−−−−−► | P14: =IFERROR(IF(LEFT(F14, 4)="Spec", VLOOKUP(F14,'Tax Levy'!G6:H24,2,FALSE), IF(F14="Program: Tutor Corp-30040", 100, IF($C$7=" ","−−−−−−−►", VLOOKUP(K14,Chartfields!H:U,14,FALSE)))), "−−−−−−−►") -> −−−−−−−► | Q14: =IFERROR(IF(LEFT(F14, 4)="Oper", VLOOKUP(F14,'Tax Levy'!G5:H23,2,FALSE), IF($C$7="","−−−−−−−►", VLOOKUP(K14,Chartfields!H:O,8,FALSE ))), "−−−−−−−►") -> −−−−−−−► | R14: =IFERROR(IF(OR($C$7="",B14=""), "−−−−−−−►", 10), "−−−−−−−►") -> −−−−−−−► | Z14: WSAS | AA14: Unassigned | AD14: 44326
A15: 3 | H15: $ | K15: =IFERROR(IF($C$7=" ","−−−−−−−►", VLOOKUP(E15,Chartfields!C:G,5,FALSE)), "−−−−−−−►") -> −−−−−−−► | M15: =IFERROR(IF(OR(K15="", E15=""), "−−−−−−−►", IF(LEFT(F15, 19)="Program: Tutor Corp", 30040,IF(OR(P15=114, P15=116, P15=100, P15=102), 99999,IF(AND(K15=65040, LEFT(F15,11) ="Funding Src"), 40300,IF(Q15=3017, 99999, IF(AND(F15="", $C$7="Tax Levy"), 99999,IF($C$7="Tax Levy",VLOOKUP(F15,'Tax Levy'!$G$4:$H$11,2,FALSE),"−−−−−−−►"))))))), "−−−−−−−►") -> −−−−−−−► | N15: =IFERROR(IF($C$7=" ","−−−−−−−►",VLOOKUP(K15,Chartfields!J:L,3,FALSE)),"−−−−−−−►") -> −−−−−−−► | O15: =IFERROR( IF(AND(M15=40300, K15=65040), VLOOKUP(M15,'Budget Tree updated'!$Q:$S,3,FALSE), IF(LEFT(F15,15)="Program: CARES", 802109,IF($C$7=" ", "−−−−−−−►",VLOOKUP(M15,Chartfields!Q:S,3,FALSE)))), "−−−−−−−►") -> −−−−−−−► | P15: =IFERROR(IF(LEFT(F15, 4)="Spec", VLOOKUP(F15,'Tax Levy'!G7:H25,2,FALSE), IF(F15="Program: Tutor Corp-30040", 100, IF($C$7=" ","−−−−−−−►", VLOOKUP(K15,Chartfields!H:U,14,FALSE)))), "−−−−−−−►") -> −−−−−−−► | Q15: =IFERROR(IF(LEFT(F15, 4)="Oper", VLOOKUP(F15,'Tax Levy'!G6:H24,2,FALSE), IF($C$7="","−−−−−−−►", VLOOKUP(K15,Chartfields!H:O,8,FALSE ))), "−−−−−−−►") -> −−−−−−−► | R15: =IFERROR(IF(OR($C$7="",B15=""), "−−−−−−−►", 10), "−−−−−−−►") -> −−−−−−−► | Z15: ZSB | AD15: 44327
A16: 4 | H16: $ | K16: =IFERROR(IF($C$7=" ","−−−−−−−►", VLOOKUP(E16,Chartfields!C:G,5,FALSE)), "−−−−−−−►") -> −−−−−−−► | M16: =IFERROR(IF(OR(K16="", E16=""), "−−−−−−−►", IF(LEFT(F16, 19)="Program: Tutor Corp", 30040,IF(OR(P16=114, P16=116, P16=100, P16=102), 99999,IF(AND(K16=65040, LEFT(F16,11) ="Funding Src"), 40300,IF(Q16=3017, 99999, IF(AND(F16="", $C$7="Tax Levy"), 99999,IF($C$7="Tax Levy",VLOOKUP(F16,'Tax Levy'!$G$4:$H$11,2,FALSE),"−−−−−−−►"))))))), "−−−−−−−►") -> −−−−−−−► | N16: =IFERROR(IF($C$7=" ","−−−−−−−►",VLOOKUP(K16,Chartfields!J:L,3,FALSE)),"−−−−−−−►") -> −−−−−−−► | O16: =IFERROR( IF(AND(M16=40300, K16=65040), VLOOKUP(M16,'Budget Tree updated'!$Q:$S,3,FALSE), IF(LEFT(F16,15)="Program: CARES", 802109,IF($C$7=" ", "−−−−−−−►",VLOOKUP(M16,Chartfields!Q:S,3,FALSE)))), "−−−−−−−►") -> −−−−−−−► | P16: =IFERROR(IF(LEFT(F16, 4)="Spec", VLOOKUP(F16,'Tax Levy'!G8:H26,2,FALSE), IF(F16="Program: Tutor Corp-30040", 100, IF($C$7=" ","−−−−−−−►", VLOOKUP(K16,Chartfields!H:U,14,FALSE)))), "−−−−−−−►") -> −−−−−−−► | Q16: =IFERROR(IF(LEFT(F16, 4)="Oper", VLOOKUP(F16,'Tax Levy'!G7:H25,2,FALSE), IF($C$7="","−−−−−−−►", VLOOKUP(K16,Chartfields!H:O,8,FALSE ))), "−−−−−−−►") -> −−−−−−−► | R16: =IFERROR(IF(OR($C$7="",B16=""), "−−−−−−−►", 10), "−−−−−−−►") -> −−−−−−−► | Z16: College | AD16: 44328
A17: 5 | H17: $ | K17: =IFERROR(IF($C$7=" ","−−−−−−−►", VLOOKUP(E17,Chartfields!C:G,5,FALSE)), "−−−−−−−►") -> −−−−−−−► | M17: =IFERROR(IF(OR(K17="", E17=""), "−−−−−−−►", IF(LEFT(F17, 19)="Program: Tutor Corp", 30040,IF(OR(P17=114, P17=116, P17=100, P17=102), 99999,IF(AND(K17=65040, LEFT(F17,11) ="Funding Src"), 40300,IF(Q17=3017, 99999, IF(AND(F17="", $C$7="Tax Levy"), 99999,IF($C$7="Tax Levy",VLOOKUP(F17,'Tax Levy'!$G$4:$H$11,2,FALSE),"−−−−−−−►"))))))), "−−−−−−−►") -> −−−−−−−► | N17: =IFERROR(IF($C$7=" ","−−−−−−−►",VLOOKUP(K17,Chartfields!J:L,3,FALSE)),"−−−−−−−►") -> −−−−−−−► | O17: =IFERROR( IF(AND(M17=40300, K17=65040), VLOOKUP(M17,'Budget Tree updated'!$Q:$S,3,FALSE), IF(LEFT(F17,15)="Program: CARES", 802109,IF($C$7=" ", "−−−−−−−►",VLOOKUP(M17,Chartfields!Q:S,3,FALSE)))), "−−−−−−−►") -> −−−−−−−► | P17: =IFERROR(IF(LEFT(F17, 4)="Spec", VLOOKUP(F17,'Tax Levy'!G9:H27,2,FALSE), IF(F17="Program: Tutor Corp-30040", 100, IF($C$7=" ","−−−−−−−►", VLOOKUP(K17,Chartfields!H:U,14,FALSE)))), "−−−−−−−►") -> −−−−−−−► | Q17: =IFERROR(IF(LEFT(F17, 4)="Oper", VLOOKUP(F17,'Tax Levy'!G8:H26,2,FALSE), IF($C$7="","−−−−−−−►", VLOOKUP(K17,Chartfields!H:O,8,FALSE ))), "−−−−−−−►") -> −−−−−−−► | R17: =IFERROR(IF(OR($C$7="",B17=""), "−−−−−−−►", 10), "−−−−−−−►") -> −−−−−−−► | AD17: 44329
A18: 6 | H18: $ | K18: =IFERROR(IF($C$7=" ","−−−−−−−►", VLOOKUP(E18,Chartfields!C:G,5,FALSE)), "−−−−−−−►") -> −−−−−−−► | M18: =IFERROR(IF(OR(K18="", E18=""), "−−−−−−−►", IF(LEFT(F18, 19)="Program: Tutor Corp", 30040,IF(OR(P18=114, P18=116, P18=100, P18=102), 99999,IF(AND(K18=65040, LEFT(F18,11) ="Funding Src"), 40300,IF(Q18=3017, 99999, IF(AND(F18="", $C$7="Tax Levy"), 99999,IF($C$7="Tax Levy",VLOOKUP(F18,'Tax Levy'!$G$4:$H$11,2,FALSE),"−−−−−−−►"))))))), "−−−−−−−►") -> −−−−−−−► | N18: =IFERROR(IF($C$7=" ","−−−−−−−►",VLOOKUP(K18,Chartfields!J:L,3,FALSE)),"−−−−−−−►") -> −−−−−−−► | O18: =IFERROR( IF(AND(M18=40300, K18=65040), VLOOKUP(M18,'Budget Tree updated'!$Q:$S,3,FALSE), IF(LEFT(F18,15)="Program: CARES", 802109,IF($C$7=" ", "−−−−−−−►",VLOOKUP(M18,Chartfields!Q:S,3,FALSE)))), "−−−−−−−►") -> −−−−−−−► | P18: =IFERROR(IF(LEFT(F18, 4)="Spec", VLOOKUP(F18,'Tax Levy'!G10:H28,2,FALSE), IF(F18="Program: Tutor Corp-30040", 100, IF($C$7=" ","−−−−−−−►", VLOOKUP(K18,Chartfields!H:U,14,FALSE)))), "−−−−−−−►") -> −−−−−−−► | Q18: =IFERROR(IF(LEFT(F18, 4)="Oper", VLOOKUP(F18,'Tax Levy'!G9:H27,2,FALSE), IF($C$7="","−−−−−−−►", VLOOKUP(K18,Chartfields!H:O,8,FALSE ))), "−−−−−−−►") -> −−−−−−−► | R18: =IFERROR(IF(OR($C$7="",B18=""), "−−−−−−−►", 10), "−−−−−−−►") -> −−−−−−−► | AD18: 44330
A19: 7 | H19: $ | K19: =IFERROR(IF($C$7=" ","−−−−−−−►", VLOOKUP(E19,Chartfields!C:G,5,FALSE)), "−−−−−−−►") -> −−−−−−−► | M19: =IFERROR(IF(OR(K19="", E19=""), "−−−−−−−►", IF(LEFT(F19, 19)="Program: Tutor Corp", 30040,IF(OR(P19=114, P19=116, P19=100, P19=102), 99999,IF(AND(K19=65040, LEFT(F19,11) ="Funding Src"), 40300,IF(Q19=3017, 99999, IF(AND(F19="", $C$7="Tax Levy"), 99999,IF($C$7="Tax Levy",VLOOKUP(F19,'Tax Levy'!$G$4:$H$11,2,FALSE),"−−−−−−−►"))))))), "−−−−−−−►") -> −−−−−−−► | N19: =IFERROR(IF($C$7=" ","−−−−−−−►",VLOOKUP(K19,Chartfields!J:L,3,FALSE)),"−−−−−−−►") -> −−−−−−−► | O19: =IFERROR( IF(AND(M19=40300, K19=65040), VLOOKUP(M19,'Budget Tree updated'!$Q:$S,3,FALSE), IF(LEFT(F19,15)="Program: CARES", 802109,IF($C$7=" ", "−−−−−−−►",VLOOKUP(M19,Chartfields!Q:S,3,FALSE)))), "−−−−−−−►") -> −−−−−−−► | P19: =IFERROR(IF(LEFT(F19, 4)="Spec", VLOOKUP(F19,'Tax Levy'!G11:H29,2,FALSE), IF(F19="Program: Tutor Corp-30040", 100, IF($C$7=" ","−−−−−−−►", VLOOKUP(K19,Chartfields!H:U,14,FALSE)))), "−−−−−−−►") -> −−−−−−−► | Q19: =IFERROR(IF(LEFT(F19, 4)="Oper", VLOOKUP(F19,'Tax Levy'!G10:H28,2,FALSE), IF($C$7="","−−−−−−−►", VLOOKUP(K19,Chartfields!H:O,8,FALSE ))), "−−−−−−−►") -> −−−−−−−► | R19: =IFERROR(IF(OR($C$7="",B19=""), "−−−−−−−►", 10), "−−−−−−−►") -> −−−−−−−► | AD19: 44331
A20: 8 | H20: $ | K20: =IFERROR(IF($C$7=" ","−−−−−−−►", VLOOKUP(E20,Chartfields!C:G,5,FALSE)), "−−−−−−−►") -> −−−−−−−► | M20: =IFERROR(IF(OR(K20="", E20=""), "−−−−−−−►", IF(LEFT(F20, 19)="Program: Tutor Corp", 30040,IF(OR(P20=114, P20=116, P20=100, P20=102), 99999,IF(AND(K20=65040, LEFT(F20,11) ="Funding Src"), 40300,IF(Q20=3017, 99999, IF(AND(F20="", $C$7="Tax Levy"), 99999,IF($C$7="Tax Levy",VLOOKUP(F20,'Tax Levy'!$G$4:$H$11,2,FALSE),"−−−−−−−►"))))))), "−−−−−−−►") -> −−−−−−−► | N20: =IFERROR(IF($C$7=" ","−−−−−−−►",VLOOKUP(K20,Chartfields!J:L,3,FALSE)),"−−−−−−−►") -> −−−−−−−► | O20: =IFERROR( IF(AND(M20=40300, K20=65040), VLOOKUP(M20,'Budget Tree updated'!$Q:$S,3,FALSE), IF(LEFT(F20,15)="Program: CARES", 802109,IF($C$7=" ", "−−−−−−−►",VLOOKUP(M20,Chartfields!Q:S,3,FALSE)))), "−−−−−−−►") -> −−−−−−−► | P20: =IFERROR(IF(LEFT(F20, 4)="Spec", VLOOKUP(F20,'Tax Levy'!G12:H30,2,FALSE), IF(F20="Program: Tutor Corp-30040", 100, IF($C$7=" ","−−−−−−−►", VLOOKUP(K20,Chartfields!H:U,14,FALSE)))), "−−−−−−−►") -> −−−−−−−► | Q20: =IFERROR(IF(LEFT(F20, 4)="Oper", VLOOKUP(F20,'Tax Levy'!G11:H29,2,FALSE), IF($C$7="","−−−−−−−►", VLOOKUP(K20,Chartfields!H:O,8,FALSE ))), "−−−−−−−►") -> −−−−−−−► | R20: =IFERROR(IF(OR($C$7="",B20=""), "−−−−−−−►", 10), "−−−−−−−►") -> −−−−−−−► | AD20: 44332
AD21: 44333
G22: Total: | H22: =SUM(H13:H20) -> 0 | AD22: 44334
B23: Revised Date: 10/18/2022 | K23: If your award notification indicates that special coding is required for your project spending, and that coding is not available on the dropdown menu above, please indicate need for new code(s) in the comments box. Baruch’s Budget Office will refer to the copy of the award notification that you are submitting along with this Budget Modification Form and let you know if additional steps are required. | AD23: 44335
AD24: 44336
B25: ACCOUNT TYPE DEFINITIONS | AD25: 44337
B26: PS Regular - Full-Time Compensation | AD26: 44338
B27: PS Adjunct - Adjunct Compensation | AD27: 44339
B28: PS Temp Services - Part-Time and Non-Teaching Adjunct Compensation | AD28: 44340
B29: OTPS - Other Than Personal Services = Materials, Supplies & Equipment, Travel, Contractual Services (anything other than employee compensation) | AD29: 44341
AD30: 44342
AD31: 44343
AD32: 44344
AD33: 44345
AD34: 44346
AD35: 44347
AD36: 44348
AD37: 44349
AD38: 44350
AD39: 44351
AD40: 44352
AD41: 44353
...

Sheet Chartfields
A1: Data.Ledger | B1: Data.Division | C1: Data.CUNYFIRST GL Dept. Description (University Shared) | D1: Data.Fund | E1: Data.Business Unit | F1: Data.use for Vlookup Division | G1: Data.CUNYFIRST GL Dept Code | H1: Data.CUNYFIRST GL Dept Code2 | I1: Data.CUNYFIRST GL Dept. Description (University Shared)3 | J1: Data.CUNYFIRST HCM Dept Code | K1: Data.CUNYFIRST HCM Dept Description | L1: Data.Major Purpose | M1: Data.Major Purpose Descr | N1: Data.Opearting Unit Descr | O1: Data.Operating Unit | P1: Data.Program Code Descr | Q1: Data.Program | R1: Data.Funding Source Descr | S1: Data.Funding Source | T1: Data. Special Initiatives Descr | U1: Data.Special Initiatives
A2: Tax Levy | B2: Acad Aff | C2: Dean For Academic Affairs | D2: 10 | E2: BAR01 | F2: Tax Levy10377 | G2: 10377 | H2: 10377 | I2: Dean For Academic Affairs | J2: 10377 | K2: Provost-Faculty Operations | L2: 100 | M2: Instruction | O2: 9999 | Q2: 99999 | R2: FS not applicable | S2: 999999 | U2: 9999
A3: Tax Levy | B3: Acad Aff | C3: Center, Computer Visually Imp | D3: 10 | E3: BAR01 | F3: Tax Levy60024 | G3: 60024 | H3: 60024 | I3: Center, Computer Visually Imp | J3: 60024 | K3: Computer Ctr Visually Impaired | L3: 350 | M3: Institutional Support | O3: 9999 | Q3: 99999 | R3: FS not applicable | S3: 999999 | U3: 9999
A4: Tax Levy | B4: Acad Aff | C4: Center, Writing | D4: 10 | E4: BAR01 | F4: Tax Levy60083 | G4: 60083 | H4: 60083 | I4: Center, Writing | J4: 60083 | K4: Writing Center | L4: 100 | M4: Instruction | O4: 9999 | Q4: 99999 | R4: FS not applicable | S4: 999999 | U4: 9999
A5: Tax Levy | B5: Acad Aff | C5: Institute, Schwartz Commun | D5: 10 | E5: BAR01 | F5: Tax Levy60196 | G5: 60196 | H5: 60196 | I5: Institute, Schwartz Commun | J5: 60196 | K5: Schwartz Communication Center | L5: 100 | M5: Instruction | O5: 9999 | Q5: 99999 | R5: FS not applicable | S5: 999999 | U5: 9999
A6: Tax Levy | B6: VPEM | C6: College Now Program | D6: 10 | E6: BAR01 | F6: Tax Levy65017 | G6: 65017 | H6: 65017 | I6: College Now Program | J6: 65017 | K6: College Now Program | L6: 100 | M6: Instruction | O6: 9999 | Q6: 99999 | R6: FS not applicable | S6: 999999 | U6: 9999
A7: Tax Levy | B7: Acad Aff | C7: Honors/Experimental | D7: 10 | E7: BAR01 | F7: Tax Levy65054 | G7: 65054 | H7: 65054 | I7: Honors/Experimental | J7: 65054 | K7: Honors Program | L7: 100 | M7: Instruction | O7: 9999 | Q7: 99999 | R7: FS not applicable | S7: 999999 | U7: 9999
A8: Tax Levy | B8: Acad Aff | C8: Academic Affairs | D8: 10 | E8: BAR01 | F8: Tax Levy70001 | G8: 70001 | H8: 70001 | I8: Academic Affairs | J8: 70001 | K8: Provost-Teaching Operations | L8: 100 | M8: Instruction | O8: 9999 | Q8: 99999 | R8: FS not applicable | S8: 999999 | U8: 9999
A9: Tax Levy | B9: Acad Aff | C9: Office for Teaching & Learning | D9: 10 | E9: BAR01 | F9: Tax Levy70062 | G9: 70062 | H9: 70062 | I9: Office for Teaching & Learning | J9: 70062 | K9: Ctr. Teaching and Learning | L9: 100 | M9: Instruction | O9: 9999 | Q9: 99999 | R9: FS not applicable | S9: 999999 | U9: 9999
A10: Tax Levy | B10: Acad Aff | C10: Grants And Research Admin | D10: 10 | E10: BAR01 | F10: Tax Levy80170 | G10: 80170 | H10: 80170 | I10: Grants And Research Admin | J10: 80170 | K10: Sponsored Prgs/Research (SPAR) | L10: 355 | M10: General Administration | O10: 9999 | Q10: 99999 | R10: FS not applicable | S10: 999999 | U10: 9999
A11: Tax Levy | B11: Acad Aff | C11: Instructional Services | D11: 10 | E11: BAR01 | F11: Tax Levy80188 | G11: 80188 | H11: 80188 | I11: Instructional Services | J11: 80188 | K11: Student Acad Consult Ctr(SACC) | L11: 100 | M11: Instruction | O11: 9999 | Q11: 99999 | R11: FS not applicable | S11: 999999 | U11: 9999
A12: Tax Levy | B12: Acad Aff | C12: Provost Operations | D12: 10 | E12: BAR01 | F12: Tax Levy80259 | G12: 80259 | H12: 80259 | I12: Provost Operations | J12: 80259 | K12: VP Academic Affairs & Provost | L12: 355 | M12: General Administration | O12: 9999 | Q12: 99999 | R12: FS not applicable | S12: 999999 | U12: 9999
A13: Tax Levy | B13: Acad Aff | C13: VP Strategic Planning, Assessm | D13: 10 | E13: BAR01 | F13: Tax Levy80522 | G13: 80522 | H13: 80522 | I13: VP Strategic Planning, Assessm | J13: 80522 | K13: Assmnt, Acred, Inst Effctvness | L13: 355 | O13: 9999 | Q13: 99999 | R13: FS not applicable | S13: 999999 | U13: 9999
A14: Tax Levy | B14: Acad Aff | C14: English & Speech | D14: 10 | E14: BAR01 | F14: Tax Levy10103 | G14: 10103 | H14: 10103 | I14: English & Speech | J14: 10103 | K14: Tools for Clear Speech | L14: 100 | O14: 9999 | Q14: 99999 | R14: FS not applicable | S14: 999999 | U14: 9999
A15: Tax Levy | B15: Acad Aff | C15: Curric. & Teaching | D15: 10 | E15: BAR01 | F15: Tax Levy70027 | G15: 70027 | H15: 70027 | I15: Curric. & Teaching | J15: 70027 | K15: Assc Provost-Teaching&Learning | L15: 100 | O15: 9999 | Q15: 99999 | R15: FS not applicable | S15: 999999 | U15: 9999
A16: Tax Levy | B16: MSPIA | C16: Public Affairs | D16: 10 | E16: BAR01 | F16: Tax Levy10250 | G16: 10250 | H16: 10250 | I16: Public Affairs | J16: 10250 | K16: Public Affairs | L16: 100 | M16: Instruction | O16: 9999 | Q16: 99999 | R16: FS not applicable | S16: 999999 | U16: 9999
A17: Tax Levy | B17: MSPIA | C17: Dean School of Public Affairs | D17: 10 | E17: BAR01 | F17: Tax Levy10405 | G17: 10405 | H17: 10405 | I17: Dean School of Public Affairs | J17: 10405 | K17: Dean's Office - SPA | L17: 100 | M17: Instruction | O17: 9999 | Q17: 99999 | R17: FS not applicable | S17: 999999 | U17: 9999
A18: Tax Levy | B18: MSPIA | C18: CIDR | D18: 10 | E18: BAR01 | F18: Tax Levy60203 | G18: 60203 | H18: 60203 | I18: CIDR | J18: 60203 | K18: Inst-Demographic Resrch (CIDR) | L18: 100 | M18: Instruction | O18: 9999 | Q18: 99999 | R18: FS not applicable | S18: 999999 | U18: 9999
A19: Tax Levy | B19: MSPIA | C19: Student Recruitment | D19: 10 | E19: BAR01 | F19: Tax Levy75071 | G19: 75071 | H19: 75071 | I19: Student Recruitment | J19: 75071 | K19: Grad Admission/Student Svc-SPA | L19: 300 | M19: Student Services | O19: 9999 | Q19: 99999 | R19: FS not applicable | S19: 999999 | U19: 9999
A20: Tax Levy | B20: OCM | C20: Communications | D20: 10 | E20: BAR01 | F20: Tax Levy80070 | G20: 80070 | H20: 80070 | I20: Communications | J20: 80070 | K20: OCMPA | L20: 350 | M20: Institutional Support | O20: 9999 | Q20: 99999 | R20: FS not applicable | S20: 999999 | U20: 9999
A21: Tax Levy | B21: President | C21: President | D21: 10 | E21: BAR01 | F21: Tax Levy80250 | G21: 80250 | H21: 80250 | I21: President | J21: 80250 | K21: President's Office | L21: 355 | M21: General Administration | O21: 9999 | Q21: 99999 | R21: FS not applicable | S21: 999999 | U21: 9999
A22: Tax Levy | B22: VPAF | C22: Accounting Operations | D22: 10 | E22: BAR01 | F22: Tax Levy80002 | G22: 80002 | H22: 80002 | I22: Accounting Operations | J22: 80002 | K22: Controller's Office | L22: 355 | M22: General Administration | O22: 9999 | Q22: 99999 | R22: FS not applicable | S22: 999999 | U22: 9999
A23: Tax Levy | B23: VPAF | C23: Budget and Planning Operations | D23: 10 | E23: BAR01 | F23: Tax Levy80037 | G23: 80037 | H23: 80037 | I23: Budget and Planning Operations | J23: 80037 | K23: Budget And Planning Operations | L23: 355 | M23: General Administration | O23: 9999 | Q23: 99999 | R23: FS not applicable | S23: 999999 | U23: 9999
A24: Tax Levy | B24: VPAF | C24: Bursar Operations | D24: 10 | E24: BAR01 | F24: Tax Levy80042 | G24: 80042 | H24: 80042 | I24: Bursar Operations | J24: 80042 | K24: Bursar's Office | L24: 355 | M24: General Administration | O24: 9999 | Q24: 99999 | R24: FS not applicable | S24: 999999 | U24: 9999
A25: Tax Levy | B25: VPAF | C25: Business Office/Fin Operations | D25: 10 | E25: BAR01 | F25: Tax Levy80045 | G25: 80045 | H25: 80045 | I25: Business Office/Fin Operations | J25: 80045 | K25: Business Office/Fin Operations | L25: 355 | M25: General Administration | O25: 9999 | Q25: 99999 | R25: FS not applicable | S25: 999999 | U25: 9999
A26: Tax Levy | B26: VPAF | C26: Business Office/Fin Operations | D26: 10 | E26: BAR01 | F26: Tax Levy80045 | G26: 80045 | H26: 80045 | I26: Business Office/Fin Operations | J26: 80045 | K26: Business Office/Fin Operations | L26: 355 | M26: General Administration | O26: 9999 | P26: Vendor Services | Q26: 10454 | R26: FS not applicable | S26: 999999 | U26: 9999
A27: Tax Levy | B27: VPAF | C27: Facility Maintenance Operation | D27: 10 | E27: BAR01 | F27: Tax Levy80048 | G27: 80048 | H27: 80048 | I27: Facility Maintenance Operation | J27: 80048 | K27: Buildings & Grounds | L27: 400 | M27: Operation & Maintence of Plant | O27: 9999 | Q27: 99999 | R27: FS not applicable | S27: 999999 | U27: 9999
A28: Tax Levy | B28: VPAF | C28: Facility Maintenance Operation | D28: 10 | E28: BAR01 | F28: Tax Levy80048 | G28: 80048 | H28: 80048 | I28: Facility Maintenance Operation | J28: 80048 | K28: Buildings & Grounds | L28: 403 | M28: Utilities | O28: 9999 | Q28: 99999 | R28: FS not applicable | S28: 999999 | U28: 9999
A29: Tax Levy | B29: VPAF | C29: Campus Planning & Operations | D29: 10 | E29: BAR01 | F29: Tax Levy80049 | G29: 80049 | H29: 80049 | I29: Campus Planning & Operations | J29: 80049 | K29: Conference Center | L29: 400 | M29: Operation & Maintence of Plant | O29: 9999 | Q29: 99999 | R29: FS not applicable | S29: 999999 | U29: 9999
A30: Tax Levy | B30: VPAF | C30: Central Receiving and Stores | D30: 10 | E30: BAR01 | F30: Tax Levy80054 | G30: 80054 | H30: 80054 | I30: Central Receiving and Stores | J30: 80054 | K30: Receiving & Stores | L30: 350 | M30: Institutional Support | O30: 9999 | Q30: 99999 | R30: FS not applicable | S30: 999999 | U30: 9999
A31: Tax Levy | B31: VPAF | C31: Facilities Planning Operations | D31: 10 | E31: BAR01 | F31: Tax Levy80149 | G31: 80149 | H31: 80149 | I31: Facilities Planning Operations | J31: 80149 | K31: Campus Facilities & Operations | L31: 355 | M31: General Administration | O31: 9999 | Q31: 99999 | R31: FS not applicable | S31: 999999 | U31: 9999
A32: Tax Levy | B32: VPAF | C32: Human Resources Operations | D32: 10 | E32: BAR01 | F32: Tax Levy80174 | G32: 80174 | H32: 80174 | I32: Human Resources Operations | J32: 80174 | K32: Human Resources | L32: 355 | M32: General Administration | O32: 9999 | Q32: 99999 | R32: FS not applicable | S32: 999999 | U32: 9999
A33: Tax Levy | B33: VPAF | C33: Mail and Messenger Services | D33: 10 | E33: BAR01 | F33: Tax Levy80203 | G33: 80203 | H33: 80203 | I33: Mail and Messenger Services | J33: 80203 | K33: Mailroom | L33: 350 | M33: Institutional Support | O33: 9999 | Q33: 99999 | R33: FS not applicable | S33: 999999 | U33: 9999
A34: Tax Levy | B34: VPAF | C34: Purchasing | D34: 10 | E34: BAR01 | F34: Tax Levy80264 | G34: 80264 | H34: 80264 | I34: Purchasing | J34: 80264 | K34: Purchasing | L34: 355 | M34: General Administration | O34: 9999 | Q34: 99999 | R34: FS not applicable | S34: 999999 | U34: 9999
A35: Tax Levy | B35: VPAF | C35: Security Operations | D35: 10 | E35: BAR01 | F35: Tax Levy80274 | G35: 80274 | H35: 80274 | I35: Security Operations | J35: 80274 | K35: Public Safety | L35: 350 | M35: Institutional Support | O35: 9999 | Q35: 99999 | R35: FS not applicable | S35: 999999 | U35: 9999
A36: Tax Levy | B36: VPAF | C36: VP Finance and Administration | D36: 10 | E36: BAR01 | F36: Tax Levy80299 | G36: 80299 | H36: 80299 | I36: VP Finance and Administration | J36: 80299 | K36: VP for Admin & Finance | L36: 355 | M36: General Administration | O36: 9999 | Q36: 99999 | R36: FS not applicable | S36: 999999 | U36: 9999
A37: Tax Levy | B37: VPCA | C37: College Relations Operations | D37: 10 | E37: BAR01 | F37: Tax Levy80069 | G37: 80069 | H37: 80069 | I37: College Relations Operations | J37: 80069 | K37: College Advancement | L37: 350 | M37: Institutional Support | O37: 9999 | Q37: 99999 | R37: FS not applicable | S37: 999999 | U37: 9999
A38: Tax Levy | B38: VPEM | C38: Dean Of Student Services | D38: 10 | E38: BAR01 | F38: Tax Levy10393 | G38: 10393 | H38: 10393 | I38: Dean Of Student Services | J38: 10393 | K38: VP-Enrollment Management | L38: 300 | M38: Student Services | O38: 9999 | Q38: 99999 | R38: FS not applicable | S38: 999999 | U38: 9999
... A41: Tax Levy | B41: VPEM | C41: Admissions Services | D41: 10 | E41: BAR01 | F41: Tax Levy75002 | G41: 75002 | H41: 75002 | I41: Admissions Services | J41: 75002 | K41: Undergraduate Admissions | L41: 300 | M41: Student Services | O41: 9999 | Q41: 99999 | R41: FS not applicable | S41: 999999 | U41: 9999
A42: Tax Levy | B42: VPEM | C42: Admissions Services | D42: 10 | E42: BAR01 | F42: Tax Levy75002 | G42: 75002 | H42: 75002 | I42: Admissions Services | J42: 75002 | K42: Undergraduate Admissions | L42: 300 | M42: Student Services | O42: 9999 | P42: Welcome Center Program | Q42: 10486 | R42: FS not applicable | S42: 999999 | U42: 9999
...

Sheet Date Range for Forms
A1: Date
A3: 44743
A4: 44744
A5: 44745
A6: 44746
A7: 44747
A8: 44748
A9: 44749
A10: 44750
A11: 44751
A12: 44752
A13: 44753
A14: 44754
... A552: 45292

Sheet OptCodes
A1: Program, Spec Init, OU Description | B1: Codes | C1: Type | D1: Code Descriptions | E1: Description
B2: 999999 | E2: This table has codes and descriptions specifically for the CUNY Interdisciplinary Internal Special Project Grant Budget Mod form
A3: Spec. Initiative: Open Education Rsrc.- 116 | B3: 116 | C3: Spec. Initiative | D3: Open Education Rsrc.
A4: Spec. Initiative: Black Male Initiative-102 | B4: 102 | C4: Spec. Initiative | D4: Black Male Initiative
A5: Operating Unit: High School-3017 | B5: 3017 | C5: Operating Unit | D5: High School
A6: Program: Tutor Corp-30040 | B6: 30040 | C6: Program | D6: Tutor Corp
A7: Program: CARES | B7: 80431 | C7: Program | D7: CARES
A8: Special Coding Not Mentioned Award Confirmation | B8: 999999 | D8: Special Coding Not Mentioned Award Confirmation
A9: Special Coding Needs Provided in Attached Award Confirmation | B9: 999999 | D9: Special Coding Needs Provided in Attached Award Confirmation

Sheet Budget Tree updated
A1: Ledger | B1: Fund | C1: Business Unit | D1: use for Vlookup Division | E1: CUNYFIRST GL Dept Code | F1: CUNYFIRST GL Dept. Description (University Shared) | G1: Division | H1: CUNYFIRST GL Dept Code | I1: CUNYFIRST GL Dept. Description (University Shared) | J1: CUNYFIRST HCM Dept Code | K1: CUNYFIRST HCM Dept Description | L1: Major Purpose | M1: Major Purpose Descr | N1: Opearting Unit Descr | O1: Operating Unit | P1: Program Code Descr | Q1: Program | R1: Funding Source Descr | S1: Funding Source | T1: Special Initiatives Descr | U1: Special Initiatives | V1: NTL BU | W1: NTL Prgrm Descr | X1: NTL Prgrm Code | Y1: NTL Fund Code | Z1: OTPS | AA1: Ledger | AB1: Fund | AC1: Business Unit | AD1: Account Number | AG1: Account | AH1: Account Number | AI1: Fund&Dept Code | AJ1: CUNYFIRST GL Dept. Description (University Shared)
A2: IFR | B2: 11 | C2: BAR01 | D2: =+A2&""&E2 -> IFR15004 | E2: 15004 | F2: ACE Administrative | G2: Acad Aff | H2: 15004 | I2: ACE Administrative | J2: 15004 | K2: Continuing & Profl Studies | L2: 100 | M2: Instruction | N2: Adult and Continuing Education | O2: 4001 | Q2: 99999 | S2: 999999 | U2: 9999 | Z2: OTPS- Indirect Cost | AA2: =A2 -> IFR | AB2: =B2 -> 11 | AC2: =C2 -> BAR01 | AD2: 80125 | AE2: =AF2&AG2 -> BAR01OTPS | AF2: BAR01 | AG2: OTPS | AH2: 80200 | AI2: =B2&E2 -> 1115004 | AJ2: =I2 -> ACE Administrative
A3: IFR | B3: 11 | C3: BAR01 | D3: =+A3&""&E3 -> IFR80045 | E3: 80045 | F3: Business Office/Fin Operations | G3: VPAF | H3: 80045 | I3: Business Office/Fin Operations | J3: 80045 | K3: Business Office/Fin Operations | L3: 355 | M3: General Administration | N3: IFR Senior Colleges | O3: 3012 | Q3: 99999 | S3: 999999 | U3: 9999 | Z3: NON-TEACHING ADJ | AA3: =A3 -> IFR | AB3: =B3 -> 11 | AC3: =C3 -> BAR01 | AD3: 80003 | AE3: =AF3&AG3 -> BAR01OTPS - Indirect Cost | AF3: BAR01 | AG3: OTPS - Indirect Cost | AH3: 80200 | AI3: =B3&E3 -> 1180045 | AJ3: =I3 -> Business Office/Fin Operations
A4: IFR | B4: 11 | C4: BAR01 | D4: =+A4&""&E4 -> IFR80045 | E4: 80045 | F4: Business Office/Fin Operations | G4: VPAF | H4: 80045 | I4: Business Office/Fin Operations | J4: 80045 | K4: Business Office/Fin Operations | L4: 400 | M4: Operation & Maintence of Plant | N4: IFR Senior Colleges | O4: 3012 | Q4: 99999 | S4: 999999 | U4: 9999 | Z4: PSR | AA4: =A4 -> IFR | AB4: =B4 -> 11 | AC4: =C4 -> BAR01 | AD4: 80002 | AE4: =AF4&AG4 -> BAR01NON-TEACHING ADJ | AF4: BAR01 | AG4: NON-TEACHING ADJ | AH4: 80003 | AI4: =B4&E4 -> 1180045 | AJ4: =I4 -> Business Office/Fin Operations
A5: IFR | B5: 11 | C5: BAR01 | D5: =+A5&""&E5 -> IFR80049 | E5: 80049 | F5: Conference Center | G5: VPAF | H5: 80049 | I5: Conference Center | J5: 80049 | K5: Conference Center | L5: 400 | M5: Operation & Maintence of Plant | N5: Adult and Continuing Education | O5: 4001 | Q5: 99999 | S5: 999999 | U5: 9999 | Z5: OTPS- Indirect Cost | AA5: =A5 -> IFR | AB5: =B5 -> 11 | AC5: =C5 -> BAR01 | AE5: =AF5&AG5 -> BAR01PSR | AF5: BAR01 | AG5: PSR | AH5: 80002 | AI5: =B5&E5 -> 1180049 | AJ5: =I5 -> Conference Center
A6: IFR | B6: 11 | C6: BAR01 | D6: =+A6&""&E6 -> IFR65011 | E6: 65011 | F6: Black Male Initiative | G6: VPEM | H6: 65011 | I6: Black Male Initiative | J6: 65011 | K6: Black Male Initiative | L6: 300 | M6: Student Services | N6: IFR Senior Colleges | O6: 3012 | Q6: 99999 | S6: 999999 | U6: 102 | Z6: Adj | AA6: =A6 -> IFR | AB6: =B6 -> 11 | AC6: =C6 -> BAR01 | AD6: 80029 | AE6: =AF6&AG6 -> BAR01Adj | AF6: BAR01 | AG6: Adj | AH6: 80029 | AI6: =B6&E6 -> 1165011 | AJ6: =I6 -> Black Male Initiative
A7: IFR | B7: 11 | C7: BAR01 | D7: =+A7&""&E7 -> IFR65146 | E7: 65146 | F7: High school | G7: VPISD | H7: 65146 | I7: High school | J7: 65146 | K7: #N/A | L7: 101 | M7: Collaborative Programs | N7: IFR High Schools | O7: 3017 | Q7: 99999 | S7: 999999 | U7: 9999 | AA7: =A7 -> IFR | AB7: =B7 -> 11 | AC7: =C7 -> BAR01 | AE7: =AF7&AG7 -> BAR01TEMP | AF7: BAR01 | AG7: TEMP | AH7: 80003 | AI7: =B7&E7 -> 1165146 | AJ7: =I7 -> High school
A8: IFR | B8: 11 | C8: BAR01 | D8: =+A8&""&E8 -> IFR80291 | E8: 80291 | F8: UWI | G8: UWI | H8: 80291 | I8: UWI | J8: 80291 | K8: UWI | L8: 352 | N8: Technology Fees | O8: 3019 | Q8: 99999 | S8: 999999 | U8: 108 | AA8: =A8 -> IFR | AB8: =B8 -> 11 | AC8: =C8 -> BAR01 | AE8: =AF8&AG8 -> BAR55PSR | AF8: BAR55 | AG8: PSR | AH8: 80001 | AI8: =B8&E8 -> 1180291 | AJ8: =I8 -> UWI
A9: IFR | B9: 11 | C9: BAR01 | D9: =+A9&""&E9 -> IFR80073 | E9: 80073 | F9: Computer Center Operations | G9: VPISD | H9: 80073 | I9: Computer Center Operations | J9: 80073 | K9: BCTC - Computing & Tech Ctr | L9: 300 | M9: Student Services | N9: Technology Fees | O9: 3019 | Q9: 99999 | S9: 999999 | U9: 9999 | AA9: =A9 -> IFR | AB9: =B9 -> 11 | AC9: =C9 -> BAR01 | AE9: =AF9&AG9 -> BAR55OTPS | AF9: BAR55 | AG9: OTPS | AH9: 80050 | AI9: =B9&E9 -> 1180073 | AJ9: =I9 -> Computer Center Operations
A10: IFR | B10: 11 | C10: BAR01 | D10: =+A10&""&E10 -> IFR60021 | E10: 60021 | F10: Center, Child Care | G10: VPSA | H10: 60021 | I10: Center, Child Care | J10: 60021 | K10: Early Learning Center (ELC) | L10: 200 | M10: Public Service | N10: IFR Senior Colleges | O10: 3012 | Q10: 99999 | S10: 999999 | U10: 9999 | AA10: =A10 -> IFR | AB10: =B10 -> 11 | AC10: =C10 -> BAR01 | AE10: =AF10&AG10 -> BAR55Admin O/H | AF10: BAR55 | AG10: Admin O/H | AH10: 80050 | AI10: =B10&E10 -> 1160021 | AJ10: =I10 -> Center, Child Care
A11: IFR | B11: 11 | C11: BAR01 | D11: =+A11&""&E11 -> IFR75012 | E11: 75012 | F11: Athletics & Recreation | G11: VPSA | H11: 75012 | I11: Athletics & Recreation | J11: 75012 | K11: Athletic & Recreation (ARC) | L11: 300 | M11: Student Services | N11: IFR High Schools | O11: 3017 | Q11: 99999 | S11: 999999 | U11: 9999 | AA11: =A11 -> IFR | AB11: =B11 -> 11 | AC11: =C11 -> BAR01 | AE11: =AF11&AG11 -> BAR04PSR | AF11: BAR04 | AG11: PSR | AH11: 80001 | AI11: =B11&E11 -> 1175012 | AJ11: =I11 -> Athletics & Recreation
A12: IFR | B12: 11 | C12: BAR01 | D12: =+A12&""&E12 -> IFR10195 | E12: 10195 | F12: Mathematics | G12: WSAS | H12: 10195 | I12: Mathematics | J12: 10195 | K12: Mathematics | L12: 100 | M12: Instruction | N12: IFR Senior Colleges | O12: 3012 | Q12: 99999 | S12: 999999 | U12: 9999 | AA12: =A12 -> IFR | AB12: =B12 -> 11 | AC12: =C12 -> BAR01 | AE12: =AF12&AG12 -> BAR04OTPS | AF12: BAR04 | AG12: OTPS | AH12: 80050 | AI12: =B12&E12 -> 1110195 | AJ12: =I12 -> Mathematics
A13: IFR | B13: 11 | C13: BAR01 | D13: =+A13&""&E13 -> IFR10208 | E13: 10208 | F13: Natural Sciences | G13: WSAS | H13: 10208 | I13: Natural Sciences | J13: 10208 | K13: Natural Sciences | L13: 100 | M13: Instruction | N13: IFR Senior Colleges | O13: 3012 | Q13: 99999 | S13: 999999 | U13: 9999 | AA13: =A13 -> IFR | AB13: =B13 -> 11 | AC13: =C13 -> BAR01 | AE13: =AF13&AG13 -> BAR04Admin O/H | AF13: BAR04 | AG13: Admin O/H | AH13: 80050 | AI13: =B13&E13 -> 1110208 | AJ13: =I13 -> Natural Sciences
